BEGIN:VCALENDAR
VERSION:2.0
PRODID:-//Hickory Buzz - ECPv6.15.20//NONSGML v1.0//EN
CALSCALE:GREGORIAN
METHOD:PUBLISH
X-ORIGINAL-URL:https://hickorybuzz.com
X-WR-CALDESC:Events for Hickory Buzz
REFRESH-INTERVAL;VALUE=DURATION:PT1H
X-Robots-Tag:noindex
X-PUBLISHED-TTL:PT1H
BEGIN:VTIMEZONE
TZID:America/New_York
BEGIN:DAYLIGHT
TZOFFSETFROM:-0500
TZOFFSETTO:-0400
TZNAME:EDT
DTSTART:20240310T070000
END:DAYLIGHT
BEGIN:STANDARD
TZOFFSETFROM:-0400
TZOFFSETTO:-0500
TZNAME:EST
DTSTART:20241103T060000
END:STANDARD
BEGIN:DAYLIGHT
TZOFFSETFROM:-0500
TZOFFSETTO:-0400
TZNAME:EDT
DTSTART:20250309T070000
END:DAYLIGHT
BEGIN:STANDARD
TZOFFSETFROM:-0400
TZOFFSETTO:-0500
TZNAME:EST
DTSTART:20251102T060000
END:STANDARD
BEGIN:DAYLIGHT
TZOFFSETFROM:-0500
TZOFFSETTO:-0400
TZNAME:EDT
DTSTART:20260308T070000
END:DAYLIGHT
BEGIN:STANDARD
TZOFFSETFROM:-0400
TZOFFSETTO:-0500
TZNAME:EST
DTSTART:20261101T060000
END:STANDARD
BEGIN:DAYLIGHT
TZOFFSETFROM:-0500
TZOFFSETTO:-0400
TZNAME:EDT
DTSTART:20270314T070000
END:DAYLIGHT
BEGIN:STANDARD
TZOFFSETFROM:-0400
TZOFFSETTO:-0500
TZNAME:EST
DTSTART:20271107T060000
END:STANDARD
END:VTIMEZONE
BEGIN:VEVENT
DTSTART;TZID=America/New_York:20260402T170000
DTEND;TZID=America/New_York:20260402T190000
DTSTAMP:20260423T125258
CREATED:20251017T154749Z
LAST-MODIFIED:20251017T154749Z
UID:10011847-1775149200-1775156400@hickorybuzz.com
SUMMARY:Monthly Journaling Club Hickory Musuem of Art
DESCRIPTION:Event: \nJoin us at The Shuford House & Gardens for our monthly Journaling Club\, now held the first Thursday of every month during L.A.T.E. Night Thursdays. \nOur open-studio style session is perfect for journaling\, collage\, and creative exploration—all materials provided. Bring your favorite journal (or start a new one!) and fill it with sketches\, collages\, paintings\, inspiration\, and more.
URL:https://hickorybuzz.com/event/monthly-journaling-club-hickory-musuem-of-art/2026-04-02/
LOCATION:The Shuford House & Gardens\, 534 3rd Ave NW B\, Hickory\, 28601\, United States
CATEGORIES:Arts,Classes/Courses,Open House
ATTACH;FMTTYPE=image/jpeg:https://hickorybuzz.com/wp-content/uploads/2025/10/Monthly-Journaling-Club-Hickory-Musuem-of-Art.avif
ORGANIZER;CN="Hickory Musuem of Art":MAILTO:info@hickoryart.org
END:VEVENT
BEGIN:VEVENT
DTSTART;TZID=America/New_York:20260305T170000
DTEND;TZID=America/New_York:20260305T190000
DTSTAMP:20260423T125258
CREATED:20260303T112409Z
LAST-MODIFIED:20260303T112409Z
UID:10017541-1772730000-1772737200@hickorybuzz.com
SUMMARY:Monthly Journaling Club
DESCRIPTION:Our open-studio style session is perfect for journaling\, collage\, and creative exploration—all materials provided. \n\n\nJoin us at The Shuford House & Gardens for our monthly Journaling Club\, now held the first Thursday of every month during L.A.T.E. Night Thursdays. \nOur open-studio style session is perfect for journaling\, collage\, and creative exploration—all materials provided. Bring your favorite journal (or start a new one!) and fill it with sketches\, collages\, paintings\, inspiration\, and more. \nOver the past 1.5 years\, our group has grown into a warm and welcoming community\, enjoying the freedom to create with just about any material you can imagine. We’ll also provide prompts to spark your own creative process. \nCome solo or bring friends—either way\, you’ll leave with new ideas\, new pages\, and maybe even new friends. \nTo register\, contact Karla Starnes at 828-327-8576\, ext 207\, or kstarnes@hickoryart.org
URL:https://hickorybuzz.com/event/monthly-journaling-club/
LOCATION:The Shuford House & Gardens\, 534 3rd Ave NW B\, Hickory\, 28601\, United States
CATEGORIES:Arts,Classes/Courses
ATTACH;FMTTYPE=image/png:https://hickorybuzz.com/wp-content/uploads/2026/03/Monthly-Journaling-Club.png
ORGANIZER;CN="Hickory Museum of Art":MAILTO:info@hickoryart.org
END:VEVENT
BEGIN:VEVENT
DTSTART;TZID=America/New_York:20260305T170000
DTEND;TZID=America/New_York:20260305T190000
DTSTAMP:20260423T125258
CREATED:20251017T154749Z
LAST-MODIFIED:20251017T154749Z
UID:10011846-1772730000-1772737200@hickorybuzz.com
SUMMARY:Monthly Journaling Club Hickory Musuem of Art
DESCRIPTION:Event: \nJoin us at The Shuford House & Gardens for our monthly Journaling Club\, now held the first Thursday of every month during L.A.T.E. Night Thursdays. \nOur open-studio style session is perfect for journaling\, collage\, and creative exploration—all materials provided. Bring your favorite journal (or start a new one!) and fill it with sketches\, collages\, paintings\, inspiration\, and more.
URL:https://hickorybuzz.com/event/monthly-journaling-club-hickory-musuem-of-art/2026-03-05/
LOCATION:The Shuford House & Gardens\, 534 3rd Ave NW B\, Hickory\, 28601\, United States
CATEGORIES:Arts,Classes/Courses,Open House
ATTACH;FMTTYPE=image/jpeg:https://hickorybuzz.com/wp-content/uploads/2025/10/Monthly-Journaling-Club-Hickory-Musuem-of-Art.avif
ORGANIZER;CN="Hickory Musuem of Art":MAILTO:info@hickoryart.org
END:VEVENT
BEGIN:VEVENT
DTSTART;TZID=America/New_York:20260205T170000
DTEND;TZID=America/New_York:20260205T190000
DTSTAMP:20260423T125258
CREATED:20251017T154749Z
LAST-MODIFIED:20251017T154749Z
UID:10011845-1770310800-1770318000@hickorybuzz.com
SUMMARY:Monthly Journaling Club Hickory Musuem of Art
DESCRIPTION:Event: \nJoin us at The Shuford House & Gardens for our monthly Journaling Club\, now held the first Thursday of every month during L.A.T.E. Night Thursdays. \nOur open-studio style session is perfect for journaling\, collage\, and creative exploration—all materials provided. Bring your favorite journal (or start a new one!) and fill it with sketches\, collages\, paintings\, inspiration\, and more.
URL:https://hickorybuzz.com/event/monthly-journaling-club-hickory-musuem-of-art/2026-02-05/
LOCATION:The Shuford House & Gardens\, 534 3rd Ave NW B\, Hickory\, 28601\, United States
CATEGORIES:Arts,Classes/Courses,Open House
ATTACH;FMTTYPE=image/jpeg:https://hickorybuzz.com/wp-content/uploads/2025/10/Monthly-Journaling-Club-Hickory-Musuem-of-Art.avif
ORGANIZER;CN="Hickory Musuem of Art":MAILTO:info@hickoryart.org
END:VEVENT
BEGIN:VEVENT
DTSTART;TZID=America/New_York:20260101T170000
DTEND;TZID=America/New_York:20260101T190000
DTSTAMP:20260423T125258
CREATED:20251017T154749Z
LAST-MODIFIED:20251017T154749Z
UID:10011844-1767286800-1767294000@hickorybuzz.com
SUMMARY:Monthly Journaling Club Hickory Musuem of Art
DESCRIPTION:Event: \nJoin us at The Shuford House & Gardens for our monthly Journaling Club\, now held the first Thursday of every month during L.A.T.E. Night Thursdays. \nOur open-studio style session is perfect for journaling\, collage\, and creative exploration—all materials provided. Bring your favorite journal (or start a new one!) and fill it with sketches\, collages\, paintings\, inspiration\, and more.
URL:https://hickorybuzz.com/event/monthly-journaling-club-hickory-musuem-of-art/2026-01-01/
LOCATION:The Shuford House & Gardens\, 534 3rd Ave NW B\, Hickory\, 28601\, United States
CATEGORIES:Arts,Classes/Courses,Open House
ATTACH;FMTTYPE=image/jpeg:https://hickorybuzz.com/wp-content/uploads/2025/10/Monthly-Journaling-Club-Hickory-Musuem-of-Art.avif
ORGANIZER;CN="Hickory Musuem of Art":MAILTO:info@hickoryart.org
END:VEVENT
BEGIN:VEVENT
DTSTART;TZID=America/New_York:20251204T170000
DTEND;TZID=America/New_York:20251204T190000
DTSTAMP:20260423T125258
CREATED:20251017T154749Z
LAST-MODIFIED:20251017T154749Z
UID:10011843-1764867600-1764874800@hickorybuzz.com
SUMMARY:Monthly Journaling Club Hickory Musuem of Art
DESCRIPTION:Event: \nJoin us at The Shuford House & Gardens for our monthly Journaling Club\, now held the first Thursday of every month during L.A.T.E. Night Thursdays. \nOur open-studio style session is perfect for journaling\, collage\, and creative exploration—all materials provided. Bring your favorite journal (or start a new one!) and fill it with sketches\, collages\, paintings\, inspiration\, and more.
URL:https://hickorybuzz.com/event/monthly-journaling-club-hickory-musuem-of-art/2025-12-04/
LOCATION:The Shuford House & Gardens\, 534 3rd Ave NW B\, Hickory\, 28601\, United States
CATEGORIES:Arts,Classes/Courses,Open House
ATTACH;FMTTYPE=image/jpeg:https://hickorybuzz.com/wp-content/uploads/2025/10/Monthly-Journaling-Club-Hickory-Musuem-of-Art.avif
ORGANIZER;CN="Hickory Musuem of Art":MAILTO:info@hickoryart.org
END:VEVENT
BEGIN:VEVENT
DTSTART;TZID=America/New_York:20251106T170000
DTEND;TZID=America/New_York:20251106T190000
DTSTAMP:20260423T125258
CREATED:20251017T154749Z
LAST-MODIFIED:20251017T154749Z
UID:10011842-1762448400-1762455600@hickorybuzz.com
SUMMARY:Monthly Journaling Club Hickory Musuem of Art
DESCRIPTION:Event: \nJoin us at The Shuford House & Gardens for our monthly Journaling Club\, now held the first Thursday of every month during L.A.T.E. Night Thursdays. \nOur open-studio style session is perfect for journaling\, collage\, and creative exploration—all materials provided. Bring your favorite journal (or start a new one!) and fill it with sketches\, collages\, paintings\, inspiration\, and more.
URL:https://hickorybuzz.com/event/monthly-journaling-club-hickory-musuem-of-art/2025-11-06/
LOCATION:The Shuford House & Gardens\, 534 3rd Ave NW B\, Hickory\, 28601\, United States
CATEGORIES:Arts,Classes/Courses,Open House
ATTACH;FMTTYPE=image/jpeg:https://hickorybuzz.com/wp-content/uploads/2025/10/Monthly-Journaling-Club-Hickory-Musuem-of-Art.avif
ORGANIZER;CN="Hickory Musuem of Art":MAILTO:info@hickoryart.org
END:VEVENT
END:VCALENDAR