BEGIN:VCALENDAR
VERSION:2.0
PRODID:-//Hickory Buzz - ECPv6.15.20//NONSGML v1.0//EN
CALSCALE:GREGORIAN
METHOD:PUBLISH
X-WR-CALNAME:Hickory Buzz
X-ORIGINAL-URL:https://hickorybuzz.com
X-WR-CALDESC:Events for Hickory Buzz
REFRESH-INTERVAL;VALUE=DURATION:PT1H
X-Robots-Tag:noindex
X-PUBLISHED-TTL:PT1H
BEGIN:VTIMEZONE
TZID:America/New_York
BEGIN:DAYLIGHT
TZOFFSETFROM:-0500
TZOFFSETTO:-0400
TZNAME:EDT
DTSTART:20250309T070000
END:DAYLIGHT
BEGIN:STANDARD
TZOFFSETFROM:-0400
TZOFFSETTO:-0500
TZNAME:EST
DTSTART:20251102T060000
END:STANDARD
BEGIN:DAYLIGHT
TZOFFSETFROM:-0500
TZOFFSETTO:-0400
TZNAME:EDT
DTSTART:20260308T070000
END:DAYLIGHT
BEGIN:STANDARD
TZOFFSETFROM:-0400
TZOFFSETTO:-0500
TZNAME:EST
DTSTART:20261101T060000
END:STANDARD
BEGIN:DAYLIGHT
TZOFFSETFROM:-0500
TZOFFSETTO:-0400
TZNAME:EDT
DTSTART:20270314T070000
END:DAYLIGHT
BEGIN:STANDARD
TZOFFSETFROM:-0400
TZOFFSETTO:-0500
TZNAME:EST
DTSTART:20271107T060000
END:STANDARD
END:VTIMEZONE
BEGIN:VEVENT
DTSTART;TZID=America/New_York:20260523T190000
DTEND;TZID=America/New_York:20260523T220000
DTSTAMP:20260421T124416
CREATED:20260319T161843Z
LAST-MODIFIED:20260319T162021Z
UID:10018866-1779562800-1779573600@hickorybuzz.com
SUMMARY:Hickory FC vs. South Carolina United Bantams
DESCRIPTION:Event: \nThe Hickory FC is playing against the South Carolina United Bantams. \nHickory FC is a USL League Two soccer team based in Hickory\, NC\, founded in 2023. The team brings high-level summer soccer to the Catawba Valley\, showcasing top collegiate and aspiring professional players.
URL:https://hickorybuzz.com/event/hickory-fc-vs-south-carolina-united-bantams/
LOCATION:Moretz Stadium\, 4th St Dr NE\, Hickory\, NC\, 28601\, United States
CATEGORIES:Sports
ATTACH;FMTTYPE=image/jpeg:https://hickorybuzz.com/wp-content/uploads/2025/05/Hickory-FC.jpg
ORGANIZER;CN="Hickory FC":MAILTO:info@hickoryfc.com
END:VEVENT
BEGIN:VEVENT
DTSTART;TZID=America/New_York:20260527T190000
DTEND;TZID=America/New_York:20260527T220000
DTSTAMP:20260421T124416
CREATED:20260319T162214Z
LAST-MODIFIED:20260319T162214Z
UID:10018867-1779908400-1779919200@hickorybuzz.com
SUMMARY:Hickory FC vs. Charlotte Eagles
DESCRIPTION:Event: \nThe Hickory FC is playing against the Charlotte Eagles. \nHickory FC is a USL League Two soccer team based in Hickory\, NC\, founded in 2023. The team brings high-level summer soccer to the Catawba Valley\, showcasing top collegiate and aspiring professional players.
URL:https://hickorybuzz.com/event/hickory-fc-vs-charlotte-eagles/
LOCATION:Moretz Stadium\, 4th St Dr NE\, Hickory\, NC\, 28601\, United States
CATEGORIES:Sports
ATTACH;FMTTYPE=image/jpeg:https://hickorybuzz.com/wp-content/uploads/2025/05/Hickory-FC.jpg
ORGANIZER;CN="Hickory FC":MAILTO:info@hickoryfc.com
END:VEVENT
BEGIN:VEVENT
DTSTART;TZID=America/New_York:20260620T190000
DTEND;TZID=America/New_York:20260620T220000
DTSTAMP:20260421T124416
CREATED:20260319T162248Z
LAST-MODIFIED:20260319T162311Z
UID:10018868-1781982000-1781992800@hickorybuzz.com
SUMMARY:Hickory FC vs. Wake FC
DESCRIPTION:Event: \nThe Hickory FC is playing against the Wake FC. \nHickory FC is a USL League Two soccer team based in Hickory\, NC\, founded in 2023. The team brings high-level summer soccer to the Catawba Valley\, showcasing top collegiate and aspiring professional players.
URL:https://hickorybuzz.com/event/hickory-fc-vs-wake-fc/
LOCATION:Moretz Stadium\, 4th St Dr NE\, Hickory\, NC\, 28601\, United States
CATEGORIES:Sports
ATTACH;FMTTYPE=image/jpeg:https://hickorybuzz.com/wp-content/uploads/2025/05/Hickory-FC.jpg
ORGANIZER;CN="Hickory FC":MAILTO:info@hickoryfc.com
END:VEVENT
BEGIN:VEVENT
DTSTART;TZID=America/New_York:20260624T190000
DTEND;TZID=America/New_York:20260624T220000
DTSTAMP:20260421T124416
CREATED:20260319T162358Z
LAST-MODIFIED:20260319T162358Z
UID:10018869-1782327600-1782338400@hickorybuzz.com
SUMMARY:Hickory FC vs. Tobacco Road FC
DESCRIPTION:Event: \nThe Hickory FC is playing against the Tobacco Road FC. \nHickory FC is a USL League Two soccer team based in Hickory\, NC\, founded in 2023. The team brings high-level summer soccer to the Catawba Valley\, showcasing top collegiate and aspiring professional players.
URL:https://hickorybuzz.com/event/hickory-fc-vs-tobacco-road-fc/
LOCATION:Moretz Stadium\, 4th St Dr NE\, Hickory\, NC\, 28601\, United States
CATEGORIES:Sports
ATTACH;FMTTYPE=image/jpeg:https://hickorybuzz.com/wp-content/uploads/2025/05/Hickory-FC.jpg
ORGANIZER;CN="Hickory FC":MAILTO:info@hickoryfc.com
END:VEVENT
BEGIN:VEVENT
DTSTART;TZID=America/New_York:20260627T190000
DTEND;TZID=America/New_York:20260627T220000
DTSTAMP:20260421T124416
CREATED:20260319T162517Z
LAST-MODIFIED:20260319T162517Z
UID:10018870-1782586800-1782597600@hickorybuzz.com
SUMMARY:Hickory FC vs. Charlotte Independence 2
DESCRIPTION:Event: \nThe Hickory FC is playing against the Charlotte Independence 2. \nHickory FC is a USL League Two soccer team based in Hickory\, NC\, founded in 2023. The team brings high-level summer soccer to the Catawba Valley\, showcasing top collegiate and aspiring professional players.
URL:https://hickorybuzz.com/event/hickory-fc-vs-charlotte-independence-2/
LOCATION:Moretz Stadium\, 4th St Dr NE\, Hickory\, NC\, 28601\, United States
CATEGORIES:Sports
ATTACH;FMTTYPE=image/jpeg:https://hickorybuzz.com/wp-content/uploads/2025/05/Hickory-FC.jpg
ORGANIZER;CN="Hickory FC":MAILTO:info@hickoryfc.com
END:VEVENT
BEGIN:VEVENT
DTSTART;TZID=America/New_York:20260703T190000
DTEND;TZID=America/New_York:20260703T220000
DTSTAMP:20260421T124416
CREATED:20260319T162652Z
LAST-MODIFIED:20260319T162652Z
UID:10018871-1783105200-1783116000@hickorybuzz.com
SUMMARY:Hickory FC vs. Appalachian FC
DESCRIPTION:Event: \nThe Hickory FC is playing against the Appalachian FC. \nHickory FC is a USL League Two soccer team based in Hickory\, NC\, founded in 2023. The team brings high-level summer soccer to the Catawba Valley\, showcasing top collegiate and aspiring professional players.
URL:https://hickorybuzz.com/event/hickory-fc-vs-appalachian-fc/
LOCATION:Moretz Stadium\, 4th St Dr NE\, Hickory\, NC\, 28601\, United States
CATEGORIES:Sports
ATTACH;FMTTYPE=image/jpeg:https://hickorybuzz.com/wp-content/uploads/2025/05/Hickory-FC.jpg
ORGANIZER;CN="Hickory FC":MAILTO:info@hickoryfc.com
END:VEVENT
BEGIN:VEVENT
DTSTART;TZID=America/New_York:20260711T190000
DTEND;TZID=America/New_York:20260711T220000
DTSTAMP:20260421T124416
CREATED:20260319T162826Z
LAST-MODIFIED:20260319T162826Z
UID:10018872-1783796400-1783807200@hickorybuzz.com
SUMMARY:Hickory FC vs. Asheville City SC
DESCRIPTION:Event: \nThe Hickory FC is playing against the Asheville City SC. \nHickory FC is a USL League Two soccer team based in Hickory\, NC\, founded in 2023. The team brings high-level summer soccer to the Catawba Valley\, showcasing top collegiate and aspiring professional players.
URL:https://hickorybuzz.com/event/hickory-fc-vs-asheville-city-sc/
LOCATION:Moretz Stadium\, 4th St Dr NE\, Hickory\, NC\, 28601\, United States
CATEGORIES:Sports
ATTACH;FMTTYPE=image/jpeg:https://hickorybuzz.com/wp-content/uploads/2025/05/Hickory-FC.jpg
ORGANIZER;CN="Hickory FC":MAILTO:info@hickoryfc.com
END:VEVENT
END:VCALENDAR