BEGIN:VCALENDAR
VERSION:2.0
PRODID:-//Hickory Buzz - ECPv6.15.20//NONSGML v1.0//EN
CALSCALE:GREGORIAN
METHOD:PUBLISH
X-WR-CALNAME:Hickory Buzz
X-ORIGINAL-URL:https://hickorybuzz.com
X-WR-CALDESC:Events for Hickory Buzz
REFRESH-INTERVAL;VALUE=DURATION:PT1H
X-Robots-Tag:noindex
X-PUBLISHED-TTL:PT1H
BEGIN:VTIMEZONE
TZID:America/New_York
BEGIN:DAYLIGHT
TZOFFSETFROM:-0500
TZOFFSETTO:-0400
TZNAME:EDT
DTSTART:20250309T070000
END:DAYLIGHT
BEGIN:STANDARD
TZOFFSETFROM:-0400
TZOFFSETTO:-0500
TZNAME:EST
DTSTART:20251102T060000
END:STANDARD
BEGIN:DAYLIGHT
TZOFFSETFROM:-0500
TZOFFSETTO:-0400
TZNAME:EDT
DTSTART:20260308T070000
END:DAYLIGHT
BEGIN:STANDARD
TZOFFSETFROM:-0400
TZOFFSETTO:-0500
TZNAME:EST
DTSTART:20261101T060000
END:STANDARD
BEGIN:DAYLIGHT
TZOFFSETFROM:-0500
TZOFFSETTO:-0400
TZNAME:EDT
DTSTART:20270314T070000
END:DAYLIGHT
BEGIN:STANDARD
TZOFFSETFROM:-0400
TZOFFSETTO:-0500
TZNAME:EST
DTSTART:20271107T060000
END:STANDARD
END:VTIMEZONE
BEGIN:VEVENT
DTSTART;TZID=America/New_York:20260607T180000
DTEND;TZID=America/New_York:20260607T193000
DTSTAMP:20260425T072630
CREATED:20250703T140557Z
LAST-MODIFIED:20250805T203047Z
UID:10004717-1780855200-1780860600@hickorybuzz.com
SUMMARY:Line Dancing with Angie!
DESCRIPTION:Event: \n\nEvery Sunday from 6pm-7:30pm in Hickory! All skill levels welcomed… Even those with two left feet!
URL:https://hickorybuzz.com/event/line-dancing-with-angie/2026-06-07/
LOCATION:Dive Bar Hickory\, 117 Government Ave SW\, Hickory\, NC\, 28602\, United States
CATEGORIES:Classes/Courses,Dancing
ATTACH;FMTTYPE=image/jpeg:https://hickorybuzz.com/wp-content/uploads/2025/07/Line-Dancing-with-Angie.jpg
ORGANIZER;CN="Dive Bar Hickory":MAILTO:gmhickory@divebarnc.com
END:VEVENT
BEGIN:VEVENT
DTSTART;TZID=America/New_York:20260611T210000
DTEND;TZID=America/New_York:20260611T235900
DTSTAMP:20260425T072630
CREATED:20250712T183648Z
LAST-MODIFIED:20251024T233102Z
UID:10006397-1781211600-1781222340@hickorybuzz.com
SUMMARY:Karaoke Night at the Dive Bar
DESCRIPTION:Event: \nHosted by Audible Entertainment\, Dive Bar High Point’s Karaoke Night is the best in Downtown Hickory with great specials and a fun vibe! Doors open at 5pm for all. After 8pm we are 21+ Only. Karaoke starts just after 9pm.
URL:https://hickorybuzz.com/event/karoke-night/2026-06-11/
LOCATION:Dive Bar Hickory\, 117 Government Ave SW\, Hickory\, NC\, 28602\, United States
CATEGORIES:Arts,Live Music
ATTACH;FMTTYPE=image/jpeg:https://hickorybuzz.com/wp-content/uploads/2025/07/Karoke-Night.jpg
ORGANIZER;CN="Dive Bar Hickory":MAILTO:gmhickory@divebarnc.com
END:VEVENT
BEGIN:VEVENT
DTSTART;TZID=America/New_York:20260614T180000
DTEND;TZID=America/New_York:20260614T193000
DTSTAMP:20260425T072630
CREATED:20250703T140557Z
LAST-MODIFIED:20250805T203047Z
UID:10004718-1781460000-1781465400@hickorybuzz.com
SUMMARY:Line Dancing with Angie!
DESCRIPTION:Event: \n\nEvery Sunday from 6pm-7:30pm in Hickory! All skill levels welcomed… Even those with two left feet!
URL:https://hickorybuzz.com/event/line-dancing-with-angie/2026-06-14/
LOCATION:Dive Bar Hickory\, 117 Government Ave SW\, Hickory\, NC\, 28602\, United States
CATEGORIES:Classes/Courses,Dancing
ATTACH;FMTTYPE=image/jpeg:https://hickorybuzz.com/wp-content/uploads/2025/07/Line-Dancing-with-Angie.jpg
ORGANIZER;CN="Dive Bar Hickory":MAILTO:gmhickory@divebarnc.com
END:VEVENT
BEGIN:VEVENT
DTSTART;TZID=America/New_York:20260618T210000
DTEND;TZID=America/New_York:20260618T235900
DTSTAMP:20260425T072630
CREATED:20250712T183648Z
LAST-MODIFIED:20251024T233102Z
UID:10006398-1781816400-1781827140@hickorybuzz.com
SUMMARY:Karaoke Night at the Dive Bar
DESCRIPTION:Event: \nHosted by Audible Entertainment\, Dive Bar High Point’s Karaoke Night is the best in Downtown Hickory with great specials and a fun vibe! Doors open at 5pm for all. After 8pm we are 21+ Only. Karaoke starts just after 9pm.
URL:https://hickorybuzz.com/event/karoke-night/2026-06-18/
LOCATION:Dive Bar Hickory\, 117 Government Ave SW\, Hickory\, NC\, 28602\, United States
CATEGORIES:Arts,Live Music
ATTACH;FMTTYPE=image/jpeg:https://hickorybuzz.com/wp-content/uploads/2025/07/Karoke-Night.jpg
ORGANIZER;CN="Dive Bar Hickory":MAILTO:gmhickory@divebarnc.com
END:VEVENT
BEGIN:VEVENT
DTSTART;TZID=America/New_York:20260621T180000
DTEND;TZID=America/New_York:20260621T193000
DTSTAMP:20260425T072630
CREATED:20250703T140557Z
LAST-MODIFIED:20250805T203047Z
UID:10004719-1782064800-1782070200@hickorybuzz.com
SUMMARY:Line Dancing with Angie!
DESCRIPTION:Event: \n\nEvery Sunday from 6pm-7:30pm in Hickory! All skill levels welcomed… Even those with two left feet!
URL:https://hickorybuzz.com/event/line-dancing-with-angie/2026-06-21/
LOCATION:Dive Bar Hickory\, 117 Government Ave SW\, Hickory\, NC\, 28602\, United States
CATEGORIES:Classes/Courses,Dancing
ATTACH;FMTTYPE=image/jpeg:https://hickorybuzz.com/wp-content/uploads/2025/07/Line-Dancing-with-Angie.jpg
ORGANIZER;CN="Dive Bar Hickory":MAILTO:gmhickory@divebarnc.com
END:VEVENT
BEGIN:VEVENT
DTSTART;TZID=America/New_York:20260625T210000
DTEND;TZID=America/New_York:20260625T235900
DTSTAMP:20260425T072630
CREATED:20250712T183648Z
LAST-MODIFIED:20251024T233102Z
UID:10006399-1782421200-1782431940@hickorybuzz.com
SUMMARY:Karaoke Night at the Dive Bar
DESCRIPTION:Event: \nHosted by Audible Entertainment\, Dive Bar High Point’s Karaoke Night is the best in Downtown Hickory with great specials and a fun vibe! Doors open at 5pm for all. After 8pm we are 21+ Only. Karaoke starts just after 9pm.
URL:https://hickorybuzz.com/event/karoke-night/2026-06-25/
LOCATION:Dive Bar Hickory\, 117 Government Ave SW\, Hickory\, NC\, 28602\, United States
CATEGORIES:Arts,Live Music
ATTACH;FMTTYPE=image/jpeg:https://hickorybuzz.com/wp-content/uploads/2025/07/Karoke-Night.jpg
ORGANIZER;CN="Dive Bar Hickory":MAILTO:gmhickory@divebarnc.com
END:VEVENT
BEGIN:VEVENT
DTSTART;TZID=America/New_York:20260628T180000
DTEND;TZID=America/New_York:20260628T193000
DTSTAMP:20260425T072630
CREATED:20250703T140557Z
LAST-MODIFIED:20250805T203047Z
UID:10004720-1782669600-1782675000@hickorybuzz.com
SUMMARY:Line Dancing with Angie!
DESCRIPTION:Event: \n\nEvery Sunday from 6pm-7:30pm in Hickory! All skill levels welcomed… Even those with two left feet!
URL:https://hickorybuzz.com/event/line-dancing-with-angie/2026-06-28/
LOCATION:Dive Bar Hickory\, 117 Government Ave SW\, Hickory\, NC\, 28602\, United States
CATEGORIES:Classes/Courses,Dancing
ATTACH;FMTTYPE=image/jpeg:https://hickorybuzz.com/wp-content/uploads/2025/07/Line-Dancing-with-Angie.jpg
ORGANIZER;CN="Dive Bar Hickory":MAILTO:gmhickory@divebarnc.com
END:VEVENT
BEGIN:VEVENT
DTSTART;TZID=America/New_York:20260702T210000
DTEND;TZID=America/New_York:20260702T235900
DTSTAMP:20260425T072630
CREATED:20250712T183648Z
LAST-MODIFIED:20251024T233102Z
UID:10006400-1783026000-1783036740@hickorybuzz.com
SUMMARY:Karaoke Night at the Dive Bar
DESCRIPTION:Event: \nHosted by Audible Entertainment\, Dive Bar High Point’s Karaoke Night is the best in Downtown Hickory with great specials and a fun vibe! Doors open at 5pm for all. After 8pm we are 21+ Only. Karaoke starts just after 9pm.
URL:https://hickorybuzz.com/event/karoke-night/2026-07-02/
LOCATION:Dive Bar Hickory\, 117 Government Ave SW\, Hickory\, NC\, 28602\, United States
CATEGORIES:Arts,Live Music
ATTACH;FMTTYPE=image/jpeg:https://hickorybuzz.com/wp-content/uploads/2025/07/Karoke-Night.jpg
ORGANIZER;CN="Dive Bar Hickory":MAILTO:gmhickory@divebarnc.com
END:VEVENT
BEGIN:VEVENT
DTSTART;TZID=America/New_York:20260705T180000
DTEND;TZID=America/New_York:20260705T193000
DTSTAMP:20260425T072630
CREATED:20250703T140557Z
LAST-MODIFIED:20250805T203047Z
UID:10004721-1783274400-1783279800@hickorybuzz.com
SUMMARY:Line Dancing with Angie!
DESCRIPTION:Event: \n\nEvery Sunday from 6pm-7:30pm in Hickory! All skill levels welcomed… Even those with two left feet!
URL:https://hickorybuzz.com/event/line-dancing-with-angie/2026-07-05/
LOCATION:Dive Bar Hickory\, 117 Government Ave SW\, Hickory\, NC\, 28602\, United States
CATEGORIES:Classes/Courses,Dancing
ATTACH;FMTTYPE=image/jpeg:https://hickorybuzz.com/wp-content/uploads/2025/07/Line-Dancing-with-Angie.jpg
ORGANIZER;CN="Dive Bar Hickory":MAILTO:gmhickory@divebarnc.com
END:VEVENT
BEGIN:VEVENT
DTSTART;TZID=America/New_York:20260709T210000
DTEND;TZID=America/New_York:20260709T235900
DTSTAMP:20260425T072630
CREATED:20250712T183648Z
LAST-MODIFIED:20251024T233102Z
UID:10006401-1783630800-1783641540@hickorybuzz.com
SUMMARY:Karaoke Night at the Dive Bar
DESCRIPTION:Event: \nHosted by Audible Entertainment\, Dive Bar High Point’s Karaoke Night is the best in Downtown Hickory with great specials and a fun vibe! Doors open at 5pm for all. After 8pm we are 21+ Only. Karaoke starts just after 9pm.
URL:https://hickorybuzz.com/event/karoke-night/2026-07-09/
LOCATION:Dive Bar Hickory\, 117 Government Ave SW\, Hickory\, NC\, 28602\, United States
CATEGORIES:Arts,Live Music
ATTACH;FMTTYPE=image/jpeg:https://hickorybuzz.com/wp-content/uploads/2025/07/Karoke-Night.jpg
ORGANIZER;CN="Dive Bar Hickory":MAILTO:gmhickory@divebarnc.com
END:VEVENT
BEGIN:VEVENT
DTSTART;TZID=America/New_York:20260712T180000
DTEND;TZID=America/New_York:20260712T193000
DTSTAMP:20260425T072630
CREATED:20250703T140557Z
LAST-MODIFIED:20250805T203047Z
UID:10004722-1783879200-1783884600@hickorybuzz.com
SUMMARY:Line Dancing with Angie!
DESCRIPTION:Event: \n\nEvery Sunday from 6pm-7:30pm in Hickory! All skill levels welcomed… Even those with two left feet!
URL:https://hickorybuzz.com/event/line-dancing-with-angie/2026-07-12/
LOCATION:Dive Bar Hickory\, 117 Government Ave SW\, Hickory\, NC\, 28602\, United States
CATEGORIES:Classes/Courses,Dancing
ATTACH;FMTTYPE=image/jpeg:https://hickorybuzz.com/wp-content/uploads/2025/07/Line-Dancing-with-Angie.jpg
ORGANIZER;CN="Dive Bar Hickory":MAILTO:gmhickory@divebarnc.com
END:VEVENT
BEGIN:VEVENT
DTSTART;TZID=America/New_York:20260716T210000
DTEND;TZID=America/New_York:20260716T235900
DTSTAMP:20260425T072630
CREATED:20250712T183648Z
LAST-MODIFIED:20251024T233102Z
UID:10006402-1784235600-1784246340@hickorybuzz.com
SUMMARY:Karaoke Night at the Dive Bar
DESCRIPTION:Event: \nHosted by Audible Entertainment\, Dive Bar High Point’s Karaoke Night is the best in Downtown Hickory with great specials and a fun vibe! Doors open at 5pm for all. After 8pm we are 21+ Only. Karaoke starts just after 9pm.
URL:https://hickorybuzz.com/event/karoke-night/2026-07-16/
LOCATION:Dive Bar Hickory\, 117 Government Ave SW\, Hickory\, NC\, 28602\, United States
CATEGORIES:Arts,Live Music
ATTACH;FMTTYPE=image/jpeg:https://hickorybuzz.com/wp-content/uploads/2025/07/Karoke-Night.jpg
ORGANIZER;CN="Dive Bar Hickory":MAILTO:gmhickory@divebarnc.com
END:VEVENT
BEGIN:VEVENT
DTSTART;TZID=America/New_York:20260719T180000
DTEND;TZID=America/New_York:20260719T193000
DTSTAMP:20260425T072630
CREATED:20250703T140557Z
LAST-MODIFIED:20250805T203047Z
UID:10004723-1784484000-1784489400@hickorybuzz.com
SUMMARY:Line Dancing with Angie!
DESCRIPTION:Event: \n\nEvery Sunday from 6pm-7:30pm in Hickory! All skill levels welcomed… Even those with two left feet!
URL:https://hickorybuzz.com/event/line-dancing-with-angie/2026-07-19/
LOCATION:Dive Bar Hickory\, 117 Government Ave SW\, Hickory\, NC\, 28602\, United States
CATEGORIES:Classes/Courses,Dancing
ATTACH;FMTTYPE=image/jpeg:https://hickorybuzz.com/wp-content/uploads/2025/07/Line-Dancing-with-Angie.jpg
ORGANIZER;CN="Dive Bar Hickory":MAILTO:gmhickory@divebarnc.com
END:VEVENT
BEGIN:VEVENT
DTSTART;TZID=America/New_York:20260723T210000
DTEND;TZID=America/New_York:20260723T235900
DTSTAMP:20260425T072630
CREATED:20250712T183648Z
LAST-MODIFIED:20251024T233102Z
UID:10006403-1784840400-1784851140@hickorybuzz.com
SUMMARY:Karaoke Night at the Dive Bar
DESCRIPTION:Event: \nHosted by Audible Entertainment\, Dive Bar High Point’s Karaoke Night is the best in Downtown Hickory with great specials and a fun vibe! Doors open at 5pm for all. After 8pm we are 21+ Only. Karaoke starts just after 9pm.
URL:https://hickorybuzz.com/event/karoke-night/2026-07-23/
LOCATION:Dive Bar Hickory\, 117 Government Ave SW\, Hickory\, NC\, 28602\, United States
CATEGORIES:Arts,Live Music
ATTACH;FMTTYPE=image/jpeg:https://hickorybuzz.com/wp-content/uploads/2025/07/Karoke-Night.jpg
ORGANIZER;CN="Dive Bar Hickory":MAILTO:gmhickory@divebarnc.com
END:VEVENT
BEGIN:VEVENT
DTSTART;TZID=America/New_York:20260726T180000
DTEND;TZID=America/New_York:20260726T193000
DTSTAMP:20260425T072630
CREATED:20250703T140557Z
LAST-MODIFIED:20250805T203047Z
UID:10004724-1785088800-1785094200@hickorybuzz.com
SUMMARY:Line Dancing with Angie!
DESCRIPTION:Event: \n\nEvery Sunday from 6pm-7:30pm in Hickory! All skill levels welcomed… Even those with two left feet!
URL:https://hickorybuzz.com/event/line-dancing-with-angie/2026-07-26/
LOCATION:Dive Bar Hickory\, 117 Government Ave SW\, Hickory\, NC\, 28602\, United States
CATEGORIES:Classes/Courses,Dancing
ATTACH;FMTTYPE=image/jpeg:https://hickorybuzz.com/wp-content/uploads/2025/07/Line-Dancing-with-Angie.jpg
ORGANIZER;CN="Dive Bar Hickory":MAILTO:gmhickory@divebarnc.com
END:VEVENT
BEGIN:VEVENT
DTSTART;TZID=America/New_York:20260730T210000
DTEND;TZID=America/New_York:20260730T235900
DTSTAMP:20260425T072630
CREATED:20250712T183648Z
LAST-MODIFIED:20251024T233102Z
UID:10006404-1785445200-1785455940@hickorybuzz.com
SUMMARY:Karaoke Night at the Dive Bar
DESCRIPTION:Event: \nHosted by Audible Entertainment\, Dive Bar High Point’s Karaoke Night is the best in Downtown Hickory with great specials and a fun vibe! Doors open at 5pm for all. After 8pm we are 21+ Only. Karaoke starts just after 9pm.
URL:https://hickorybuzz.com/event/karoke-night/2026-07-30/
LOCATION:Dive Bar Hickory\, 117 Government Ave SW\, Hickory\, NC\, 28602\, United States
CATEGORIES:Arts,Live Music
ATTACH;FMTTYPE=image/jpeg:https://hickorybuzz.com/wp-content/uploads/2025/07/Karoke-Night.jpg
ORGANIZER;CN="Dive Bar Hickory":MAILTO:gmhickory@divebarnc.com
END:VEVENT
BEGIN:VEVENT
DTSTART;TZID=America/New_York:20260802T180000
DTEND;TZID=America/New_York:20260802T193000
DTSTAMP:20260425T072630
CREATED:20250703T140557Z
LAST-MODIFIED:20250805T203047Z
UID:10004725-1785693600-1785699000@hickorybuzz.com
SUMMARY:Line Dancing with Angie!
DESCRIPTION:Event: \n\nEvery Sunday from 6pm-7:30pm in Hickory! All skill levels welcomed… Even those with two left feet!
URL:https://hickorybuzz.com/event/line-dancing-with-angie/2026-08-02/
LOCATION:Dive Bar Hickory\, 117 Government Ave SW\, Hickory\, NC\, 28602\, United States
CATEGORIES:Classes/Courses,Dancing
ATTACH;FMTTYPE=image/jpeg:https://hickorybuzz.com/wp-content/uploads/2025/07/Line-Dancing-with-Angie.jpg
ORGANIZER;CN="Dive Bar Hickory":MAILTO:gmhickory@divebarnc.com
END:VEVENT
BEGIN:VEVENT
DTSTART;TZID=America/New_York:20260806T210000
DTEND;TZID=America/New_York:20260806T235900
DTSTAMP:20260425T072630
CREATED:20250712T183648Z
LAST-MODIFIED:20251024T233102Z
UID:10006405-1786050000-1786060740@hickorybuzz.com
SUMMARY:Karaoke Night at the Dive Bar
DESCRIPTION:Event: \nHosted by Audible Entertainment\, Dive Bar High Point’s Karaoke Night is the best in Downtown Hickory with great specials and a fun vibe! Doors open at 5pm for all. After 8pm we are 21+ Only. Karaoke starts just after 9pm.
URL:https://hickorybuzz.com/event/karoke-night/2026-08-06/
LOCATION:Dive Bar Hickory\, 117 Government Ave SW\, Hickory\, NC\, 28602\, United States
CATEGORIES:Arts,Live Music
ATTACH;FMTTYPE=image/jpeg:https://hickorybuzz.com/wp-content/uploads/2025/07/Karoke-Night.jpg
ORGANIZER;CN="Dive Bar Hickory":MAILTO:gmhickory@divebarnc.com
END:VEVENT
BEGIN:VEVENT
DTSTART;TZID=America/New_York:20260809T180000
DTEND;TZID=America/New_York:20260809T193000
DTSTAMP:20260425T072630
CREATED:20250703T140557Z
LAST-MODIFIED:20250805T203047Z
UID:10004726-1786298400-1786303800@hickorybuzz.com
SUMMARY:Line Dancing with Angie!
DESCRIPTION:Event: \n\nEvery Sunday from 6pm-7:30pm in Hickory! All skill levels welcomed… Even those with two left feet!
URL:https://hickorybuzz.com/event/line-dancing-with-angie/2026-08-09/
LOCATION:Dive Bar Hickory\, 117 Government Ave SW\, Hickory\, NC\, 28602\, United States
CATEGORIES:Classes/Courses,Dancing
ATTACH;FMTTYPE=image/jpeg:https://hickorybuzz.com/wp-content/uploads/2025/07/Line-Dancing-with-Angie.jpg
ORGANIZER;CN="Dive Bar Hickory":MAILTO:gmhickory@divebarnc.com
END:VEVENT
BEGIN:VEVENT
DTSTART;TZID=America/New_York:20260813T210000
DTEND;TZID=America/New_York:20260813T235900
DTSTAMP:20260425T072630
CREATED:20250712T183648Z
LAST-MODIFIED:20251024T233102Z
UID:10006406-1786654800-1786665540@hickorybuzz.com
SUMMARY:Karaoke Night at the Dive Bar
DESCRIPTION:Event: \nHosted by Audible Entertainment\, Dive Bar High Point’s Karaoke Night is the best in Downtown Hickory with great specials and a fun vibe! Doors open at 5pm for all. After 8pm we are 21+ Only. Karaoke starts just after 9pm.
URL:https://hickorybuzz.com/event/karoke-night/2026-08-13/
LOCATION:Dive Bar Hickory\, 117 Government Ave SW\, Hickory\, NC\, 28602\, United States
CATEGORIES:Arts,Live Music
ATTACH;FMTTYPE=image/jpeg:https://hickorybuzz.com/wp-content/uploads/2025/07/Karoke-Night.jpg
ORGANIZER;CN="Dive Bar Hickory":MAILTO:gmhickory@divebarnc.com
END:VEVENT
BEGIN:VEVENT
DTSTART;TZID=America/New_York:20260816T180000
DTEND;TZID=America/New_York:20260816T193000
DTSTAMP:20260425T072630
CREATED:20250703T140557Z
LAST-MODIFIED:20250805T203047Z
UID:10004727-1786903200-1786908600@hickorybuzz.com
SUMMARY:Line Dancing with Angie!
DESCRIPTION:Event: \n\nEvery Sunday from 6pm-7:30pm in Hickory! All skill levels welcomed… Even those with two left feet!
URL:https://hickorybuzz.com/event/line-dancing-with-angie/2026-08-16/
LOCATION:Dive Bar Hickory\, 117 Government Ave SW\, Hickory\, NC\, 28602\, United States
CATEGORIES:Classes/Courses,Dancing
ATTACH;FMTTYPE=image/jpeg:https://hickorybuzz.com/wp-content/uploads/2025/07/Line-Dancing-with-Angie.jpg
ORGANIZER;CN="Dive Bar Hickory":MAILTO:gmhickory@divebarnc.com
END:VEVENT
BEGIN:VEVENT
DTSTART;TZID=America/New_York:20260820T210000
DTEND;TZID=America/New_York:20260820T235900
DTSTAMP:20260425T072630
CREATED:20250712T183648Z
LAST-MODIFIED:20251024T233102Z
UID:10006407-1787259600-1787270340@hickorybuzz.com
SUMMARY:Karaoke Night at the Dive Bar
DESCRIPTION:Event: \nHosted by Audible Entertainment\, Dive Bar High Point’s Karaoke Night is the best in Downtown Hickory with great specials and a fun vibe! Doors open at 5pm for all. After 8pm we are 21+ Only. Karaoke starts just after 9pm.
URL:https://hickorybuzz.com/event/karoke-night/2026-08-20/
LOCATION:Dive Bar Hickory\, 117 Government Ave SW\, Hickory\, NC\, 28602\, United States
CATEGORIES:Arts,Live Music
ATTACH;FMTTYPE=image/jpeg:https://hickorybuzz.com/wp-content/uploads/2025/07/Karoke-Night.jpg
ORGANIZER;CN="Dive Bar Hickory":MAILTO:gmhickory@divebarnc.com
END:VEVENT
BEGIN:VEVENT
DTSTART;TZID=America/New_York:20260823T180000
DTEND;TZID=America/New_York:20260823T193000
DTSTAMP:20260425T072630
CREATED:20250703T140557Z
LAST-MODIFIED:20250805T203047Z
UID:10004728-1787508000-1787513400@hickorybuzz.com
SUMMARY:Line Dancing with Angie!
DESCRIPTION:Event: \n\nEvery Sunday from 6pm-7:30pm in Hickory! All skill levels welcomed… Even those with two left feet!
URL:https://hickorybuzz.com/event/line-dancing-with-angie/2026-08-23/
LOCATION:Dive Bar Hickory\, 117 Government Ave SW\, Hickory\, NC\, 28602\, United States
CATEGORIES:Classes/Courses,Dancing
ATTACH;FMTTYPE=image/jpeg:https://hickorybuzz.com/wp-content/uploads/2025/07/Line-Dancing-with-Angie.jpg
ORGANIZER;CN="Dive Bar Hickory":MAILTO:gmhickory@divebarnc.com
END:VEVENT
BEGIN:VEVENT
DTSTART;TZID=America/New_York:20260827T210000
DTEND;TZID=America/New_York:20260827T235900
DTSTAMP:20260425T072630
CREATED:20250712T183648Z
LAST-MODIFIED:20251024T233102Z
UID:10006408-1787864400-1787875140@hickorybuzz.com
SUMMARY:Karaoke Night at the Dive Bar
DESCRIPTION:Event: \nHosted by Audible Entertainment\, Dive Bar High Point’s Karaoke Night is the best in Downtown Hickory with great specials and a fun vibe! Doors open at 5pm for all. After 8pm we are 21+ Only. Karaoke starts just after 9pm.
URL:https://hickorybuzz.com/event/karoke-night/2026-08-27/
LOCATION:Dive Bar Hickory\, 117 Government Ave SW\, Hickory\, NC\, 28602\, United States
CATEGORIES:Arts,Live Music
ATTACH;FMTTYPE=image/jpeg:https://hickorybuzz.com/wp-content/uploads/2025/07/Karoke-Night.jpg
ORGANIZER;CN="Dive Bar Hickory":MAILTO:gmhickory@divebarnc.com
END:VEVENT
BEGIN:VEVENT
DTSTART;TZID=America/New_York:20260830T180000
DTEND;TZID=America/New_York:20260830T193000
DTSTAMP:20260425T072630
CREATED:20250703T140557Z
LAST-MODIFIED:20250805T203047Z
UID:10004729-1788112800-1788118200@hickorybuzz.com
SUMMARY:Line Dancing with Angie!
DESCRIPTION:Event: \n\nEvery Sunday from 6pm-7:30pm in Hickory! All skill levels welcomed… Even those with two left feet!
URL:https://hickorybuzz.com/event/line-dancing-with-angie/2026-08-30/
LOCATION:Dive Bar Hickory\, 117 Government Ave SW\, Hickory\, NC\, 28602\, United States
CATEGORIES:Classes/Courses,Dancing
ATTACH;FMTTYPE=image/jpeg:https://hickorybuzz.com/wp-content/uploads/2025/07/Line-Dancing-with-Angie.jpg
ORGANIZER;CN="Dive Bar Hickory":MAILTO:gmhickory@divebarnc.com
END:VEVENT
BEGIN:VEVENT
DTSTART;TZID=America/New_York:20260903T210000
DTEND;TZID=America/New_York:20260903T235900
DTSTAMP:20260425T072630
CREATED:20250712T183648Z
LAST-MODIFIED:20251024T233102Z
UID:10006409-1788469200-1788479940@hickorybuzz.com
SUMMARY:Karaoke Night at the Dive Bar
DESCRIPTION:Event: \nHosted by Audible Entertainment\, Dive Bar High Point’s Karaoke Night is the best in Downtown Hickory with great specials and a fun vibe! Doors open at 5pm for all. After 8pm we are 21+ Only. Karaoke starts just after 9pm.
URL:https://hickorybuzz.com/event/karoke-night/2026-09-03/
LOCATION:Dive Bar Hickory\, 117 Government Ave SW\, Hickory\, NC\, 28602\, United States
CATEGORIES:Arts,Live Music
ATTACH;FMTTYPE=image/jpeg:https://hickorybuzz.com/wp-content/uploads/2025/07/Karoke-Night.jpg
ORGANIZER;CN="Dive Bar Hickory":MAILTO:gmhickory@divebarnc.com
END:VEVENT
BEGIN:VEVENT
DTSTART;TZID=America/New_York:20260906T180000
DTEND;TZID=America/New_York:20260906T193000
DTSTAMP:20260425T072630
CREATED:20250703T140557Z
LAST-MODIFIED:20250805T203047Z
UID:10004730-1788717600-1788723000@hickorybuzz.com
SUMMARY:Line Dancing with Angie!
DESCRIPTION:Event: \n\nEvery Sunday from 6pm-7:30pm in Hickory! All skill levels welcomed… Even those with two left feet!
URL:https://hickorybuzz.com/event/line-dancing-with-angie/2026-09-06/
LOCATION:Dive Bar Hickory\, 117 Government Ave SW\, Hickory\, NC\, 28602\, United States
CATEGORIES:Classes/Courses,Dancing
ATTACH;FMTTYPE=image/jpeg:https://hickorybuzz.com/wp-content/uploads/2025/07/Line-Dancing-with-Angie.jpg
ORGANIZER;CN="Dive Bar Hickory":MAILTO:gmhickory@divebarnc.com
END:VEVENT
BEGIN:VEVENT
DTSTART;TZID=America/New_York:20260910T210000
DTEND;TZID=America/New_York:20260910T235900
DTSTAMP:20260425T072630
CREATED:20250712T183648Z
LAST-MODIFIED:20251024T233102Z
UID:10006410-1789074000-1789084740@hickorybuzz.com
SUMMARY:Karaoke Night at the Dive Bar
DESCRIPTION:Event: \nHosted by Audible Entertainment\, Dive Bar High Point’s Karaoke Night is the best in Downtown Hickory with great specials and a fun vibe! Doors open at 5pm for all. After 8pm we are 21+ Only. Karaoke starts just after 9pm.
URL:https://hickorybuzz.com/event/karoke-night/2026-09-10/
LOCATION:Dive Bar Hickory\, 117 Government Ave SW\, Hickory\, NC\, 28602\, United States
CATEGORIES:Arts,Live Music
ATTACH;FMTTYPE=image/jpeg:https://hickorybuzz.com/wp-content/uploads/2025/07/Karoke-Night.jpg
ORGANIZER;CN="Dive Bar Hickory":MAILTO:gmhickory@divebarnc.com
END:VEVENT
BEGIN:VEVENT
DTSTART;TZID=America/New_York:20260913T180000
DTEND;TZID=America/New_York:20260913T193000
DTSTAMP:20260425T072630
CREATED:20250703T140557Z
LAST-MODIFIED:20250805T203047Z
UID:10004731-1789322400-1789327800@hickorybuzz.com
SUMMARY:Line Dancing with Angie!
DESCRIPTION:Event: \n\nEvery Sunday from 6pm-7:30pm in Hickory! All skill levels welcomed… Even those with two left feet!
URL:https://hickorybuzz.com/event/line-dancing-with-angie/2026-09-13/
LOCATION:Dive Bar Hickory\, 117 Government Ave SW\, Hickory\, NC\, 28602\, United States
CATEGORIES:Classes/Courses,Dancing
ATTACH;FMTTYPE=image/jpeg:https://hickorybuzz.com/wp-content/uploads/2025/07/Line-Dancing-with-Angie.jpg
ORGANIZER;CN="Dive Bar Hickory":MAILTO:gmhickory@divebarnc.com
END:VEVENT
BEGIN:VEVENT
DTSTART;TZID=America/New_York:20260917T210000
DTEND;TZID=America/New_York:20260917T235900
DTSTAMP:20260425T072630
CREATED:20250712T183648Z
LAST-MODIFIED:20251024T233102Z
UID:10006411-1789678800-1789689540@hickorybuzz.com
SUMMARY:Karaoke Night at the Dive Bar
DESCRIPTION:Event: \nHosted by Audible Entertainment\, Dive Bar High Point’s Karaoke Night is the best in Downtown Hickory with great specials and a fun vibe! Doors open at 5pm for all. After 8pm we are 21+ Only. Karaoke starts just after 9pm.
URL:https://hickorybuzz.com/event/karoke-night/2026-09-17/
LOCATION:Dive Bar Hickory\, 117 Government Ave SW\, Hickory\, NC\, 28602\, United States
CATEGORIES:Arts,Live Music
ATTACH;FMTTYPE=image/jpeg:https://hickorybuzz.com/wp-content/uploads/2025/07/Karoke-Night.jpg
ORGANIZER;CN="Dive Bar Hickory":MAILTO:gmhickory@divebarnc.com
END:VEVENT
END:VCALENDAR