BEGIN:VCALENDAR
VERSION:2.0
PRODID:-//Hickory Buzz - ECPv6.15.20//NONSGML v1.0//EN
CALSCALE:GREGORIAN
METHOD:PUBLISH
X-ORIGINAL-URL:https://hickorybuzz.com
X-WR-CALDESC:Events for Hickory Buzz
REFRESH-INTERVAL;VALUE=DURATION:PT1H
X-Robots-Tag:noindex
X-PUBLISHED-TTL:PT1H
BEGIN:VTIMEZONE
TZID:America/New_York
BEGIN:DAYLIGHT
TZOFFSETFROM:-0500
TZOFFSETTO:-0400
TZNAME:EDT
DTSTART:20240310T070000
END:DAYLIGHT
BEGIN:STANDARD
TZOFFSETFROM:-0400
TZOFFSETTO:-0500
TZNAME:EST
DTSTART:20241103T060000
END:STANDARD
BEGIN:DAYLIGHT
TZOFFSETFROM:-0500
TZOFFSETTO:-0400
TZNAME:EDT
DTSTART:20250309T070000
END:DAYLIGHT
BEGIN:STANDARD
TZOFFSETFROM:-0400
TZOFFSETTO:-0500
TZNAME:EST
DTSTART:20251102T060000
END:STANDARD
BEGIN:DAYLIGHT
TZOFFSETFROM:-0500
TZOFFSETTO:-0400
TZNAME:EDT
DTSTART:20260308T070000
END:DAYLIGHT
BEGIN:STANDARD
TZOFFSETFROM:-0400
TZOFFSETTO:-0500
TZNAME:EST
DTSTART:20261101T060000
END:STANDARD
BEGIN:DAYLIGHT
TZOFFSETFROM:-0500
TZOFFSETTO:-0400
TZNAME:EDT
DTSTART:20270314T070000
END:DAYLIGHT
BEGIN:STANDARD
TZOFFSETFROM:-0400
TZOFFSETTO:-0500
TZNAME:EST
DTSTART:20271107T060000
END:STANDARD
END:VTIMEZONE
BEGIN:VEVENT
DTSTART;TZID=America/New_York:20260314T120000
DTEND;TZID=America/New_York:20260314T233000
DTSTAMP:20260425T091208
CREATED:20260309T101151Z
LAST-MODIFIED:20260309T101151Z
UID:10017953-1773489600-1773531000@hickorybuzz.com
SUMMARY:St. Patrick's Day at Dive Bar
DESCRIPTION:Break out your green & get ready to celebrate St. Patrick’s Day at Hickory’s Party Spot!\nOur St. Paddy’s Party will be ALL DAY open to close on Saturday\, March 14th!\nFree SwagIrish Drink SpecialsAll Day FestivitiesDJ 9:30pm-Close
URL:https://hickorybuzz.com/event/st-patricks-day-at-dive-bar/
LOCATION:Dive Bar Hickory\, 117 Government Ave SW\, Hickory\, NC\, 28602\, United States
CATEGORIES:Community,Festivals,Food & Drinks,Live Music
ATTACH;FMTTYPE=image/png:https://hickorybuzz.com/wp-content/uploads/2026/03/Dive-Bar-Shamrocks-Shenanigans.png
ORGANIZER;CN="Dive Bar Hickory":MAILTO:gmhickory@divebarnc.com
END:VEVENT
BEGIN:VEVENT
DTSTART;TZID=America/New_York:20260312T210000
DTEND;TZID=America/New_York:20260312T235900
DTSTAMP:20260425T091208
CREATED:20250712T183648Z
LAST-MODIFIED:20251024T233102Z
UID:10006384-1773349200-1773359940@hickorybuzz.com
SUMMARY:Karaoke Night at the Dive Bar
DESCRIPTION:Event: \nHosted by Audible Entertainment\, Dive Bar High Point’s Karaoke Night is the best in Downtown Hickory with great specials and a fun vibe! Doors open at 5pm for all. After 8pm we are 21+ Only. Karaoke starts just after 9pm.
URL:https://hickorybuzz.com/event/karoke-night/2026-03-12/
LOCATION:Dive Bar Hickory\, 117 Government Ave SW\, Hickory\, NC\, 28602\, United States
CATEGORIES:Arts,Live Music
ATTACH;FMTTYPE=image/jpeg:https://hickorybuzz.com/wp-content/uploads/2025/07/Karoke-Night.jpg
ORGANIZER;CN="Dive Bar Hickory":MAILTO:gmhickory@divebarnc.com
END:VEVENT
BEGIN:VEVENT
DTSTART;TZID=America/New_York:20260308T180000
DTEND;TZID=America/New_York:20260308T193000
DTSTAMP:20260425T091208
CREATED:20250703T140557Z
LAST-MODIFIED:20250805T203047Z
UID:10004704-1772992800-1772998200@hickorybuzz.com
SUMMARY:Line Dancing with Angie!
DESCRIPTION:Event: \n\nEvery Sunday from 6pm-7:30pm in Hickory! All skill levels welcomed… Even those with two left feet!
URL:https://hickorybuzz.com/event/line-dancing-with-angie/2026-03-08/
LOCATION:Dive Bar Hickory\, 117 Government Ave SW\, Hickory\, NC\, 28602\, United States
CATEGORIES:Classes/Courses,Dancing
ATTACH;FMTTYPE=image/jpeg:https://hickorybuzz.com/wp-content/uploads/2025/07/Line-Dancing-with-Angie.jpg
ORGANIZER;CN="Dive Bar Hickory":MAILTO:gmhickory@divebarnc.com
END:VEVENT
BEGIN:VEVENT
DTSTART;TZID=America/New_York:20260305T210000
DTEND;TZID=America/New_York:20260305T235900
DTSTAMP:20260425T091208
CREATED:20250712T183648Z
LAST-MODIFIED:20251024T233102Z
UID:10006383-1772744400-1772755140@hickorybuzz.com
SUMMARY:Karaoke Night at the Dive Bar
DESCRIPTION:Event: \nHosted by Audible Entertainment\, Dive Bar High Point’s Karaoke Night is the best in Downtown Hickory with great specials and a fun vibe! Doors open at 5pm for all. After 8pm we are 21+ Only. Karaoke starts just after 9pm.
URL:https://hickorybuzz.com/event/karoke-night/2026-03-05/
LOCATION:Dive Bar Hickory\, 117 Government Ave SW\, Hickory\, NC\, 28602\, United States
CATEGORIES:Arts,Live Music
ATTACH;FMTTYPE=image/jpeg:https://hickorybuzz.com/wp-content/uploads/2025/07/Karoke-Night.jpg
ORGANIZER;CN="Dive Bar Hickory":MAILTO:gmhickory@divebarnc.com
END:VEVENT
BEGIN:VEVENT
DTSTART;TZID=America/New_York:20260301T180000
DTEND;TZID=America/New_York:20260301T193000
DTSTAMP:20260425T091208
CREATED:20250703T140557Z
LAST-MODIFIED:20250805T203047Z
UID:10004703-1772388000-1772393400@hickorybuzz.com
SUMMARY:Line Dancing with Angie!
DESCRIPTION:Event: \n\nEvery Sunday from 6pm-7:30pm in Hickory! All skill levels welcomed… Even those with two left feet!
URL:https://hickorybuzz.com/event/line-dancing-with-angie/2026-03-01/
LOCATION:Dive Bar Hickory\, 117 Government Ave SW\, Hickory\, NC\, 28602\, United States
CATEGORIES:Classes/Courses,Dancing
ATTACH;FMTTYPE=image/jpeg:https://hickorybuzz.com/wp-content/uploads/2025/07/Line-Dancing-with-Angie.jpg
ORGANIZER;CN="Dive Bar Hickory":MAILTO:gmhickory@divebarnc.com
END:VEVENT
BEGIN:VEVENT
DTSTART;TZID=America/New_York:20260226T210000
DTEND;TZID=America/New_York:20260226T235900
DTSTAMP:20260425T091208
CREATED:20250712T183648Z
LAST-MODIFIED:20251024T233102Z
UID:10006382-1772139600-1772150340@hickorybuzz.com
SUMMARY:Karaoke Night at the Dive Bar
DESCRIPTION:Event: \nHosted by Audible Entertainment\, Dive Bar High Point’s Karaoke Night is the best in Downtown Hickory with great specials and a fun vibe! Doors open at 5pm for all. After 8pm we are 21+ Only. Karaoke starts just after 9pm.
URL:https://hickorybuzz.com/event/karoke-night/2026-02-26/
LOCATION:Dive Bar Hickory\, 117 Government Ave SW\, Hickory\, NC\, 28602\, United States
CATEGORIES:Arts,Live Music
ATTACH;FMTTYPE=image/jpeg:https://hickorybuzz.com/wp-content/uploads/2025/07/Karoke-Night.jpg
ORGANIZER;CN="Dive Bar Hickory":MAILTO:gmhickory@divebarnc.com
END:VEVENT
BEGIN:VEVENT
DTSTART;TZID=America/New_York:20260222T180000
DTEND;TZID=America/New_York:20260222T193000
DTSTAMP:20260425T091208
CREATED:20250703T140557Z
LAST-MODIFIED:20250805T203047Z
UID:10004702-1771783200-1771788600@hickorybuzz.com
SUMMARY:Line Dancing with Angie!
DESCRIPTION:Event: \n\nEvery Sunday from 6pm-7:30pm in Hickory! All skill levels welcomed… Even those with two left feet!
URL:https://hickorybuzz.com/event/line-dancing-with-angie/2026-02-22/
LOCATION:Dive Bar Hickory\, 117 Government Ave SW\, Hickory\, NC\, 28602\, United States
CATEGORIES:Classes/Courses,Dancing
ATTACH;FMTTYPE=image/jpeg:https://hickorybuzz.com/wp-content/uploads/2025/07/Line-Dancing-with-Angie.jpg
ORGANIZER;CN="Dive Bar Hickory":MAILTO:gmhickory@divebarnc.com
END:VEVENT
BEGIN:VEVENT
DTSTART;TZID=America/New_York:20260219T210000
DTEND;TZID=America/New_York:20260219T235900
DTSTAMP:20260425T091208
CREATED:20250712T183648Z
LAST-MODIFIED:20251024T233102Z
UID:10006381-1771534800-1771545540@hickorybuzz.com
SUMMARY:Karaoke Night at the Dive Bar
DESCRIPTION:Event: \nHosted by Audible Entertainment\, Dive Bar High Point’s Karaoke Night is the best in Downtown Hickory with great specials and a fun vibe! Doors open at 5pm for all. After 8pm we are 21+ Only. Karaoke starts just after 9pm.
URL:https://hickorybuzz.com/event/karoke-night/2026-02-19/
LOCATION:Dive Bar Hickory\, 117 Government Ave SW\, Hickory\, NC\, 28602\, United States
CATEGORIES:Arts,Live Music
ATTACH;FMTTYPE=image/jpeg:https://hickorybuzz.com/wp-content/uploads/2025/07/Karoke-Night.jpg
ORGANIZER;CN="Dive Bar Hickory":MAILTO:gmhickory@divebarnc.com
END:VEVENT
BEGIN:VEVENT
DTSTART;TZID=America/New_York:20260215T180000
DTEND;TZID=America/New_York:20260215T193000
DTSTAMP:20260425T091208
CREATED:20250703T140557Z
LAST-MODIFIED:20250805T203047Z
UID:10004701-1771178400-1771183800@hickorybuzz.com
SUMMARY:Line Dancing with Angie!
DESCRIPTION:Event: \n\nEvery Sunday from 6pm-7:30pm in Hickory! All skill levels welcomed… Even those with two left feet!
URL:https://hickorybuzz.com/event/line-dancing-with-angie/2026-02-15/
LOCATION:Dive Bar Hickory\, 117 Government Ave SW\, Hickory\, NC\, 28602\, United States
CATEGORIES:Classes/Courses,Dancing
ATTACH;FMTTYPE=image/jpeg:https://hickorybuzz.com/wp-content/uploads/2025/07/Line-Dancing-with-Angie.jpg
ORGANIZER;CN="Dive Bar Hickory":MAILTO:gmhickory@divebarnc.com
END:VEVENT
BEGIN:VEVENT
DTSTART;TZID=America/New_York:20260212T210000
DTEND;TZID=America/New_York:20260212T235900
DTSTAMP:20260425T091208
CREATED:20250712T183648Z
LAST-MODIFIED:20251024T233102Z
UID:10006380-1770930000-1770940740@hickorybuzz.com
SUMMARY:Karaoke Night at the Dive Bar
DESCRIPTION:Event: \nHosted by Audible Entertainment\, Dive Bar High Point’s Karaoke Night is the best in Downtown Hickory with great specials and a fun vibe! Doors open at 5pm for all. After 8pm we are 21+ Only. Karaoke starts just after 9pm.
URL:https://hickorybuzz.com/event/karoke-night/2026-02-12/
LOCATION:Dive Bar Hickory\, 117 Government Ave SW\, Hickory\, NC\, 28602\, United States
CATEGORIES:Arts,Live Music
ATTACH;FMTTYPE=image/jpeg:https://hickorybuzz.com/wp-content/uploads/2025/07/Karoke-Night.jpg
ORGANIZER;CN="Dive Bar Hickory":MAILTO:gmhickory@divebarnc.com
END:VEVENT
BEGIN:VEVENT
DTSTART;TZID=America/New_York:20260208T180000
DTEND;TZID=America/New_York:20260208T193000
DTSTAMP:20260425T091208
CREATED:20250703T140557Z
LAST-MODIFIED:20250805T203047Z
UID:10004700-1770573600-1770579000@hickorybuzz.com
SUMMARY:Line Dancing with Angie!
DESCRIPTION:Event: \n\nEvery Sunday from 6pm-7:30pm in Hickory! All skill levels welcomed… Even those with two left feet!
URL:https://hickorybuzz.com/event/line-dancing-with-angie/2026-02-08/
LOCATION:Dive Bar Hickory\, 117 Government Ave SW\, Hickory\, NC\, 28602\, United States
CATEGORIES:Classes/Courses,Dancing
ATTACH;FMTTYPE=image/jpeg:https://hickorybuzz.com/wp-content/uploads/2025/07/Line-Dancing-with-Angie.jpg
ORGANIZER;CN="Dive Bar Hickory":MAILTO:gmhickory@divebarnc.com
END:VEVENT
BEGIN:VEVENT
DTSTART;TZID=America/New_York:20260205T210000
DTEND;TZID=America/New_York:20260205T235900
DTSTAMP:20260425T091208
CREATED:20250712T183648Z
LAST-MODIFIED:20251024T233102Z
UID:10006379-1770325200-1770335940@hickorybuzz.com
SUMMARY:Karaoke Night at the Dive Bar
DESCRIPTION:Event: \nHosted by Audible Entertainment\, Dive Bar High Point’s Karaoke Night is the best in Downtown Hickory with great specials and a fun vibe! Doors open at 5pm for all. After 8pm we are 21+ Only. Karaoke starts just after 9pm.
URL:https://hickorybuzz.com/event/karoke-night/2026-02-05/
LOCATION:Dive Bar Hickory\, 117 Government Ave SW\, Hickory\, NC\, 28602\, United States
CATEGORIES:Arts,Live Music
ATTACH;FMTTYPE=image/jpeg:https://hickorybuzz.com/wp-content/uploads/2025/07/Karoke-Night.jpg
ORGANIZER;CN="Dive Bar Hickory":MAILTO:gmhickory@divebarnc.com
END:VEVENT
BEGIN:VEVENT
DTSTART;TZID=America/New_York:20260201T180000
DTEND;TZID=America/New_York:20260201T193000
DTSTAMP:20260425T091208
CREATED:20250703T140557Z
LAST-MODIFIED:20250805T203047Z
UID:10004699-1769968800-1769974200@hickorybuzz.com
SUMMARY:Line Dancing with Angie!
DESCRIPTION:Event: \n\nEvery Sunday from 6pm-7:30pm in Hickory! All skill levels welcomed… Even those with two left feet!
URL:https://hickorybuzz.com/event/line-dancing-with-angie/2026-02-01/
LOCATION:Dive Bar Hickory\, 117 Government Ave SW\, Hickory\, NC\, 28602\, United States
CATEGORIES:Classes/Courses,Dancing
ATTACH;FMTTYPE=image/jpeg:https://hickorybuzz.com/wp-content/uploads/2025/07/Line-Dancing-with-Angie.jpg
ORGANIZER;CN="Dive Bar Hickory":MAILTO:gmhickory@divebarnc.com
END:VEVENT
BEGIN:VEVENT
DTSTART;TZID=America/New_York:20260129T210000
DTEND;TZID=America/New_York:20260129T235900
DTSTAMP:20260425T091208
CREATED:20250712T183648Z
LAST-MODIFIED:20251024T233102Z
UID:10006378-1769720400-1769731140@hickorybuzz.com
SUMMARY:Karaoke Night at the Dive Bar
DESCRIPTION:Event: \nHosted by Audible Entertainment\, Dive Bar High Point’s Karaoke Night is the best in Downtown Hickory with great specials and a fun vibe! Doors open at 5pm for all. After 8pm we are 21+ Only. Karaoke starts just after 9pm.
URL:https://hickorybuzz.com/event/karoke-night/2026-01-29/
LOCATION:Dive Bar Hickory\, 117 Government Ave SW\, Hickory\, NC\, 28602\, United States
CATEGORIES:Arts,Live Music
ATTACH;FMTTYPE=image/jpeg:https://hickorybuzz.com/wp-content/uploads/2025/07/Karoke-Night.jpg
ORGANIZER;CN="Dive Bar Hickory":MAILTO:gmhickory@divebarnc.com
END:VEVENT
BEGIN:VEVENT
DTSTART;TZID=America/New_York:20260125T180000
DTEND;TZID=America/New_York:20260125T193000
DTSTAMP:20260425T091208
CREATED:20250703T140557Z
LAST-MODIFIED:20250805T203047Z
UID:10004698-1769364000-1769369400@hickorybuzz.com
SUMMARY:Line Dancing with Angie!
DESCRIPTION:Event: \n\nEvery Sunday from 6pm-7:30pm in Hickory! All skill levels welcomed… Even those with two left feet!
URL:https://hickorybuzz.com/event/line-dancing-with-angie/2026-01-25/
LOCATION:Dive Bar Hickory\, 117 Government Ave SW\, Hickory\, NC\, 28602\, United States
CATEGORIES:Classes/Courses,Dancing
ATTACH;FMTTYPE=image/jpeg:https://hickorybuzz.com/wp-content/uploads/2025/07/Line-Dancing-with-Angie.jpg
ORGANIZER;CN="Dive Bar Hickory":MAILTO:gmhickory@divebarnc.com
END:VEVENT
BEGIN:VEVENT
DTSTART;TZID=America/New_York:20260122T210000
DTEND;TZID=America/New_York:20260122T235900
DTSTAMP:20260425T091208
CREATED:20250712T183648Z
LAST-MODIFIED:20251024T233102Z
UID:10006377-1769115600-1769126340@hickorybuzz.com
SUMMARY:Karaoke Night at the Dive Bar
DESCRIPTION:Event: \nHosted by Audible Entertainment\, Dive Bar High Point’s Karaoke Night is the best in Downtown Hickory with great specials and a fun vibe! Doors open at 5pm for all. After 8pm we are 21+ Only. Karaoke starts just after 9pm.
URL:https://hickorybuzz.com/event/karoke-night/2026-01-22/
LOCATION:Dive Bar Hickory\, 117 Government Ave SW\, Hickory\, NC\, 28602\, United States
CATEGORIES:Arts,Live Music
ATTACH;FMTTYPE=image/jpeg:https://hickorybuzz.com/wp-content/uploads/2025/07/Karoke-Night.jpg
ORGANIZER;CN="Dive Bar Hickory":MAILTO:gmhickory@divebarnc.com
END:VEVENT
BEGIN:VEVENT
DTSTART;TZID=America/New_York:20260118T180000
DTEND;TZID=America/New_York:20260118T193000
DTSTAMP:20260425T091208
CREATED:20250703T140557Z
LAST-MODIFIED:20250805T203047Z
UID:10004697-1768759200-1768764600@hickorybuzz.com
SUMMARY:Line Dancing with Angie!
DESCRIPTION:Event: \n\nEvery Sunday from 6pm-7:30pm in Hickory! All skill levels welcomed… Even those with two left feet!
URL:https://hickorybuzz.com/event/line-dancing-with-angie/2026-01-18/
LOCATION:Dive Bar Hickory\, 117 Government Ave SW\, Hickory\, NC\, 28602\, United States
CATEGORIES:Classes/Courses,Dancing
ATTACH;FMTTYPE=image/jpeg:https://hickorybuzz.com/wp-content/uploads/2025/07/Line-Dancing-with-Angie.jpg
ORGANIZER;CN="Dive Bar Hickory":MAILTO:gmhickory@divebarnc.com
END:VEVENT
BEGIN:VEVENT
DTSTART;TZID=America/New_York:20260115T210000
DTEND;TZID=America/New_York:20260115T235900
DTSTAMP:20260425T091208
CREATED:20250712T183648Z
LAST-MODIFIED:20251024T233102Z
UID:10006376-1768510800-1768521540@hickorybuzz.com
SUMMARY:Karaoke Night at the Dive Bar
DESCRIPTION:Event: \nHosted by Audible Entertainment\, Dive Bar High Point’s Karaoke Night is the best in Downtown Hickory with great specials and a fun vibe! Doors open at 5pm for all. After 8pm we are 21+ Only. Karaoke starts just after 9pm.
URL:https://hickorybuzz.com/event/karoke-night/2026-01-15/
LOCATION:Dive Bar Hickory\, 117 Government Ave SW\, Hickory\, NC\, 28602\, United States
CATEGORIES:Arts,Live Music
ATTACH;FMTTYPE=image/jpeg:https://hickorybuzz.com/wp-content/uploads/2025/07/Karoke-Night.jpg
ORGANIZER;CN="Dive Bar Hickory":MAILTO:gmhickory@divebarnc.com
END:VEVENT
BEGIN:VEVENT
DTSTART;TZID=America/New_York:20260111T180000
DTEND;TZID=America/New_York:20260111T193000
DTSTAMP:20260425T091208
CREATED:20250703T140557Z
LAST-MODIFIED:20250805T203047Z
UID:10004696-1768154400-1768159800@hickorybuzz.com
SUMMARY:Line Dancing with Angie!
DESCRIPTION:Event: \n\nEvery Sunday from 6pm-7:30pm in Hickory! All skill levels welcomed… Even those with two left feet!
URL:https://hickorybuzz.com/event/line-dancing-with-angie/2026-01-11/
LOCATION:Dive Bar Hickory\, 117 Government Ave SW\, Hickory\, NC\, 28602\, United States
CATEGORIES:Classes/Courses,Dancing
ATTACH;FMTTYPE=image/jpeg:https://hickorybuzz.com/wp-content/uploads/2025/07/Line-Dancing-with-Angie.jpg
ORGANIZER;CN="Dive Bar Hickory":MAILTO:gmhickory@divebarnc.com
END:VEVENT
BEGIN:VEVENT
DTSTART;TZID=America/New_York:20260108T210000
DTEND;TZID=America/New_York:20260108T235900
DTSTAMP:20260425T091208
CREATED:20250712T183648Z
LAST-MODIFIED:20251024T233102Z
UID:10006375-1767906000-1767916740@hickorybuzz.com
SUMMARY:Karaoke Night at the Dive Bar
DESCRIPTION:Event: \nHosted by Audible Entertainment\, Dive Bar High Point’s Karaoke Night is the best in Downtown Hickory with great specials and a fun vibe! Doors open at 5pm for all. After 8pm we are 21+ Only. Karaoke starts just after 9pm.
URL:https://hickorybuzz.com/event/karoke-night/2026-01-08/
LOCATION:Dive Bar Hickory\, 117 Government Ave SW\, Hickory\, NC\, 28602\, United States
CATEGORIES:Arts,Live Music
ATTACH;FMTTYPE=image/jpeg:https://hickorybuzz.com/wp-content/uploads/2025/07/Karoke-Night.jpg
ORGANIZER;CN="Dive Bar Hickory":MAILTO:gmhickory@divebarnc.com
END:VEVENT
BEGIN:VEVENT
DTSTART;TZID=America/New_York:20260104T180000
DTEND;TZID=America/New_York:20260104T193000
DTSTAMP:20260425T091208
CREATED:20250703T140557Z
LAST-MODIFIED:20250805T203047Z
UID:10004695-1767549600-1767555000@hickorybuzz.com
SUMMARY:Line Dancing with Angie!
DESCRIPTION:Event: \n\nEvery Sunday from 6pm-7:30pm in Hickory! All skill levels welcomed… Even those with two left feet!
URL:https://hickorybuzz.com/event/line-dancing-with-angie/2026-01-04/
LOCATION:Dive Bar Hickory\, 117 Government Ave SW\, Hickory\, NC\, 28602\, United States
CATEGORIES:Classes/Courses,Dancing
ATTACH;FMTTYPE=image/jpeg:https://hickorybuzz.com/wp-content/uploads/2025/07/Line-Dancing-with-Angie.jpg
ORGANIZER;CN="Dive Bar Hickory":MAILTO:gmhickory@divebarnc.com
END:VEVENT
BEGIN:VEVENT
DTSTART;TZID=America/New_York:20260101T210000
DTEND;TZID=America/New_York:20260101T235900
DTSTAMP:20260425T091208
CREATED:20250712T183648Z
LAST-MODIFIED:20251024T233102Z
UID:10006374-1767301200-1767311940@hickorybuzz.com
SUMMARY:Karaoke Night at the Dive Bar
DESCRIPTION:Event: \nHosted by Audible Entertainment\, Dive Bar High Point’s Karaoke Night is the best in Downtown Hickory with great specials and a fun vibe! Doors open at 5pm for all. After 8pm we are 21+ Only. Karaoke starts just after 9pm.
URL:https://hickorybuzz.com/event/karoke-night/2026-01-01/
LOCATION:Dive Bar Hickory\, 117 Government Ave SW\, Hickory\, NC\, 28602\, United States
CATEGORIES:Arts,Live Music
ATTACH;FMTTYPE=image/jpeg:https://hickorybuzz.com/wp-content/uploads/2025/07/Karoke-Night.jpg
ORGANIZER;CN="Dive Bar Hickory":MAILTO:gmhickory@divebarnc.com
END:VEVENT
BEGIN:VEVENT
DTSTART;TZID=America/New_York:20251231T213000
DTEND;TZID=America/New_York:20260101T013000
DTSTAMP:20260425T091208
CREATED:20251229T153153Z
LAST-MODIFIED:20251229T153831Z
UID:10015030-1767216600-1767231000@hickorybuzz.com
SUMMARY:Wrong Side of the Tracks IV: New Year's Eve Party
DESCRIPTION:Let the countdown to 2026 BEGIN!\nCelebrate the start of the New Year with us Dive Bar Hickory’s Wrong Side of the Tracks!9:30PM – 1:30AM | Live DJ\n$10 General Admission | Cover Includes Midnight Toast!\nFeeling VIP?$30 VIP | Cover + T-Shirt$50 Super VIP | Cover + Sweatshirt\nThis is your LAST chance to experience “The Dive Before Christmas” Pop-Up!\nWe will be closed from 8pm – 9:30pm to set up!
URL:https://hickorybuzz.com/event/wrong-side-of-the-tracks-iv-new-years-eve-party/
LOCATION:Dive Bar Hickory\, 117 Government Ave SW\, Hickory\, NC\, 28602\, United States
CATEGORIES:Food & Drinks,Nightlife
ATTACH;FMTTYPE=image/png:https://hickorybuzz.com/wp-content/uploads/2025/12/Dive-Bar-Wrong-Side-of-the-Tracks-4.avif
ORGANIZER;CN="Dive Bar Hickory":MAILTO:gmhickory@divebarnc.com
END:VEVENT
BEGIN:VEVENT
DTSTART;TZID=America/New_York:20251228T180000
DTEND;TZID=America/New_York:20251228T193000
DTSTAMP:20260425T091208
CREATED:20250703T140557Z
LAST-MODIFIED:20250805T203047Z
UID:10004694-1766944800-1766950200@hickorybuzz.com
SUMMARY:Line Dancing with Angie!
DESCRIPTION:Event: \n\nEvery Sunday from 6pm-7:30pm in Hickory! All skill levels welcomed… Even those with two left feet!
URL:https://hickorybuzz.com/event/line-dancing-with-angie/2025-12-28/
LOCATION:Dive Bar Hickory\, 117 Government Ave SW\, Hickory\, NC\, 28602\, United States
CATEGORIES:Classes/Courses,Dancing
ATTACH;FMTTYPE=image/jpeg:https://hickorybuzz.com/wp-content/uploads/2025/07/Line-Dancing-with-Angie.jpg
ORGANIZER;CN="Dive Bar Hickory":MAILTO:gmhickory@divebarnc.com
END:VEVENT
BEGIN:VEVENT
DTSTART;TZID=America/New_York:20251225T210000
DTEND;TZID=America/New_York:20251225T235900
DTSTAMP:20260425T091208
CREATED:20250712T183648Z
LAST-MODIFIED:20251024T233102Z
UID:10006373-1766696400-1766707140@hickorybuzz.com
SUMMARY:Karaoke Night at the Dive Bar
DESCRIPTION:Event: \nHosted by Audible Entertainment\, Dive Bar High Point’s Karaoke Night is the best in Downtown Hickory with great specials and a fun vibe! Doors open at 5pm for all. After 8pm we are 21+ Only. Karaoke starts just after 9pm.
URL:https://hickorybuzz.com/event/karoke-night/2025-12-25/
LOCATION:Dive Bar Hickory\, 117 Government Ave SW\, Hickory\, NC\, 28602\, United States
CATEGORIES:Arts,Live Music
ATTACH;FMTTYPE=image/jpeg:https://hickorybuzz.com/wp-content/uploads/2025/07/Karoke-Night.jpg
ORGANIZER;CN="Dive Bar Hickory":MAILTO:gmhickory@divebarnc.com
END:VEVENT
BEGIN:VEVENT
DTSTART;TZID=America/New_York:20251221T180000
DTEND;TZID=America/New_York:20251221T193000
DTSTAMP:20260425T091208
CREATED:20250703T140557Z
LAST-MODIFIED:20250805T203047Z
UID:10004693-1766340000-1766345400@hickorybuzz.com
SUMMARY:Line Dancing with Angie!
DESCRIPTION:Event: \n\nEvery Sunday from 6pm-7:30pm in Hickory! All skill levels welcomed… Even those with two left feet!
URL:https://hickorybuzz.com/event/line-dancing-with-angie/2025-12-21/
LOCATION:Dive Bar Hickory\, 117 Government Ave SW\, Hickory\, NC\, 28602\, United States
CATEGORIES:Classes/Courses,Dancing
ATTACH;FMTTYPE=image/jpeg:https://hickorybuzz.com/wp-content/uploads/2025/07/Line-Dancing-with-Angie.jpg
ORGANIZER;CN="Dive Bar Hickory":MAILTO:gmhickory@divebarnc.com
END:VEVENT
BEGIN:VEVENT
DTSTART;TZID=America/New_York:20251218T210000
DTEND;TZID=America/New_York:20251218T235900
DTSTAMP:20260425T091208
CREATED:20250712T183648Z
LAST-MODIFIED:20251024T233102Z
UID:10006372-1766091600-1766102340@hickorybuzz.com
SUMMARY:Karaoke Night at the Dive Bar
DESCRIPTION:Event: \nHosted by Audible Entertainment\, Dive Bar High Point’s Karaoke Night is the best in Downtown Hickory with great specials and a fun vibe! Doors open at 5pm for all. After 8pm we are 21+ Only. Karaoke starts just after 9pm.
URL:https://hickorybuzz.com/event/karoke-night/2025-12-18/
LOCATION:Dive Bar Hickory\, 117 Government Ave SW\, Hickory\, NC\, 28602\, United States
CATEGORIES:Arts,Live Music
ATTACH;FMTTYPE=image/jpeg:https://hickorybuzz.com/wp-content/uploads/2025/07/Karoke-Night.jpg
ORGANIZER;CN="Dive Bar Hickory":MAILTO:gmhickory@divebarnc.com
END:VEVENT
BEGIN:VEVENT
DTSTART;TZID=America/New_York:20251214T180000
DTEND;TZID=America/New_York:20251214T193000
DTSTAMP:20260425T091208
CREATED:20250703T140557Z
LAST-MODIFIED:20250805T203047Z
UID:10004692-1765735200-1765740600@hickorybuzz.com
SUMMARY:Line Dancing with Angie!
DESCRIPTION:Event: \n\nEvery Sunday from 6pm-7:30pm in Hickory! All skill levels welcomed… Even those with two left feet!
URL:https://hickorybuzz.com/event/line-dancing-with-angie/2025-12-14/
LOCATION:Dive Bar Hickory\, 117 Government Ave SW\, Hickory\, NC\, 28602\, United States
CATEGORIES:Classes/Courses,Dancing
ATTACH;FMTTYPE=image/jpeg:https://hickorybuzz.com/wp-content/uploads/2025/07/Line-Dancing-with-Angie.jpg
ORGANIZER;CN="Dive Bar Hickory":MAILTO:gmhickory@divebarnc.com
END:VEVENT
BEGIN:VEVENT
DTSTART;TZID=America/New_York:20251211T210000
DTEND;TZID=America/New_York:20251211T235900
DTSTAMP:20260425T091208
CREATED:20250712T183648Z
LAST-MODIFIED:20251024T233102Z
UID:10006371-1765486800-1765497540@hickorybuzz.com
SUMMARY:Karaoke Night at the Dive Bar
DESCRIPTION:Event: \nHosted by Audible Entertainment\, Dive Bar High Point’s Karaoke Night is the best in Downtown Hickory with great specials and a fun vibe! Doors open at 5pm for all. After 8pm we are 21+ Only. Karaoke starts just after 9pm.
URL:https://hickorybuzz.com/event/karoke-night/2025-12-11/
LOCATION:Dive Bar Hickory\, 117 Government Ave SW\, Hickory\, NC\, 28602\, United States
CATEGORIES:Arts,Live Music
ATTACH;FMTTYPE=image/jpeg:https://hickorybuzz.com/wp-content/uploads/2025/07/Karoke-Night.jpg
ORGANIZER;CN="Dive Bar Hickory":MAILTO:gmhickory@divebarnc.com
END:VEVENT
BEGIN:VEVENT
DTSTART;TZID=America/New_York:20251207T180000
DTEND;TZID=America/New_York:20251207T193000
DTSTAMP:20260425T091208
CREATED:20250703T140557Z
LAST-MODIFIED:20250805T203047Z
UID:10004691-1765130400-1765135800@hickorybuzz.com
SUMMARY:Line Dancing with Angie!
DESCRIPTION:Event: \n\nEvery Sunday from 6pm-7:30pm in Hickory! All skill levels welcomed… Even those with two left feet!
URL:https://hickorybuzz.com/event/line-dancing-with-angie/2025-12-07/
LOCATION:Dive Bar Hickory\, 117 Government Ave SW\, Hickory\, NC\, 28602\, United States
CATEGORIES:Classes/Courses,Dancing
ATTACH;FMTTYPE=image/jpeg:https://hickorybuzz.com/wp-content/uploads/2025/07/Line-Dancing-with-Angie.jpg
ORGANIZER;CN="Dive Bar Hickory":MAILTO:gmhickory@divebarnc.com
END:VEVENT
END:VCALENDAR