BEGIN:VCALENDAR
VERSION:2.0
PRODID:-//Hickory Buzz - ECPv6.15.20//NONSGML v1.0//EN
CALSCALE:GREGORIAN
METHOD:PUBLISH
X-ORIGINAL-URL:https://hickorybuzz.com
X-WR-CALDESC:Events for Hickory Buzz
REFRESH-INTERVAL;VALUE=DURATION:PT1H
X-Robots-Tag:noindex
X-PUBLISHED-TTL:PT1H
BEGIN:VTIMEZONE
TZID:America/New_York
BEGIN:DAYLIGHT
TZOFFSETFROM:-0500
TZOFFSETTO:-0400
TZNAME:EDT
DTSTART:20250309T070000
END:DAYLIGHT
BEGIN:STANDARD
TZOFFSETFROM:-0400
TZOFFSETTO:-0500
TZNAME:EST
DTSTART:20251102T060000
END:STANDARD
BEGIN:DAYLIGHT
TZOFFSETFROM:-0500
TZOFFSETTO:-0400
TZNAME:EDT
DTSTART:20260308T070000
END:DAYLIGHT
BEGIN:STANDARD
TZOFFSETFROM:-0400
TZOFFSETTO:-0500
TZNAME:EST
DTSTART:20261101T060000
END:STANDARD
BEGIN:DAYLIGHT
TZOFFSETFROM:-0500
TZOFFSETTO:-0400
TZNAME:EDT
DTSTART:20270314T070000
END:DAYLIGHT
BEGIN:STANDARD
TZOFFSETFROM:-0400
TZOFFSETTO:-0500
TZNAME:EST
DTSTART:20271107T060000
END:STANDARD
END:VTIMEZONE
BEGIN:VEVENT
DTSTART;TZID=America/New_York:20260507T210000
DTEND;TZID=America/New_York:20260507T235900
DTSTAMP:20260425T091055
CREATED:20250712T183648Z
LAST-MODIFIED:20251024T233102Z
UID:10006392-1778187600-1778198340@hickorybuzz.com
SUMMARY:Karaoke Night at the Dive Bar
DESCRIPTION:Event: \nHosted by Audible Entertainment\, Dive Bar High Point’s Karaoke Night is the best in Downtown Hickory with great specials and a fun vibe! Doors open at 5pm for all. After 8pm we are 21+ Only. Karaoke starts just after 9pm.
URL:https://hickorybuzz.com/event/karoke-night/2026-05-07/
LOCATION:Dive Bar Hickory\, 117 Government Ave SW\, Hickory\, NC\, 28602\, United States
CATEGORIES:Arts,Live Music
ATTACH;FMTTYPE=image/jpeg:https://hickorybuzz.com/wp-content/uploads/2025/07/Karoke-Night.jpg
ORGANIZER;CN="Dive Bar Hickory":MAILTO:gmhickory@divebarnc.com
END:VEVENT
BEGIN:VEVENT
DTSTART;TZID=America/New_York:20260514T210000
DTEND;TZID=America/New_York:20260514T235900
DTSTAMP:20260425T091055
CREATED:20250712T183648Z
LAST-MODIFIED:20251024T233102Z
UID:10006393-1778792400-1778803140@hickorybuzz.com
SUMMARY:Karaoke Night at the Dive Bar
DESCRIPTION:Event: \nHosted by Audible Entertainment\, Dive Bar High Point’s Karaoke Night is the best in Downtown Hickory with great specials and a fun vibe! Doors open at 5pm for all. After 8pm we are 21+ Only. Karaoke starts just after 9pm.
URL:https://hickorybuzz.com/event/karoke-night/2026-05-14/
LOCATION:Dive Bar Hickory\, 117 Government Ave SW\, Hickory\, NC\, 28602\, United States
CATEGORIES:Arts,Live Music
ATTACH;FMTTYPE=image/jpeg:https://hickorybuzz.com/wp-content/uploads/2025/07/Karoke-Night.jpg
ORGANIZER;CN="Dive Bar Hickory":MAILTO:gmhickory@divebarnc.com
END:VEVENT
BEGIN:VEVENT
DTSTART;TZID=America/New_York:20260521T210000
DTEND;TZID=America/New_York:20260521T235900
DTSTAMP:20260425T091055
CREATED:20250712T183648Z
LAST-MODIFIED:20251024T233102Z
UID:10006394-1779397200-1779407940@hickorybuzz.com
SUMMARY:Karaoke Night at the Dive Bar
DESCRIPTION:Event: \nHosted by Audible Entertainment\, Dive Bar High Point’s Karaoke Night is the best in Downtown Hickory with great specials and a fun vibe! Doors open at 5pm for all. After 8pm we are 21+ Only. Karaoke starts just after 9pm.
URL:https://hickorybuzz.com/event/karoke-night/2026-05-21/
LOCATION:Dive Bar Hickory\, 117 Government Ave SW\, Hickory\, NC\, 28602\, United States
CATEGORIES:Arts,Live Music
ATTACH;FMTTYPE=image/jpeg:https://hickorybuzz.com/wp-content/uploads/2025/07/Karoke-Night.jpg
ORGANIZER;CN="Dive Bar Hickory":MAILTO:gmhickory@divebarnc.com
END:VEVENT
BEGIN:VEVENT
DTSTART;TZID=America/New_York:20260528T210000
DTEND;TZID=America/New_York:20260528T235900
DTSTAMP:20260425T091055
CREATED:20250712T183648Z
LAST-MODIFIED:20251024T233102Z
UID:10006395-1780002000-1780012740@hickorybuzz.com
SUMMARY:Karaoke Night at the Dive Bar
DESCRIPTION:Event: \nHosted by Audible Entertainment\, Dive Bar High Point’s Karaoke Night is the best in Downtown Hickory with great specials and a fun vibe! Doors open at 5pm for all. After 8pm we are 21+ Only. Karaoke starts just after 9pm.
URL:https://hickorybuzz.com/event/karoke-night/2026-05-28/
LOCATION:Dive Bar Hickory\, 117 Government Ave SW\, Hickory\, NC\, 28602\, United States
CATEGORIES:Arts,Live Music
ATTACH;FMTTYPE=image/jpeg:https://hickorybuzz.com/wp-content/uploads/2025/07/Karoke-Night.jpg
ORGANIZER;CN="Dive Bar Hickory":MAILTO:gmhickory@divebarnc.com
END:VEVENT
END:VCALENDAR