BEGIN:VCALENDAR
VERSION:2.0
PRODID:-//Hickory Buzz - ECPv6.15.20//NONSGML v1.0//EN
CALSCALE:GREGORIAN
METHOD:PUBLISH
X-WR-CALNAME:Hickory Buzz
X-ORIGINAL-URL:https://hickorybuzz.com
X-WR-CALDESC:Events for Hickory Buzz
REFRESH-INTERVAL;VALUE=DURATION:PT1H
X-Robots-Tag:noindex
X-PUBLISHED-TTL:PT1H
BEGIN:VTIMEZONE
TZID:America/New_York
BEGIN:DAYLIGHT
TZOFFSETFROM:-0500
TZOFFSETTO:-0400
TZNAME:EDT
DTSTART:20240310T070000
END:DAYLIGHT
BEGIN:STANDARD
TZOFFSETFROM:-0400
TZOFFSETTO:-0500
TZNAME:EST
DTSTART:20241103T060000
END:STANDARD
BEGIN:DAYLIGHT
TZOFFSETFROM:-0500
TZOFFSETTO:-0400
TZNAME:EDT
DTSTART:20250309T070000
END:DAYLIGHT
BEGIN:STANDARD
TZOFFSETFROM:-0400
TZOFFSETTO:-0500
TZNAME:EST
DTSTART:20251102T060000
END:STANDARD
BEGIN:DAYLIGHT
TZOFFSETFROM:-0500
TZOFFSETTO:-0400
TZNAME:EDT
DTSTART:20260308T070000
END:DAYLIGHT
BEGIN:STANDARD
TZOFFSETFROM:-0400
TZOFFSETTO:-0500
TZNAME:EST
DTSTART:20261101T060000
END:STANDARD
BEGIN:DAYLIGHT
TZOFFSETFROM:-0500
TZOFFSETTO:-0400
TZNAME:EDT
DTSTART:20270314T070000
END:DAYLIGHT
BEGIN:STANDARD
TZOFFSETFROM:-0400
TZOFFSETTO:-0500
TZNAME:EST
DTSTART:20271107T060000
END:STANDARD
END:VTIMEZONE
BEGIN:VEVENT
DTSTART;TZID=America/New_York:20260423T210000
DTEND;TZID=America/New_York:20260423T235900
DTSTAMP:20260425T091417
CREATED:20250712T183648Z
LAST-MODIFIED:20251024T233102Z
UID:10006390-1776978000-1776988740@hickorybuzz.com
SUMMARY:Karaoke Night at the Dive Bar
DESCRIPTION:Event: \nHosted by Audible Entertainment\, Dive Bar High Point’s Karaoke Night is the best in Downtown Hickory with great specials and a fun vibe! Doors open at 5pm for all. After 8pm we are 21+ Only. Karaoke starts just after 9pm.
URL:https://hickorybuzz.com/event/karoke-night/2026-04-23/
LOCATION:Dive Bar Hickory\, 117 Government Ave SW\, Hickory\, NC\, 28602\, United States
CATEGORIES:Arts,Live Music
ATTACH;FMTTYPE=image/jpeg:https://hickorybuzz.com/wp-content/uploads/2025/07/Karoke-Night.jpg
ORGANIZER;CN="Dive Bar Hickory":MAILTO:gmhickory@divebarnc.com
END:VEVENT
BEGIN:VEVENT
DTSTART;TZID=America/New_York:20260416T210000
DTEND;TZID=America/New_York:20260416T235900
DTSTAMP:20260425T091417
CREATED:20250712T183648Z
LAST-MODIFIED:20251024T233102Z
UID:10006389-1776373200-1776383940@hickorybuzz.com
SUMMARY:Karaoke Night at the Dive Bar
DESCRIPTION:Event: \nHosted by Audible Entertainment\, Dive Bar High Point’s Karaoke Night is the best in Downtown Hickory with great specials and a fun vibe! Doors open at 5pm for all. After 8pm we are 21+ Only. Karaoke starts just after 9pm.
URL:https://hickorybuzz.com/event/karoke-night/2026-04-16/
LOCATION:Dive Bar Hickory\, 117 Government Ave SW\, Hickory\, NC\, 28602\, United States
CATEGORIES:Arts,Live Music
ATTACH;FMTTYPE=image/jpeg:https://hickorybuzz.com/wp-content/uploads/2025/07/Karoke-Night.jpg
ORGANIZER;CN="Dive Bar Hickory":MAILTO:gmhickory@divebarnc.com
END:VEVENT
BEGIN:VEVENT
DTSTART;TZID=America/New_York:20260409T210000
DTEND;TZID=America/New_York:20260409T235900
DTSTAMP:20260425T091417
CREATED:20250712T183648Z
LAST-MODIFIED:20251024T233102Z
UID:10006388-1775768400-1775779140@hickorybuzz.com
SUMMARY:Karaoke Night at the Dive Bar
DESCRIPTION:Event: \nHosted by Audible Entertainment\, Dive Bar High Point’s Karaoke Night is the best in Downtown Hickory with great specials and a fun vibe! Doors open at 5pm for all. After 8pm we are 21+ Only. Karaoke starts just after 9pm.
URL:https://hickorybuzz.com/event/karoke-night/2026-04-09/
LOCATION:Dive Bar Hickory\, 117 Government Ave SW\, Hickory\, NC\, 28602\, United States
CATEGORIES:Arts,Live Music
ATTACH;FMTTYPE=image/jpeg:https://hickorybuzz.com/wp-content/uploads/2025/07/Karoke-Night.jpg
ORGANIZER;CN="Dive Bar Hickory":MAILTO:gmhickory@divebarnc.com
END:VEVENT
BEGIN:VEVENT
DTSTART;TZID=America/New_York:20260402T210000
DTEND;TZID=America/New_York:20260402T235900
DTSTAMP:20260425T091417
CREATED:20250712T183648Z
LAST-MODIFIED:20251024T233102Z
UID:10006387-1775163600-1775174340@hickorybuzz.com
SUMMARY:Karaoke Night at the Dive Bar
DESCRIPTION:Event: \nHosted by Audible Entertainment\, Dive Bar High Point’s Karaoke Night is the best in Downtown Hickory with great specials and a fun vibe! Doors open at 5pm for all. After 8pm we are 21+ Only. Karaoke starts just after 9pm.
URL:https://hickorybuzz.com/event/karoke-night/2026-04-02/
LOCATION:Dive Bar Hickory\, 117 Government Ave SW\, Hickory\, NC\, 28602\, United States
CATEGORIES:Arts,Live Music
ATTACH;FMTTYPE=image/jpeg:https://hickorybuzz.com/wp-content/uploads/2025/07/Karoke-Night.jpg
ORGANIZER;CN="Dive Bar Hickory":MAILTO:gmhickory@divebarnc.com
END:VEVENT
BEGIN:VEVENT
DTSTART;TZID=America/New_York:20260326T210000
DTEND;TZID=America/New_York:20260326T235900
DTSTAMP:20260425T091417
CREATED:20250712T183648Z
LAST-MODIFIED:20251024T233102Z
UID:10006386-1774558800-1774569540@hickorybuzz.com
SUMMARY:Karaoke Night at the Dive Bar
DESCRIPTION:Event: \nHosted by Audible Entertainment\, Dive Bar High Point’s Karaoke Night is the best in Downtown Hickory with great specials and a fun vibe! Doors open at 5pm for all. After 8pm we are 21+ Only. Karaoke starts just after 9pm.
URL:https://hickorybuzz.com/event/karoke-night/2026-03-26/
LOCATION:Dive Bar Hickory\, 117 Government Ave SW\, Hickory\, NC\, 28602\, United States
CATEGORIES:Arts,Live Music
ATTACH;FMTTYPE=image/jpeg:https://hickorybuzz.com/wp-content/uploads/2025/07/Karoke-Night.jpg
ORGANIZER;CN="Dive Bar Hickory":MAILTO:gmhickory@divebarnc.com
END:VEVENT
BEGIN:VEVENT
DTSTART;TZID=America/New_York:20260319T210000
DTEND;TZID=America/New_York:20260319T235900
DTSTAMP:20260425T091417
CREATED:20250712T183648Z
LAST-MODIFIED:20251024T233102Z
UID:10006385-1773954000-1773964740@hickorybuzz.com
SUMMARY:Karaoke Night at the Dive Bar
DESCRIPTION:Event: \nHosted by Audible Entertainment\, Dive Bar High Point’s Karaoke Night is the best in Downtown Hickory with great specials and a fun vibe! Doors open at 5pm for all. After 8pm we are 21+ Only. Karaoke starts just after 9pm.
URL:https://hickorybuzz.com/event/karoke-night/2026-03-19/
LOCATION:Dive Bar Hickory\, 117 Government Ave SW\, Hickory\, NC\, 28602\, United States
CATEGORIES:Arts,Live Music
ATTACH;FMTTYPE=image/jpeg:https://hickorybuzz.com/wp-content/uploads/2025/07/Karoke-Night.jpg
ORGANIZER;CN="Dive Bar Hickory":MAILTO:gmhickory@divebarnc.com
END:VEVENT
BEGIN:VEVENT
DTSTART;TZID=America/New_York:20260312T210000
DTEND;TZID=America/New_York:20260312T235900
DTSTAMP:20260425T091417
CREATED:20250712T183648Z
LAST-MODIFIED:20251024T233102Z
UID:10006384-1773349200-1773359940@hickorybuzz.com
SUMMARY:Karaoke Night at the Dive Bar
DESCRIPTION:Event: \nHosted by Audible Entertainment\, Dive Bar High Point’s Karaoke Night is the best in Downtown Hickory with great specials and a fun vibe! Doors open at 5pm for all. After 8pm we are 21+ Only. Karaoke starts just after 9pm.
URL:https://hickorybuzz.com/event/karoke-night/2026-03-12/
LOCATION:Dive Bar Hickory\, 117 Government Ave SW\, Hickory\, NC\, 28602\, United States
CATEGORIES:Arts,Live Music
ATTACH;FMTTYPE=image/jpeg:https://hickorybuzz.com/wp-content/uploads/2025/07/Karoke-Night.jpg
ORGANIZER;CN="Dive Bar Hickory":MAILTO:gmhickory@divebarnc.com
END:VEVENT
BEGIN:VEVENT
DTSTART;TZID=America/New_York:20260305T210000
DTEND;TZID=America/New_York:20260305T235900
DTSTAMP:20260425T091417
CREATED:20250712T183648Z
LAST-MODIFIED:20251024T233102Z
UID:10006383-1772744400-1772755140@hickorybuzz.com
SUMMARY:Karaoke Night at the Dive Bar
DESCRIPTION:Event: \nHosted by Audible Entertainment\, Dive Bar High Point’s Karaoke Night is the best in Downtown Hickory with great specials and a fun vibe! Doors open at 5pm for all. After 8pm we are 21+ Only. Karaoke starts just after 9pm.
URL:https://hickorybuzz.com/event/karoke-night/2026-03-05/
LOCATION:Dive Bar Hickory\, 117 Government Ave SW\, Hickory\, NC\, 28602\, United States
CATEGORIES:Arts,Live Music
ATTACH;FMTTYPE=image/jpeg:https://hickorybuzz.com/wp-content/uploads/2025/07/Karoke-Night.jpg
ORGANIZER;CN="Dive Bar Hickory":MAILTO:gmhickory@divebarnc.com
END:VEVENT
BEGIN:VEVENT
DTSTART;TZID=America/New_York:20260226T210000
DTEND;TZID=America/New_York:20260226T235900
DTSTAMP:20260425T091417
CREATED:20250712T183648Z
LAST-MODIFIED:20251024T233102Z
UID:10006382-1772139600-1772150340@hickorybuzz.com
SUMMARY:Karaoke Night at the Dive Bar
DESCRIPTION:Event: \nHosted by Audible Entertainment\, Dive Bar High Point’s Karaoke Night is the best in Downtown Hickory with great specials and a fun vibe! Doors open at 5pm for all. After 8pm we are 21+ Only. Karaoke starts just after 9pm.
URL:https://hickorybuzz.com/event/karoke-night/2026-02-26/
LOCATION:Dive Bar Hickory\, 117 Government Ave SW\, Hickory\, NC\, 28602\, United States
CATEGORIES:Arts,Live Music
ATTACH;FMTTYPE=image/jpeg:https://hickorybuzz.com/wp-content/uploads/2025/07/Karoke-Night.jpg
ORGANIZER;CN="Dive Bar Hickory":MAILTO:gmhickory@divebarnc.com
END:VEVENT
BEGIN:VEVENT
DTSTART;TZID=America/New_York:20260219T210000
DTEND;TZID=America/New_York:20260219T235900
DTSTAMP:20260425T091417
CREATED:20250712T183648Z
LAST-MODIFIED:20251024T233102Z
UID:10006381-1771534800-1771545540@hickorybuzz.com
SUMMARY:Karaoke Night at the Dive Bar
DESCRIPTION:Event: \nHosted by Audible Entertainment\, Dive Bar High Point’s Karaoke Night is the best in Downtown Hickory with great specials and a fun vibe! Doors open at 5pm for all. After 8pm we are 21+ Only. Karaoke starts just after 9pm.
URL:https://hickorybuzz.com/event/karoke-night/2026-02-19/
LOCATION:Dive Bar Hickory\, 117 Government Ave SW\, Hickory\, NC\, 28602\, United States
CATEGORIES:Arts,Live Music
ATTACH;FMTTYPE=image/jpeg:https://hickorybuzz.com/wp-content/uploads/2025/07/Karoke-Night.jpg
ORGANIZER;CN="Dive Bar Hickory":MAILTO:gmhickory@divebarnc.com
END:VEVENT
BEGIN:VEVENT
DTSTART;TZID=America/New_York:20260212T210000
DTEND;TZID=America/New_York:20260212T235900
DTSTAMP:20260425T091417
CREATED:20250712T183648Z
LAST-MODIFIED:20251024T233102Z
UID:10006380-1770930000-1770940740@hickorybuzz.com
SUMMARY:Karaoke Night at the Dive Bar
DESCRIPTION:Event: \nHosted by Audible Entertainment\, Dive Bar High Point’s Karaoke Night is the best in Downtown Hickory with great specials and a fun vibe! Doors open at 5pm for all. After 8pm we are 21+ Only. Karaoke starts just after 9pm.
URL:https://hickorybuzz.com/event/karoke-night/2026-02-12/
LOCATION:Dive Bar Hickory\, 117 Government Ave SW\, Hickory\, NC\, 28602\, United States
CATEGORIES:Arts,Live Music
ATTACH;FMTTYPE=image/jpeg:https://hickorybuzz.com/wp-content/uploads/2025/07/Karoke-Night.jpg
ORGANIZER;CN="Dive Bar Hickory":MAILTO:gmhickory@divebarnc.com
END:VEVENT
BEGIN:VEVENT
DTSTART;TZID=America/New_York:20260205T210000
DTEND;TZID=America/New_York:20260205T235900
DTSTAMP:20260425T091417
CREATED:20250712T183648Z
LAST-MODIFIED:20251024T233102Z
UID:10006379-1770325200-1770335940@hickorybuzz.com
SUMMARY:Karaoke Night at the Dive Bar
DESCRIPTION:Event: \nHosted by Audible Entertainment\, Dive Bar High Point’s Karaoke Night is the best in Downtown Hickory with great specials and a fun vibe! Doors open at 5pm for all. After 8pm we are 21+ Only. Karaoke starts just after 9pm.
URL:https://hickorybuzz.com/event/karoke-night/2026-02-05/
LOCATION:Dive Bar Hickory\, 117 Government Ave SW\, Hickory\, NC\, 28602\, United States
CATEGORIES:Arts,Live Music
ATTACH;FMTTYPE=image/jpeg:https://hickorybuzz.com/wp-content/uploads/2025/07/Karoke-Night.jpg
ORGANIZER;CN="Dive Bar Hickory":MAILTO:gmhickory@divebarnc.com
END:VEVENT
BEGIN:VEVENT
DTSTART;TZID=America/New_York:20260129T210000
DTEND;TZID=America/New_York:20260129T235900
DTSTAMP:20260425T091417
CREATED:20250712T183648Z
LAST-MODIFIED:20251024T233102Z
UID:10006378-1769720400-1769731140@hickorybuzz.com
SUMMARY:Karaoke Night at the Dive Bar
DESCRIPTION:Event: \nHosted by Audible Entertainment\, Dive Bar High Point’s Karaoke Night is the best in Downtown Hickory with great specials and a fun vibe! Doors open at 5pm for all. After 8pm we are 21+ Only. Karaoke starts just after 9pm.
URL:https://hickorybuzz.com/event/karoke-night/2026-01-29/
LOCATION:Dive Bar Hickory\, 117 Government Ave SW\, Hickory\, NC\, 28602\, United States
CATEGORIES:Arts,Live Music
ATTACH;FMTTYPE=image/jpeg:https://hickorybuzz.com/wp-content/uploads/2025/07/Karoke-Night.jpg
ORGANIZER;CN="Dive Bar Hickory":MAILTO:gmhickory@divebarnc.com
END:VEVENT
BEGIN:VEVENT
DTSTART;TZID=America/New_York:20260122T210000
DTEND;TZID=America/New_York:20260122T235900
DTSTAMP:20260425T091417
CREATED:20250712T183648Z
LAST-MODIFIED:20251024T233102Z
UID:10006377-1769115600-1769126340@hickorybuzz.com
SUMMARY:Karaoke Night at the Dive Bar
DESCRIPTION:Event: \nHosted by Audible Entertainment\, Dive Bar High Point’s Karaoke Night is the best in Downtown Hickory with great specials and a fun vibe! Doors open at 5pm for all. After 8pm we are 21+ Only. Karaoke starts just after 9pm.
URL:https://hickorybuzz.com/event/karoke-night/2026-01-22/
LOCATION:Dive Bar Hickory\, 117 Government Ave SW\, Hickory\, NC\, 28602\, United States
CATEGORIES:Arts,Live Music
ATTACH;FMTTYPE=image/jpeg:https://hickorybuzz.com/wp-content/uploads/2025/07/Karoke-Night.jpg
ORGANIZER;CN="Dive Bar Hickory":MAILTO:gmhickory@divebarnc.com
END:VEVENT
BEGIN:VEVENT
DTSTART;TZID=America/New_York:20260115T210000
DTEND;TZID=America/New_York:20260115T235900
DTSTAMP:20260425T091417
CREATED:20250712T183648Z
LAST-MODIFIED:20251024T233102Z
UID:10006376-1768510800-1768521540@hickorybuzz.com
SUMMARY:Karaoke Night at the Dive Bar
DESCRIPTION:Event: \nHosted by Audible Entertainment\, Dive Bar High Point’s Karaoke Night is the best in Downtown Hickory with great specials and a fun vibe! Doors open at 5pm for all. After 8pm we are 21+ Only. Karaoke starts just after 9pm.
URL:https://hickorybuzz.com/event/karoke-night/2026-01-15/
LOCATION:Dive Bar Hickory\, 117 Government Ave SW\, Hickory\, NC\, 28602\, United States
CATEGORIES:Arts,Live Music
ATTACH;FMTTYPE=image/jpeg:https://hickorybuzz.com/wp-content/uploads/2025/07/Karoke-Night.jpg
ORGANIZER;CN="Dive Bar Hickory":MAILTO:gmhickory@divebarnc.com
END:VEVENT
BEGIN:VEVENT
DTSTART;TZID=America/New_York:20260108T210000
DTEND;TZID=America/New_York:20260108T235900
DTSTAMP:20260425T091417
CREATED:20250712T183648Z
LAST-MODIFIED:20251024T233102Z
UID:10006375-1767906000-1767916740@hickorybuzz.com
SUMMARY:Karaoke Night at the Dive Bar
DESCRIPTION:Event: \nHosted by Audible Entertainment\, Dive Bar High Point’s Karaoke Night is the best in Downtown Hickory with great specials and a fun vibe! Doors open at 5pm for all. After 8pm we are 21+ Only. Karaoke starts just after 9pm.
URL:https://hickorybuzz.com/event/karoke-night/2026-01-08/
LOCATION:Dive Bar Hickory\, 117 Government Ave SW\, Hickory\, NC\, 28602\, United States
CATEGORIES:Arts,Live Music
ATTACH;FMTTYPE=image/jpeg:https://hickorybuzz.com/wp-content/uploads/2025/07/Karoke-Night.jpg
ORGANIZER;CN="Dive Bar Hickory":MAILTO:gmhickory@divebarnc.com
END:VEVENT
BEGIN:VEVENT
DTSTART;TZID=America/New_York:20260101T210000
DTEND;TZID=America/New_York:20260101T235900
DTSTAMP:20260425T091417
CREATED:20250712T183648Z
LAST-MODIFIED:20251024T233102Z
UID:10006374-1767301200-1767311940@hickorybuzz.com
SUMMARY:Karaoke Night at the Dive Bar
DESCRIPTION:Event: \nHosted by Audible Entertainment\, Dive Bar High Point’s Karaoke Night is the best in Downtown Hickory with great specials and a fun vibe! Doors open at 5pm for all. After 8pm we are 21+ Only. Karaoke starts just after 9pm.
URL:https://hickorybuzz.com/event/karoke-night/2026-01-01/
LOCATION:Dive Bar Hickory\, 117 Government Ave SW\, Hickory\, NC\, 28602\, United States
CATEGORIES:Arts,Live Music
ATTACH;FMTTYPE=image/jpeg:https://hickorybuzz.com/wp-content/uploads/2025/07/Karoke-Night.jpg
ORGANIZER;CN="Dive Bar Hickory":MAILTO:gmhickory@divebarnc.com
END:VEVENT
BEGIN:VEVENT
DTSTART;TZID=America/New_York:20251225T210000
DTEND;TZID=America/New_York:20251225T235900
DTSTAMP:20260425T091417
CREATED:20250712T183648Z
LAST-MODIFIED:20251024T233102Z
UID:10006373-1766696400-1766707140@hickorybuzz.com
SUMMARY:Karaoke Night at the Dive Bar
DESCRIPTION:Event: \nHosted by Audible Entertainment\, Dive Bar High Point’s Karaoke Night is the best in Downtown Hickory with great specials and a fun vibe! Doors open at 5pm for all. After 8pm we are 21+ Only. Karaoke starts just after 9pm.
URL:https://hickorybuzz.com/event/karoke-night/2025-12-25/
LOCATION:Dive Bar Hickory\, 117 Government Ave SW\, Hickory\, NC\, 28602\, United States
CATEGORIES:Arts,Live Music
ATTACH;FMTTYPE=image/jpeg:https://hickorybuzz.com/wp-content/uploads/2025/07/Karoke-Night.jpg
ORGANIZER;CN="Dive Bar Hickory":MAILTO:gmhickory@divebarnc.com
END:VEVENT
BEGIN:VEVENT
DTSTART;TZID=America/New_York:20251218T210000
DTEND;TZID=America/New_York:20251218T235900
DTSTAMP:20260425T091417
CREATED:20250712T183648Z
LAST-MODIFIED:20251024T233102Z
UID:10006372-1766091600-1766102340@hickorybuzz.com
SUMMARY:Karaoke Night at the Dive Bar
DESCRIPTION:Event: \nHosted by Audible Entertainment\, Dive Bar High Point’s Karaoke Night is the best in Downtown Hickory with great specials and a fun vibe! Doors open at 5pm for all. After 8pm we are 21+ Only. Karaoke starts just after 9pm.
URL:https://hickorybuzz.com/event/karoke-night/2025-12-18/
LOCATION:Dive Bar Hickory\, 117 Government Ave SW\, Hickory\, NC\, 28602\, United States
CATEGORIES:Arts,Live Music
ATTACH;FMTTYPE=image/jpeg:https://hickorybuzz.com/wp-content/uploads/2025/07/Karoke-Night.jpg
ORGANIZER;CN="Dive Bar Hickory":MAILTO:gmhickory@divebarnc.com
END:VEVENT
BEGIN:VEVENT
DTSTART;TZID=America/New_York:20251211T210000
DTEND;TZID=America/New_York:20251211T235900
DTSTAMP:20260425T091417
CREATED:20250712T183648Z
LAST-MODIFIED:20251024T233102Z
UID:10006371-1765486800-1765497540@hickorybuzz.com
SUMMARY:Karaoke Night at the Dive Bar
DESCRIPTION:Event: \nHosted by Audible Entertainment\, Dive Bar High Point’s Karaoke Night is the best in Downtown Hickory with great specials and a fun vibe! Doors open at 5pm for all. After 8pm we are 21+ Only. Karaoke starts just after 9pm.
URL:https://hickorybuzz.com/event/karoke-night/2025-12-11/
LOCATION:Dive Bar Hickory\, 117 Government Ave SW\, Hickory\, NC\, 28602\, United States
CATEGORIES:Arts,Live Music
ATTACH;FMTTYPE=image/jpeg:https://hickorybuzz.com/wp-content/uploads/2025/07/Karoke-Night.jpg
ORGANIZER;CN="Dive Bar Hickory":MAILTO:gmhickory@divebarnc.com
END:VEVENT
BEGIN:VEVENT
DTSTART;TZID=America/New_York:20251204T210000
DTEND;TZID=America/New_York:20251204T235900
DTSTAMP:20260425T091417
CREATED:20250712T183648Z
LAST-MODIFIED:20251024T233102Z
UID:10006370-1764882000-1764892740@hickorybuzz.com
SUMMARY:Karaoke Night at the Dive Bar
DESCRIPTION:Event: \nHosted by Audible Entertainment\, Dive Bar High Point’s Karaoke Night is the best in Downtown Hickory with great specials and a fun vibe! Doors open at 5pm for all. After 8pm we are 21+ Only. Karaoke starts just after 9pm.
URL:https://hickorybuzz.com/event/karoke-night/2025-12-04/
LOCATION:Dive Bar Hickory\, 117 Government Ave SW\, Hickory\, NC\, 28602\, United States
CATEGORIES:Arts,Live Music
ATTACH;FMTTYPE=image/jpeg:https://hickorybuzz.com/wp-content/uploads/2025/07/Karoke-Night.jpg
ORGANIZER;CN="Dive Bar Hickory":MAILTO:gmhickory@divebarnc.com
END:VEVENT
BEGIN:VEVENT
DTSTART;TZID=America/New_York:20251127T210000
DTEND;TZID=America/New_York:20251127T235900
DTSTAMP:20260425T091417
CREATED:20250712T183648Z
LAST-MODIFIED:20251024T233102Z
UID:10006369-1764277200-1764287940@hickorybuzz.com
SUMMARY:Karaoke Night at the Dive Bar
DESCRIPTION:Event: \nHosted by Audible Entertainment\, Dive Bar High Point’s Karaoke Night is the best in Downtown Hickory with great specials and a fun vibe! Doors open at 5pm for all. After 8pm we are 21+ Only. Karaoke starts just after 9pm.
URL:https://hickorybuzz.com/event/karoke-night/2025-11-27/
LOCATION:Dive Bar Hickory\, 117 Government Ave SW\, Hickory\, NC\, 28602\, United States
CATEGORIES:Arts,Live Music
ATTACH;FMTTYPE=image/jpeg:https://hickorybuzz.com/wp-content/uploads/2025/07/Karoke-Night.jpg
ORGANIZER;CN="Dive Bar Hickory":MAILTO:gmhickory@divebarnc.com
END:VEVENT
BEGIN:VEVENT
DTSTART;TZID=America/New_York:20251120T210000
DTEND;TZID=America/New_York:20251120T235900
DTSTAMP:20260425T091417
CREATED:20250712T183648Z
LAST-MODIFIED:20251024T233102Z
UID:10006368-1763672400-1763683140@hickorybuzz.com
SUMMARY:Karaoke Night at the Dive Bar
DESCRIPTION:Event: \nHosted by Audible Entertainment\, Dive Bar High Point’s Karaoke Night is the best in Downtown Hickory with great specials and a fun vibe! Doors open at 5pm for all. After 8pm we are 21+ Only. Karaoke starts just after 9pm.
URL:https://hickorybuzz.com/event/karoke-night/2025-11-20/
LOCATION:Dive Bar Hickory\, 117 Government Ave SW\, Hickory\, NC\, 28602\, United States
CATEGORIES:Arts,Live Music
ATTACH;FMTTYPE=image/jpeg:https://hickorybuzz.com/wp-content/uploads/2025/07/Karoke-Night.jpg
ORGANIZER;CN="Dive Bar Hickory":MAILTO:gmhickory@divebarnc.com
END:VEVENT
BEGIN:VEVENT
DTSTART;TZID=America/New_York:20251120T180000
DTEND;TZID=America/New_York:20251120T210000
DTSTAMP:20260425T091417
CREATED:20251029T232412Z
LAST-MODIFIED:20251102T174056Z
UID:10012982-1763661600-1763672400@hickorybuzz.com
SUMMARY:Karaoke & Singo
DESCRIPTION:Every Thursday\, 6 to 9 PM\, join us by the lake for Karaoke + Music Bingo. Settle in under the lights\, sing along\, and play while you enjoy great food and drinks. We roll out new specials every month\, so there is always something fresh to enjoy. Bring your crew and make it a lakeside night out at Copper Penny Grill.
URL:https://hickorybuzz.com/event/karaoke-singo/2025-11-20/
LOCATION:Copper Penny Grill Lake Hickory\, 101 Catawba Avenue\, Hickory\, NC\, 28601\, United States
CATEGORIES:Entertainment,Live Music,Nightlife
ATTACH;FMTTYPE=image/jpeg:https://hickorybuzz.com/wp-content/uploads/2025/10/Copper-Penny-Karaoke-Singo.avif
ORGANIZER;CN="Copper Penny Grill Lake Hickory":MAILTO:copperpennygrill@yahoo.com
END:VEVENT
BEGIN:VEVENT
DTSTART;TZID=America/New_York:20251113T210000
DTEND;TZID=America/New_York:20251113T235900
DTSTAMP:20260425T091418
CREATED:20250712T183648Z
LAST-MODIFIED:20251024T233102Z
UID:10006367-1763067600-1763078340@hickorybuzz.com
SUMMARY:Karaoke Night at the Dive Bar
DESCRIPTION:Event: \nHosted by Audible Entertainment\, Dive Bar High Point’s Karaoke Night is the best in Downtown Hickory with great specials and a fun vibe! Doors open at 5pm for all. After 8pm we are 21+ Only. Karaoke starts just after 9pm.
URL:https://hickorybuzz.com/event/karoke-night/2025-11-13/
LOCATION:Dive Bar Hickory\, 117 Government Ave SW\, Hickory\, NC\, 28602\, United States
CATEGORIES:Arts,Live Music
ATTACH;FMTTYPE=image/jpeg:https://hickorybuzz.com/wp-content/uploads/2025/07/Karoke-Night.jpg
ORGANIZER;CN="Dive Bar Hickory":MAILTO:gmhickory@divebarnc.com
END:VEVENT
BEGIN:VEVENT
DTSTART;TZID=America/New_York:20251113T180000
DTEND;TZID=America/New_York:20251113T210000
DTSTAMP:20260425T091418
CREATED:20251029T232412Z
LAST-MODIFIED:20251102T174056Z
UID:10012981-1763056800-1763067600@hickorybuzz.com
SUMMARY:Karaoke & Singo
DESCRIPTION:Every Thursday\, 6 to 9 PM\, join us by the lake for Karaoke + Music Bingo. Settle in under the lights\, sing along\, and play while you enjoy great food and drinks. We roll out new specials every month\, so there is always something fresh to enjoy. Bring your crew and make it a lakeside night out at Copper Penny Grill.
URL:https://hickorybuzz.com/event/karaoke-singo/2025-11-13/
LOCATION:Copper Penny Grill Lake Hickory\, 101 Catawba Avenue\, Hickory\, NC\, 28601\, United States
CATEGORIES:Entertainment,Live Music,Nightlife
ATTACH;FMTTYPE=image/jpeg:https://hickorybuzz.com/wp-content/uploads/2025/10/Copper-Penny-Karaoke-Singo.avif
ORGANIZER;CN="Copper Penny Grill Lake Hickory":MAILTO:copperpennygrill@yahoo.com
END:VEVENT
BEGIN:VEVENT
DTSTART;TZID=America/New_York:20251106T210000
DTEND;TZID=America/New_York:20251106T235900
DTSTAMP:20260425T091418
CREATED:20250712T183648Z
LAST-MODIFIED:20251024T233102Z
UID:10006366-1762462800-1762473540@hickorybuzz.com
SUMMARY:Karaoke Night at the Dive Bar
DESCRIPTION:Event: \nHosted by Audible Entertainment\, Dive Bar High Point’s Karaoke Night is the best in Downtown Hickory with great specials and a fun vibe! Doors open at 5pm for all. After 8pm we are 21+ Only. Karaoke starts just after 9pm.
URL:https://hickorybuzz.com/event/karoke-night/2025-11-06/
LOCATION:Dive Bar Hickory\, 117 Government Ave SW\, Hickory\, NC\, 28602\, United States
CATEGORIES:Arts,Live Music
ATTACH;FMTTYPE=image/jpeg:https://hickorybuzz.com/wp-content/uploads/2025/07/Karoke-Night.jpg
ORGANIZER;CN="Dive Bar Hickory":MAILTO:gmhickory@divebarnc.com
END:VEVENT
BEGIN:VEVENT
DTSTART;TZID=America/New_York:20251106T180000
DTEND;TZID=America/New_York:20251106T210000
DTSTAMP:20260425T091418
CREATED:20251029T232412Z
LAST-MODIFIED:20251102T174056Z
UID:10012980-1762452000-1762462800@hickorybuzz.com
SUMMARY:Karaoke & Singo
DESCRIPTION:Every Thursday\, 6 to 9 PM\, join us by the lake for Karaoke + Music Bingo. Settle in under the lights\, sing along\, and play while you enjoy great food and drinks. We roll out new specials every month\, so there is always something fresh to enjoy. Bring your crew and make it a lakeside night out at Copper Penny Grill.
URL:https://hickorybuzz.com/event/karaoke-singo/2025-11-06/
LOCATION:Copper Penny Grill Lake Hickory\, 101 Catawba Avenue\, Hickory\, NC\, 28601\, United States
CATEGORIES:Entertainment,Live Music,Nightlife
ATTACH;FMTTYPE=image/jpeg:https://hickorybuzz.com/wp-content/uploads/2025/10/Copper-Penny-Karaoke-Singo.avif
ORGANIZER;CN="Copper Penny Grill Lake Hickory":MAILTO:copperpennygrill@yahoo.com
END:VEVENT
BEGIN:VEVENT
DTSTART;TZID=America/New_York:20251030T210000
DTEND;TZID=America/New_York:20251030T235900
DTSTAMP:20260425T091418
CREATED:20250712T183648Z
LAST-MODIFIED:20251024T233102Z
UID:10006365-1761858000-1761868740@hickorybuzz.com
SUMMARY:Karaoke Night at the Dive Bar
DESCRIPTION:Event: \nHosted by Audible Entertainment\, Dive Bar High Point’s Karaoke Night is the best in Downtown Hickory with great specials and a fun vibe! Doors open at 5pm for all. After 8pm we are 21+ Only. Karaoke starts just after 9pm.
URL:https://hickorybuzz.com/event/karoke-night/2025-10-30/
LOCATION:Dive Bar Hickory\, 117 Government Ave SW\, Hickory\, NC\, 28602\, United States
CATEGORIES:Arts,Live Music
ATTACH;FMTTYPE=image/jpeg:https://hickorybuzz.com/wp-content/uploads/2025/07/Karoke-Night.jpg
ORGANIZER;CN="Dive Bar Hickory":MAILTO:gmhickory@divebarnc.com
END:VEVENT
BEGIN:VEVENT
DTSTART;TZID=America/New_York:20251030T180000
DTEND;TZID=America/New_York:20251030T210000
DTSTAMP:20260425T091418
CREATED:20251029T232412Z
LAST-MODIFIED:20251102T174056Z
UID:10012979-1761847200-1761858000@hickorybuzz.com
SUMMARY:Karaoke & Singo
DESCRIPTION:Every Thursday\, 6 to 9 PM\, join us by the lake for Karaoke + Music Bingo. Settle in under the lights\, sing along\, and play while you enjoy great food and drinks. We roll out new specials every month\, so there is always something fresh to enjoy. Bring your crew and make it a lakeside night out at Copper Penny Grill.
URL:https://hickorybuzz.com/event/karaoke-singo/2025-10-30/
LOCATION:Copper Penny Grill Lake Hickory\, 101 Catawba Avenue\, Hickory\, NC\, 28601\, United States
CATEGORIES:Entertainment,Live Music,Nightlife
ATTACH;FMTTYPE=image/jpeg:https://hickorybuzz.com/wp-content/uploads/2025/10/Copper-Penny-Karaoke-Singo.avif
ORGANIZER;CN="Copper Penny Grill Lake Hickory":MAILTO:copperpennygrill@yahoo.com
END:VEVENT
END:VCALENDAR