BEGIN:VCALENDAR
VERSION:2.0
PRODID:-//Hickory Buzz - ECPv6.15.20//NONSGML v1.0//EN
CALSCALE:GREGORIAN
METHOD:PUBLISH
X-WR-CALNAME:Hickory Buzz
X-ORIGINAL-URL:https://hickorybuzz.com
X-WR-CALDESC:Events for Hickory Buzz
REFRESH-INTERVAL;VALUE=DURATION:PT1H
X-Robots-Tag:noindex
X-PUBLISHED-TTL:PT1H
BEGIN:VTIMEZONE
TZID:America/New_York
BEGIN:DAYLIGHT
TZOFFSETFROM:-0500
TZOFFSETTO:-0400
TZNAME:EDT
DTSTART:20250309T070000
END:DAYLIGHT
BEGIN:STANDARD
TZOFFSETFROM:-0400
TZOFFSETTO:-0500
TZNAME:EST
DTSTART:20251102T060000
END:STANDARD
BEGIN:DAYLIGHT
TZOFFSETFROM:-0500
TZOFFSETTO:-0400
TZNAME:EDT
DTSTART:20260308T070000
END:DAYLIGHT
BEGIN:STANDARD
TZOFFSETFROM:-0400
TZOFFSETTO:-0500
TZNAME:EST
DTSTART:20261101T060000
END:STANDARD
BEGIN:DAYLIGHT
TZOFFSETFROM:-0500
TZOFFSETTO:-0400
TZNAME:EDT
DTSTART:20270314T070000
END:DAYLIGHT
BEGIN:STANDARD
TZOFFSETFROM:-0400
TZOFFSETTO:-0500
TZNAME:EST
DTSTART:20271107T060000
END:STANDARD
END:VTIMEZONE
BEGIN:VEVENT
DTSTART;TZID=America/New_York:20260806T170000
DTEND;TZID=America/New_York:20260806T190000
DTSTAMP:20260425T083140
CREATED:20251017T154749Z
LAST-MODIFIED:20251017T154749Z
UID:10011851-1786035600-1786042800@hickorybuzz.com
SUMMARY:Monthly Journaling Club Hickory Musuem of Art
DESCRIPTION:Event: \nJoin us at The Shuford House & Gardens for our monthly Journaling Club\, now held the first Thursday of every month during L.A.T.E. Night Thursdays. \nOur open-studio style session is perfect for journaling\, collage\, and creative exploration—all materials provided. Bring your favorite journal (or start a new one!) and fill it with sketches\, collages\, paintings\, inspiration\, and more.
URL:https://hickorybuzz.com/event/monthly-journaling-club-hickory-musuem-of-art/2026-08-06/
LOCATION:The Shuford House & Gardens\, 534 3rd Ave NW B\, Hickory\, 28601\, United States
CATEGORIES:Arts,Classes/Courses,Open House
ATTACH;FMTTYPE=image/jpeg:https://hickorybuzz.com/wp-content/uploads/2025/10/Monthly-Journaling-Club-Hickory-Musuem-of-Art.avif
ORGANIZER;CN="Hickory Musuem of Art":MAILTO:info@hickoryart.org
END:VEVENT
END:VCALENDAR