BEGIN:VCALENDAR
VERSION:2.0
PRODID:-//Hickory Buzz - ECPv6.15.20//NONSGML v1.0//EN
CALSCALE:GREGORIAN
METHOD:PUBLISH
X-ORIGINAL-URL:https://hickorybuzz.com
X-WR-CALDESC:Events for Hickory Buzz
REFRESH-INTERVAL;VALUE=DURATION:PT1H
X-Robots-Tag:noindex
X-PUBLISHED-TTL:PT1H
BEGIN:VTIMEZONE
TZID:America/New_York
BEGIN:DAYLIGHT
TZOFFSETFROM:-0500
TZOFFSETTO:-0400
TZNAME:EDT
DTSTART:20250309T070000
END:DAYLIGHT
BEGIN:STANDARD
TZOFFSETFROM:-0400
TZOFFSETTO:-0500
TZNAME:EST
DTSTART:20251102T060000
END:STANDARD
BEGIN:DAYLIGHT
TZOFFSETFROM:-0500
TZOFFSETTO:-0400
TZNAME:EDT
DTSTART:20260308T070000
END:DAYLIGHT
BEGIN:STANDARD
TZOFFSETFROM:-0400
TZOFFSETTO:-0500
TZNAME:EST
DTSTART:20261101T060000
END:STANDARD
BEGIN:DAYLIGHT
TZOFFSETFROM:-0500
TZOFFSETTO:-0400
TZNAME:EDT
DTSTART:20270314T070000
END:DAYLIGHT
BEGIN:STANDARD
TZOFFSETFROM:-0400
TZOFFSETTO:-0500
TZNAME:EST
DTSTART:20271107T060000
END:STANDARD
END:VTIMEZONE
BEGIN:VEVENT
DTSTART;TZID=America/New_York:20260506T170000
DTEND;TZID=America/New_York:20260506T180000
DTSTAMP:20260425T092857
CREATED:20250801T175833Z
LAST-MODIFIED:20250805T200946Z
UID:10008045-1778086800-1778090400@hickorybuzz.com
SUMMARY:Hickory\, Catawba County Coin Club Meeting
DESCRIPTION:Event: \nJoin the Hickory\, Catawba County Coin Club Monthly Meeting. A place to gather\, talk about\, trade and buy coins!Includes Guest Speakers and Coin Education.Everyone welcome\, no cost.
URL:https://hickorybuzz.com/event/hickory-catawba-county-coin-club-meeting-2/2026-05-06/
LOCATION:Gold & Silver Assay & Jewelry Company\, 1612 2nd Ave NW\, Hickory\, NC\, 28601\, United States
CATEGORIES:Classes/Courses,Community,Education,Kids & Family,Retail
ATTACH;FMTTYPE=image/jpeg:https://hickorybuzz.com/wp-content/uploads/2025/08/Hickory-Catawba-County-Coin-Club-Meeting.jpg
ORGANIZER;CN="Gold & Silver Assay & Jewelry Company":MAILTO:thegoldassay@gmail.com
END:VEVENT
BEGIN:VEVENT
DTSTART;TZID=America/New_York:20260509T090000
DTEND;TZID=America/New_York:20260509T120000
DTSTAMP:20260425T092857
CREATED:20260420T140226Z
LAST-MODIFIED:20260420T140226Z
UID:10019387-1778317200-1778328000@hickorybuzz.com
SUMMARY:Paper Making Class
DESCRIPTION:Learn the ancient tradition of paper-making! Millenia old in China and Europe\, the first American paper mill was established in 1690 in Pennsylvania. Learn how this eco-friendly craft can help us “upcycle” used paper products\, and even fabric\, to create one-of-a-kind art pieces. \nIn this workshop\, you’ll participate in the process of making paper pulp and straining it through a deckle to create unique hand-made paper. You’ll come home with your own sheets that can be used for card-making\, crafts\, and correspondence! The instructor will also demonstrate “pulp painting\,” a way you can customize your paper by adding color and pattern before a sheet is complete. Dried flowers\, metallic threads\, and other add-ins will be on hand… feel free to bring your own contributions for a truly special piece. \n\nApron or smock recommended.
URL:https://hickorybuzz.com/event/paper-making-class/
LOCATION:Hart Square Village\, 5055 Hope Road\, Vale\, NC\, 28168\, United States
CATEGORIES:Classes/Courses
ATTACH;FMTTYPE=image/png:https://hickorybuzz.com/wp-content/uploads/2026/04/Paper-Making-Class.png
END:VEVENT
END:VCALENDAR