BEGIN:VCALENDAR
VERSION:2.0
PRODID:-//Hickory Buzz - ECPv6.15.20//NONSGML v1.0//EN
CALSCALE:GREGORIAN
METHOD:PUBLISH
X-ORIGINAL-URL:https://hickorybuzz.com
X-WR-CALDESC:Events for Hickory Buzz
REFRESH-INTERVAL;VALUE=DURATION:PT1H
X-Robots-Tag:noindex
X-PUBLISHED-TTL:PT1H
BEGIN:VTIMEZONE
TZID:America/New_York
BEGIN:DAYLIGHT
TZOFFSETFROM:-0500
TZOFFSETTO:-0400
TZNAME:EDT
DTSTART:20250309T070000
END:DAYLIGHT
BEGIN:STANDARD
TZOFFSETFROM:-0400
TZOFFSETTO:-0500
TZNAME:EST
DTSTART:20251102T060000
END:STANDARD
BEGIN:DAYLIGHT
TZOFFSETFROM:-0500
TZOFFSETTO:-0400
TZNAME:EDT
DTSTART:20260308T070000
END:DAYLIGHT
BEGIN:STANDARD
TZOFFSETFROM:-0400
TZOFFSETTO:-0500
TZNAME:EST
DTSTART:20261101T060000
END:STANDARD
BEGIN:DAYLIGHT
TZOFFSETFROM:-0500
TZOFFSETTO:-0400
TZNAME:EDT
DTSTART:20270314T070000
END:DAYLIGHT
BEGIN:STANDARD
TZOFFSETFROM:-0400
TZOFFSETTO:-0500
TZNAME:EST
DTSTART:20271107T060000
END:STANDARD
END:VTIMEZONE
BEGIN:VEVENT
DTSTART;TZID=America/New_York:20260429T130000
DTEND;TZID=America/New_York:20260429T140000
DTSTAMP:20260425T153827
CREATED:20260120T050345Z
LAST-MODIFIED:20260120T050345Z
UID:10016302-1777467600-1777471200@hickorybuzz.com
SUMMARY:Pint Size Picassos
DESCRIPTION:Our pint-sized Picasso takes on a new adventure at our temporary location inside Valley Hills Mall (#209\, 2nd floor\, beside American Eagle). Young children and their favorite grown-up are introduced to art\, the Museum\, and how they work together to cultivate creativity. Each class will focus on a new book and artwork to go along with the book. \nTo register\, contact Karla Starnes at kstarnes@hickoryart.org. \nLocation: HMA Satellite Location at Valley Hills Mall #209\n3 – 5 Years with Accompanying Adult\n$15; $10 Members; Adults free
URL:https://hickorybuzz.com/event/pint-size-picassos/2026-04-29/
LOCATION:Valley Hills Mall\, 1960 US Hwy 70 SE\, Hickory\, NC\, 28602\, United States
CATEGORIES:Arts,Classes/Courses,Kids & Family
ATTACH;FMTTYPE=image/png:https://hickorybuzz.com/wp-content/uploads/2026/01/Pint-Size-Picassos.avif
ORGANIZER;CN="Hickory Museum of Art":MAILTO:info@hickoryart.org
END:VEVENT
BEGIN:VEVENT
DTSTART;TZID=America/New_York:20260506T130000
DTEND;TZID=America/New_York:20260506T140000
DTSTAMP:20260425T153827
CREATED:20260120T050345Z
LAST-MODIFIED:20260120T050345Z
UID:10016303-1778072400-1778076000@hickorybuzz.com
SUMMARY:Pint Size Picassos
DESCRIPTION:Our pint-sized Picasso takes on a new adventure at our temporary location inside Valley Hills Mall (#209\, 2nd floor\, beside American Eagle). Young children and their favorite grown-up are introduced to art\, the Museum\, and how they work together to cultivate creativity. Each class will focus on a new book and artwork to go along with the book. \nTo register\, contact Karla Starnes at kstarnes@hickoryart.org. \nLocation: HMA Satellite Location at Valley Hills Mall #209\n3 – 5 Years with Accompanying Adult\n$15; $10 Members; Adults free
URL:https://hickorybuzz.com/event/pint-size-picassos/2026-05-06/
LOCATION:Valley Hills Mall\, 1960 US Hwy 70 SE\, Hickory\, NC\, 28602\, United States
CATEGORIES:Arts,Classes/Courses,Kids & Family
ATTACH;FMTTYPE=image/png:https://hickorybuzz.com/wp-content/uploads/2026/01/Pint-Size-Picassos.avif
ORGANIZER;CN="Hickory Museum of Art":MAILTO:info@hickoryart.org
END:VEVENT
BEGIN:VEVENT
DTSTART;TZID=America/New_York:20260513T130000
DTEND;TZID=America/New_York:20260513T140000
DTSTAMP:20260425T153827
CREATED:20260120T050345Z
LAST-MODIFIED:20260120T050345Z
UID:10016304-1778677200-1778680800@hickorybuzz.com
SUMMARY:Pint Size Picassos
DESCRIPTION:Our pint-sized Picasso takes on a new adventure at our temporary location inside Valley Hills Mall (#209\, 2nd floor\, beside American Eagle). Young children and their favorite grown-up are introduced to art\, the Museum\, and how they work together to cultivate creativity. Each class will focus on a new book and artwork to go along with the book. \nTo register\, contact Karla Starnes at kstarnes@hickoryart.org. \nLocation: HMA Satellite Location at Valley Hills Mall #209\n3 – 5 Years with Accompanying Adult\n$15; $10 Members; Adults free
URL:https://hickorybuzz.com/event/pint-size-picassos/2026-05-13/
LOCATION:Valley Hills Mall\, 1960 US Hwy 70 SE\, Hickory\, NC\, 28602\, United States
CATEGORIES:Arts,Classes/Courses,Kids & Family
ATTACH;FMTTYPE=image/png:https://hickorybuzz.com/wp-content/uploads/2026/01/Pint-Size-Picassos.avif
ORGANIZER;CN="Hickory Museum of Art":MAILTO:info@hickoryart.org
END:VEVENT
BEGIN:VEVENT
DTSTART;TZID=America/New_York:20260520T130000
DTEND;TZID=America/New_York:20260520T140000
DTSTAMP:20260425T153827
CREATED:20260120T050345Z
LAST-MODIFIED:20260120T050345Z
UID:10016305-1779282000-1779285600@hickorybuzz.com
SUMMARY:Pint Size Picassos
DESCRIPTION:Our pint-sized Picasso takes on a new adventure at our temporary location inside Valley Hills Mall (#209\, 2nd floor\, beside American Eagle). Young children and their favorite grown-up are introduced to art\, the Museum\, and how they work together to cultivate creativity. Each class will focus on a new book and artwork to go along with the book. \nTo register\, contact Karla Starnes at kstarnes@hickoryart.org. \nLocation: HMA Satellite Location at Valley Hills Mall #209\n3 – 5 Years with Accompanying Adult\n$15; $10 Members; Adults free
URL:https://hickorybuzz.com/event/pint-size-picassos/2026-05-20/
LOCATION:Valley Hills Mall\, 1960 US Hwy 70 SE\, Hickory\, NC\, 28602\, United States
CATEGORIES:Arts,Classes/Courses,Kids & Family
ATTACH;FMTTYPE=image/png:https://hickorybuzz.com/wp-content/uploads/2026/01/Pint-Size-Picassos.avif
ORGANIZER;CN="Hickory Museum of Art":MAILTO:info@hickoryart.org
END:VEVENT
END:VCALENDAR