BEGIN:VCALENDAR
VERSION:2.0
PRODID:-//Hickory Buzz - ECPv6.15.20//NONSGML v1.0//EN
CALSCALE:GREGORIAN
METHOD:PUBLISH
X-WR-CALNAME:Hickory Buzz
X-ORIGINAL-URL:https://hickorybuzz.com
X-WR-CALDESC:Events for Hickory Buzz
REFRESH-INTERVAL;VALUE=DURATION:PT1H
X-Robots-Tag:noindex
X-PUBLISHED-TTL:PT1H
BEGIN:VTIMEZONE
TZID:America/New_York
BEGIN:DAYLIGHT
TZOFFSETFROM:-0500
TZOFFSETTO:-0400
TZNAME:EDT
DTSTART:20250309T070000
END:DAYLIGHT
BEGIN:STANDARD
TZOFFSETFROM:-0400
TZOFFSETTO:-0500
TZNAME:EST
DTSTART:20251102T060000
END:STANDARD
BEGIN:DAYLIGHT
TZOFFSETFROM:-0500
TZOFFSETTO:-0400
TZNAME:EDT
DTSTART:20260308T070000
END:DAYLIGHT
BEGIN:STANDARD
TZOFFSETFROM:-0400
TZOFFSETTO:-0500
TZNAME:EST
DTSTART:20261101T060000
END:STANDARD
BEGIN:DAYLIGHT
TZOFFSETFROM:-0500
TZOFFSETTO:-0400
TZNAME:EDT
DTSTART:20270314T070000
END:DAYLIGHT
BEGIN:STANDARD
TZOFFSETFROM:-0400
TZOFFSETTO:-0500
TZNAME:EST
DTSTART:20271107T060000
END:STANDARD
END:VTIMEZONE
BEGIN:VEVENT
DTSTART;TZID=America/New_York:20260502T090000
DTEND;TZID=America/New_York:20260502T170000
DTSTAMP:20260423T135520
CREATED:20260325T090213Z
LAST-MODIFIED:20260325T090246Z
UID:10018928-1777712400-1777741200@hickorybuzz.com
SUMMARY:Hickory Women's Expo
DESCRIPTION: Gather Your Friends — It’s a Girls’ Day Out!\nThe Hickory Women’s Expo is back\, and it’s your chance to spend a fun\, inspiring day focused on YOU. It’s happening the weekend before Mother’s Day\, so it’s also the perfect opportunity to bring your mom or your daughters.\n Beauty Wellness Wealth\nWhether you want to shop\, relax\, learn something new\, or just enjoy time with friends… this is the place to be.\n Discover BeautyTry new products\, get tips from the pros\, and explore the latest in skincare\, fashion\, and self-care.\n Feel Your BestMeet health & wellness experts\, experience spa services\, and find simple ways to improve your everyday life.\n Build Your Confidence with MoneyLearn from financial professionals in a relaxed\, beginner-friendly environment\, no pressure\, just real conversations.\n Shop + Experience Boutique shopping Live demos & seminars Giveaways & prizes Local businesses you’ll love\n Make It a DayBring your girlfriends\, your mom\, your daughter\, or come solo and meet amazing women in your community.\n Event Details Saturday\, May 2\, 2026 Hickory Metro Convention Center Tickets Only $10
URL:https://hickorybuzz.com/event/hickory-womens-expo/
LOCATION:Hickory Metro Convention Center\, 1960 13th Ave Dr SE\, Hickory\, NC\, 28602\, United States
CATEGORIES:Community,Fairs,Networking Event,Retail,Yard Sales
ATTACH;FMTTYPE=image/png:https://hickorybuzz.com/wp-content/uploads/2026/03/Womens-Expo.png
ORGANIZER;CN="Hickory Shows":MAILTO:office@hickoryshows.com
END:VEVENT
BEGIN:VEVENT
DTSTART;TZID=America/New_York:20260502T120000
DTEND;TZID=America/New_York:20260502T170000
DTSTAMP:20260423T135520
CREATED:20260423T073131Z
LAST-MODIFIED:20260423T073131Z
UID:10019597-1777723200-1777741200@hickorybuzz.com
SUMMARY:Foothills HBA Spring Fling Food Truck Festival
DESCRIPTION:SPRING FLING FOOD TRUCK FESTIVAL\nEat. Drink. Play. Connect.\nGet ready\, Hickory—this isn’t just another event.The Spring Fling Food Truck Festival is where the entire community comes together for great food\, cold drinks\, and a full day of fun. \nWhether you’re coming for the food trucks\, the games\, or just a reason to get out and enjoy the day—you’ll find it here. \n\nWHAT TO EXPECT\n🍔 Food Trucks You’ll Crave\nA lineup of local favorites serving everything from comfort food to sweet treats. Come hungry—you’re going to want to try it all. \n🍻 Adult Beverages\nKick back and enjoy a drink while you walk\, shop\, and connect with friends and neighbors. \n🎯 Games & Activities\nFun for all ages. Bring the kids\, bring your friends—there’s something happening around every corner. \n🛠️ “Nail It” – Ask the Experts\nThinking about building\, renovating\, or buying land?Meet local builders and industry pros ready to answer your questions—no pressure\, just real conversations. \n🛍️ Pop-Up Shops\nShop local vendors\, discover unique finds\, and support small businesses in our community. \n\nWHY YOU SHOULD COME\nThis event is about more than food—it’s about community. \nIt’s neighbors meeting neighbors.It’s local businesses connecting with local people.It’s a chance to support the people who are building\, growing\, and investing right here in our area. \n\nBRING YOUR PEOPLE\n✔ Families✔ Friends✔ Date nights✔ Anyone who loves good food and a good time \n\nJOIN US\nCome for the food.Stay for the fun.Leave feeling connected to your community.
URL:https://hickorybuzz.com/event/foothills-hba-spring-fling-food-truck-festival/
LOCATION:Valley Hills Mall\, 1960 US Hwy 70 SE\, Hickory\, NC\, 28602\, United States
CATEGORIES:Food & Drinks,Kids & Family,Networking Event,Retail
ATTACH;FMTTYPE=image/png:https://hickorybuzz.com/wp-content/uploads/2026/04/Foothills-HBA-Spring-Fling-Food-Truck-Festival.png
END:VEVENT
END:VCALENDAR