BEGIN:VCALENDAR
VERSION:2.0
PRODID:-//Hickory Buzz - ECPv6.15.20//NONSGML v1.0//EN
CALSCALE:GREGORIAN
METHOD:PUBLISH
X-ORIGINAL-URL:https://hickorybuzz.com
X-WR-CALDESC:Events for Hickory Buzz
REFRESH-INTERVAL;VALUE=DURATION:PT1H
X-Robots-Tag:noindex
X-PUBLISHED-TTL:PT1H
BEGIN:VTIMEZONE
TZID:America/New_York
BEGIN:DAYLIGHT
TZOFFSETFROM:-0500
TZOFFSETTO:-0400
TZNAME:EDT
DTSTART:20250309T070000
END:DAYLIGHT
BEGIN:STANDARD
TZOFFSETFROM:-0400
TZOFFSETTO:-0500
TZNAME:EST
DTSTART:20251102T060000
END:STANDARD
BEGIN:DAYLIGHT
TZOFFSETFROM:-0500
TZOFFSETTO:-0400
TZNAME:EDT
DTSTART:20260308T070000
END:DAYLIGHT
BEGIN:STANDARD
TZOFFSETFROM:-0400
TZOFFSETTO:-0500
TZNAME:EST
DTSTART:20261101T060000
END:STANDARD
BEGIN:DAYLIGHT
TZOFFSETFROM:-0500
TZOFFSETTO:-0400
TZNAME:EDT
DTSTART:20270314T070000
END:DAYLIGHT
BEGIN:STANDARD
TZOFFSETFROM:-0400
TZOFFSETTO:-0500
TZNAME:EST
DTSTART:20271107T060000
END:STANDARD
END:VTIMEZONE
BEGIN:VEVENT
DTSTART;TZID=America/New_York:20260121T190000
DTEND;TZID=America/New_York:20260121T220000
DTSTAMP:20260423T193040
CREATED:20260114T085247Z
LAST-MODIFIED:20260114T085247Z
UID:10016173-1769022000-1769032800@hickorybuzz.com
SUMMARY:Singles Night
DESCRIPTION:Singles Night at The PremierPresented in partnership with Resilience Wellness & TherapyHosted by Katrina Belmont \n\nStep into a night of intention\, connection\, and real chemistry. This isn’t your average singles event—it’s a curated experience designed to help you truly meet your match. Enjoy a guided speed-style dating session featuring fun prompts\, games\, and meaningful conversation starters created to help you break the ice effortlessly. \n\nSip\, mingle\, and maybe even find the love of your life. After the structured matching portion ends\, stick around for relaxed open mingling until 10 PM.\nWhether you’re dipping your toes back into dating or ready to find your person\, this is the space.
URL:https://hickorybuzz.com/event/singles-night/
LOCATION:Hickory Premier\, 109 11th St NW\, Hickory\, NC\, 28601\, United States
CATEGORIES:Community,Networking Event,Nightlife
ATTACH;FMTTYPE=image/png:https://hickorybuzz.com/wp-content/uploads/2026/01/Singles-Night.avif
ORGANIZER;CN="Hickory Premier":MAILTO:jbirchfieldmusic@gmail.com
END:VEVENT
END:VCALENDAR