BEGIN:VCALENDAR
VERSION:2.0
PRODID:-//Hickory Buzz - ECPv6.15.20//NONSGML v1.0//EN
CALSCALE:GREGORIAN
METHOD:PUBLISH
X-WR-CALNAME:Hickory Buzz
X-ORIGINAL-URL:https://hickorybuzz.com
X-WR-CALDESC:Events for Hickory Buzz
REFRESH-INTERVAL;VALUE=DURATION:PT1H
X-Robots-Tag:noindex
X-PUBLISHED-TTL:PT1H
BEGIN:VTIMEZONE
TZID:America/New_York
BEGIN:DAYLIGHT
TZOFFSETFROM:-0500
TZOFFSETTO:-0400
TZNAME:EDT
DTSTART:20250309T070000
END:DAYLIGHT
BEGIN:STANDARD
TZOFFSETFROM:-0400
TZOFFSETTO:-0500
TZNAME:EST
DTSTART:20251102T060000
END:STANDARD
BEGIN:DAYLIGHT
TZOFFSETFROM:-0500
TZOFFSETTO:-0400
TZNAME:EDT
DTSTART:20260308T070000
END:DAYLIGHT
BEGIN:STANDARD
TZOFFSETFROM:-0400
TZOFFSETTO:-0500
TZNAME:EST
DTSTART:20261101T060000
END:STANDARD
BEGIN:DAYLIGHT
TZOFFSETFROM:-0500
TZOFFSETTO:-0400
TZNAME:EDT
DTSTART:20270314T070000
END:DAYLIGHT
BEGIN:STANDARD
TZOFFSETFROM:-0400
TZOFFSETTO:-0500
TZNAME:EST
DTSTART:20271107T060000
END:STANDARD
END:VTIMEZONE
BEGIN:VEVENT
DTSTART;TZID=America/New_York:20260301T100000
DTEND;TZID=America/New_York:20260301T160000
DTSTAMP:20260425T100715
CREATED:20260301T030608Z
LAST-MODIFIED:20260301T030608Z
UID:10017516-1772359200-1772380800@hickorybuzz.com
SUMMARY:Hickory Home & Garden Show
DESCRIPTION:If you’re planning a home project — or just looking for fresh ideas — the Hickory Home & Garden Show returns to the Hickory Metro Convention Center this weekend with inspiration for every part of your home. \nMore than 60 exhibitors will be on hand showcasing remodeling solutions\, outdoor living ideas\, landscaping services\, home products\, and specialty items. It’s a chance to meet trusted local professionals face to face\, compare options\, and gather ideas all in one place. \n\nA Must-See Feature Exhibit\nOne of the biggest highlights this year is an impressive indoor outdoor-living installation created by Morganton Ponds & Hardscapes. They’ve built a complete outdoor oasis inside the convention center featuring: \n\n\nFlowing fountains \n\n\nA hardscape patio with pergola \n\n\nA fireplace with a built-in pizza oven \n\n\nA stunning koi pond with live fish \n\n\nIt’s a unique feature that brings outdoor living ideas to life. \n\nLearn from the Experts\nThroughout the weekend\, exhibitors will host informative seminars designed to help homeowners make smart decisions. Topics include: \n\n\nLandscape design ideas \n\n\nInterior design trends \n\n\nPlanning a successful home project \n\n\nWaterproofing and crawlspace protection \n\n\nExtending the life of your roof \n\n\n\nWhy Attend?\nOne of the biggest challenges homeowners face is knowing who to trust when hiring for home projects. The Home & Garden Show helps remove that uncertainty by putting real people and real businesses face to face. \nWhether you’re planning a renovation\, improving outdoor spaces\, or simply gathering ideas\, the show offers practical inspiration and local connections.
URL:https://hickorybuzz.com/event/hickory-home-garden-show/
LOCATION:Hickory Metro Convention Center\, 1960 13th Ave Dr SE\, Hickory\, NC\, 28602\, United States
CATEGORIES:Community,Festivals,Kids & Family
ATTACH;FMTTYPE=image/jpeg:https://hickorybuzz.com/wp-content/uploads/2026/02/2026-Hickory-Home-Show-event-graphic-800-x-600-px.jpg
ORGANIZER;CN="Hickory Shows":MAILTO:office@hickoryshows.com
END:VEVENT
END:VCALENDAR