BEGIN:VCALENDAR
VERSION:2.0
PRODID:-//Hickory Buzz - ECPv6.15.20//NONSGML v1.0//EN
CALSCALE:GREGORIAN
METHOD:PUBLISH
X-ORIGINAL-URL:https://hickorybuzz.com
X-WR-CALDESC:Events for Hickory Buzz
REFRESH-INTERVAL;VALUE=DURATION:PT1H
X-Robots-Tag:noindex
X-PUBLISHED-TTL:PT1H
BEGIN:VTIMEZONE
TZID:America/New_York
BEGIN:DAYLIGHT
TZOFFSETFROM:-0500
TZOFFSETTO:-0400
TZNAME:EDT
DTSTART:20240310T070000
END:DAYLIGHT
BEGIN:STANDARD
TZOFFSETFROM:-0400
TZOFFSETTO:-0500
TZNAME:EST
DTSTART:20241103T060000
END:STANDARD
BEGIN:DAYLIGHT
TZOFFSETFROM:-0500
TZOFFSETTO:-0400
TZNAME:EDT
DTSTART:20250309T070000
END:DAYLIGHT
BEGIN:STANDARD
TZOFFSETFROM:-0400
TZOFFSETTO:-0500
TZNAME:EST
DTSTART:20251102T060000
END:STANDARD
BEGIN:DAYLIGHT
TZOFFSETFROM:-0500
TZOFFSETTO:-0400
TZNAME:EDT
DTSTART:20260308T070000
END:DAYLIGHT
BEGIN:STANDARD
TZOFFSETFROM:-0400
TZOFFSETTO:-0500
TZNAME:EST
DTSTART:20261101T060000
END:STANDARD
END:VTIMEZONE
BEGIN:VEVENT
DTSTART;TZID=America/New_York:20251205T170000
DTEND;TZID=America/New_York:20251205T210000
DTSTAMP:20260425T130721
CREATED:20251104T014029Z
LAST-MODIFIED:20251104T014029Z
UID:10013634-1764954000-1764968400@hickorybuzz.com
SUMMARY:Light Up The Town
DESCRIPTION:You’re invited to our annual Light Up the Town event in Downtown Newton on December 5\, 2025\, located around 1924 Courthouse Square!\nFamilies are invited to stroll the streets of Downtown Newton and enjoy holiday music\, maidens dancing\, kettle corn\, s’mores\, and so much more! We’ll have more information in the weeks to come\, so mark your calendar now\, and we’ll see you there!\nWe look forward to seeing you during the 2025 holiday season!
URL:https://hickorybuzz.com/event/light-up-the-town/
LOCATION:Downtown Newton Development Association\, 135 N College Ave\, Newton\, NC\, 28658\, United States
CATEGORIES:Community,Festivals
ATTACH;FMTTYPE=image/jpeg:https://hickorybuzz.com/wp-content/uploads/2025/11/Light-Up-The-Town.avif
ORGANIZER;CN="Downtown Newton Development Association":MAILTO:myount@newtonnc.gov
END:VEVENT
END:VCALENDAR