BEGIN:VCALENDAR
VERSION:2.0
PRODID:-//Hickory Buzz - ECPv6.15.20//NONSGML v1.0//EN
CALSCALE:GREGORIAN
METHOD:PUBLISH
X-ORIGINAL-URL:https://hickorybuzz.com
X-WR-CALDESC:Events for Hickory Buzz
REFRESH-INTERVAL;VALUE=DURATION:PT1H
X-Robots-Tag:noindex
X-PUBLISHED-TTL:PT1H
BEGIN:VTIMEZONE
TZID:America/New_York
BEGIN:DAYLIGHT
TZOFFSETFROM:-0500
TZOFFSETTO:-0400
TZNAME:EDT
DTSTART:20240310T070000
END:DAYLIGHT
BEGIN:STANDARD
TZOFFSETFROM:-0400
TZOFFSETTO:-0500
TZNAME:EST
DTSTART:20241103T060000
END:STANDARD
BEGIN:DAYLIGHT
TZOFFSETFROM:-0500
TZOFFSETTO:-0400
TZNAME:EDT
DTSTART:20250309T070000
END:DAYLIGHT
BEGIN:STANDARD
TZOFFSETFROM:-0400
TZOFFSETTO:-0500
TZNAME:EST
DTSTART:20251102T060000
END:STANDARD
BEGIN:DAYLIGHT
TZOFFSETFROM:-0500
TZOFFSETTO:-0400
TZNAME:EDT
DTSTART:20260308T070000
END:DAYLIGHT
BEGIN:STANDARD
TZOFFSETFROM:-0400
TZOFFSETTO:-0500
TZNAME:EST
DTSTART:20261101T060000
END:STANDARD
END:VTIMEZONE
BEGIN:VEVENT
DTSTART;TZID=America/New_York:20251111T183000
DTEND;TZID=America/New_York:20251111T200000
DTSTAMP:20260425T104326
CREATED:20251113T182937Z
LAST-MODIFIED:20251113T182937Z
UID:10013660-1762885800-1762891200@hickorybuzz.com
SUMMARY:Activation & Wellness Event
DESCRIPTION:Increase your wealth! Increase your health! With so many people today out of work or just making ends meet LifeVantage executives show you how easy and inexpensive  it is to start up a new business or side gig. \n 
URL:https://hickorybuzz.com/event/activation-wellness-event/
LOCATION:Town of Catawba\, 102 First Street NW\, Catawba\, NC\, 28609\, United States
CATEGORIES:Education
ATTACH;FMTTYPE=image/jpeg:https://hickorybuzz.com/wp-content/uploads/2025/11/Activation-Wellness-Event.avif
ORGANIZER;CN="healthstylepartners":MAILTO:Healthstylepartners@gmail.com
END:VEVENT
BEGIN:VEVENT
DTSTART;TZID=America/New_York:20251112T100000
DTEND;TZID=America/New_York:20251112T160000
DTSTAMP:20260425T104326
CREATED:20251006T230103Z
LAST-MODIFIED:20251006T230103Z
UID:10011332-1762941600-1762963200@hickorybuzz.com
SUMMARY:Mindbender Mansion Exhibit
DESCRIPTION:Enter the wonderfully puzzling world of Mindbender Mansion\, an eclectic place full of brainteasers and interactive challenges guaranteed to test the brain power and problem-solving skills of even the most experienced puzzlers! Math\, science\, and technology educational content are woven into the puzzles\, videos\, and group challenges found inside the exhibit! Sponsored by USConec\, Corning\, Shurtape\, and Piedmont Natural Gas.
URL:https://hickorybuzz.com/event/mindbender-mansion-exhibit/2025-11-12/
LOCATION:Catawba Science Center\, 243 Third Avenue NE\, Hickory\, NC\, 28601\, United States
CATEGORIES:Education,Kids & Family
ATTACH;FMTTYPE=image/jpeg:https://hickorybuzz.com/wp-content/uploads/2025/10/Mindbender-Mansion.avif
ORGANIZER;CN="Catawba Science Center":MAILTO:info@catawbascience.org
END:VEVENT
BEGIN:VEVENT
DTSTART;TZID=America/New_York:20251112T173000
DTEND;TZID=America/New_York:20251112T183000
DTSTAMP:20260425T104326
CREATED:20251024T123341Z
LAST-MODIFIED:20251027T194132Z
UID:10012272-1762968600-1762972200@hickorybuzz.com
SUMMARY:How to Heal From A Breakup Workshop
DESCRIPTION:Reserve Your Spot Here! \nAre you going through a breakup? Join the workshop with Sai (Certified Integrated Attachment Coach) and the breakup club. We will use tools to help you: \n\ndiscover your attachment style\nunderstand why breakups hurt\nprocess pain\nreframe thinking\nreconnect or move forward at your own pace\n\nLimited capacity / Confirm your spot today ❤️‍🩹 \nThis course is projected to go over five weeks \nLocation TBD\, but will be in a reserved space at one of Hickory’s libraries.  Details to be sent via email one week before the event.
URL:https://hickorybuzz.com/event/how-to-heal-from-a-breakup-workshop/
LOCATION:See Description\, United States
CATEGORIES:Classes/Courses,Community,Education
ATTACH;FMTTYPE=image/jpeg:https://hickorybuzz.com/wp-content/uploads/2025/10/How-to-Heal-From-A-Breakup-Workshop.avif
END:VEVENT
BEGIN:VEVENT
DTSTART;TZID=America/New_York:20251113T100000
DTEND;TZID=America/New_York:20251113T160000
DTSTAMP:20260425T104326
CREATED:20251006T230103Z
LAST-MODIFIED:20251006T230103Z
UID:10011333-1763028000-1763049600@hickorybuzz.com
SUMMARY:Mindbender Mansion Exhibit
DESCRIPTION:Enter the wonderfully puzzling world of Mindbender Mansion\, an eclectic place full of brainteasers and interactive challenges guaranteed to test the brain power and problem-solving skills of even the most experienced puzzlers! Math\, science\, and technology educational content are woven into the puzzles\, videos\, and group challenges found inside the exhibit! Sponsored by USConec\, Corning\, Shurtape\, and Piedmont Natural Gas.
URL:https://hickorybuzz.com/event/mindbender-mansion-exhibit/2025-11-13/
LOCATION:Catawba Science Center\, 243 Third Avenue NE\, Hickory\, NC\, 28601\, United States
CATEGORIES:Education,Kids & Family
ATTACH;FMTTYPE=image/jpeg:https://hickorybuzz.com/wp-content/uploads/2025/10/Mindbender-Mansion.avif
ORGANIZER;CN="Catawba Science Center":MAILTO:info@catawbascience.org
END:VEVENT
BEGIN:VEVENT
DTSTART;TZID=America/New_York:20251113T190000
DTEND;TZID=America/New_York:20251113T210000
DTSTAMP:20260425T104326
CREATED:20250722T141613Z
LAST-MODIFIED:20250805T201619Z
UID:10006644-1763060400-1763067600@hickorybuzz.com
SUMMARY:Carolina Style Chorus - Rehearsal Night
DESCRIPTION:About: \n  \nThe Carolina Style Chorus is a women’s chorus specializing in performing four-part\, a cappella music in the barbershop style. We provide opportunities for women to learn and sing and attain individual growth in an atmosphere of friendship and fun. Our goal is to be recognized for musical excellence and to share our talents with our audiences. Join us as a VIP! Send us an email at cscmembership@carolinastylechorus.org to let us know you’re interested in coming to SING!  We can’t wait to see you there. Everyone is welcome to join us on Thursday evenings at 7pm\, at Trinity Reformed United Church of Christ\, 217 Second Ave NE\, Conover\, NC.
URL:https://hickorybuzz.com/event/carolina-style-chorus-rehearsal-night/2025-11-13/
LOCATION:Trinity  Reformed United Church of Christ\, 217 Second Ave NE\, Conover\, NC\, 28613\, United States
CATEGORIES:Classes/Courses,Community,Education,Entertainment,Live Music
ATTACH;FMTTYPE=image/jpeg:https://hickorybuzz.com/wp-content/uploads/2025/07/Carolina-Style-Chorus-Rehearsal-Night-3.jpg
ORGANIZER;CN="Carolina Style Chorus":MAILTO:cscmembership@carolinastylechorus.org
END:VEVENT
BEGIN:VEVENT
DTSTART;TZID=America/New_York:20251114T100000
DTEND;TZID=America/New_York:20251114T160000
DTSTAMP:20260425T104326
CREATED:20251006T230103Z
LAST-MODIFIED:20251006T230103Z
UID:10011334-1763114400-1763136000@hickorybuzz.com
SUMMARY:Mindbender Mansion Exhibit
DESCRIPTION:Enter the wonderfully puzzling world of Mindbender Mansion\, an eclectic place full of brainteasers and interactive challenges guaranteed to test the brain power and problem-solving skills of even the most experienced puzzlers! Math\, science\, and technology educational content are woven into the puzzles\, videos\, and group challenges found inside the exhibit! Sponsored by USConec\, Corning\, Shurtape\, and Piedmont Natural Gas.
URL:https://hickorybuzz.com/event/mindbender-mansion-exhibit/2025-11-14/
LOCATION:Catawba Science Center\, 243 Third Avenue NE\, Hickory\, NC\, 28601\, United States
CATEGORIES:Education,Kids & Family
ATTACH;FMTTYPE=image/jpeg:https://hickorybuzz.com/wp-content/uploads/2025/10/Mindbender-Mansion.avif
ORGANIZER;CN="Catawba Science Center":MAILTO:info@catawbascience.org
END:VEVENT
BEGIN:VEVENT
DTSTART;TZID=America/New_York:20251115T100000
DTEND;TZID=America/New_York:20251115T160000
DTSTAMP:20260425T104326
CREATED:20251006T230103Z
LAST-MODIFIED:20251006T230103Z
UID:10011335-1763200800-1763222400@hickorybuzz.com
SUMMARY:Mindbender Mansion Exhibit
DESCRIPTION:Enter the wonderfully puzzling world of Mindbender Mansion\, an eclectic place full of brainteasers and interactive challenges guaranteed to test the brain power and problem-solving skills of even the most experienced puzzlers! Math\, science\, and technology educational content are woven into the puzzles\, videos\, and group challenges found inside the exhibit! Sponsored by USConec\, Corning\, Shurtape\, and Piedmont Natural Gas.
URL:https://hickorybuzz.com/event/mindbender-mansion-exhibit/2025-11-15/
LOCATION:Catawba Science Center\, 243 Third Avenue NE\, Hickory\, NC\, 28601\, United States
CATEGORIES:Education,Kids & Family
ATTACH;FMTTYPE=image/jpeg:https://hickorybuzz.com/wp-content/uploads/2025/10/Mindbender-Mansion.avif
ORGANIZER;CN="Catawba Science Center":MAILTO:info@catawbascience.org
END:VEVENT
BEGIN:VEVENT
DTSTART;TZID=America/New_York:20251115T130000
DTEND;TZID=America/New_York:20251115T150000
DTSTAMP:20260425T104326
CREATED:20250523T194805Z
LAST-MODIFIED:20250523T194805Z
UID:10001527-1763211600-1763218800@hickorybuzz.com
SUMMARY:A STEM Career Showcase!
DESCRIPTION:Event: \nDon’t miss this month’s SPARK event in the Foothills Collaboratory featuring Corning Optical Communications. SPARK is a STEM career showcase featuring local industries in the Carolina Foothills. Participate in guided activities based on their careers. The LAB can be found at the end of the South entrance hallway\, across from Velo-City. \n  \nAbout: \nThe Catawba Science Center opened its doors in 1975 as the Creative Museum for Youth\, founded by the Service League of Hickory (a local volunteer organization) in the historic John Cilley house\, a 4\,000 sq. ft. Victorian-era structure. Today\, Catawba Science Center is a 35\,000 sq. ft. science and technology museum whose purpose is to change lives and inspire learning through science and wonder. \n 
URL:https://hickorybuzz.com/event/a-stem-career-showcase-12/
LOCATION:Catawba Science Center\, 243 Third Avenue NE\, Hickory\, NC\, 28601\, United States
CATEGORIES:Education,Kids & Family
ATTACH;FMTTYPE=image/png:https://hickorybuzz.com/wp-content/uploads/2025/05/Spark-A-STEM-Career-Showcase3.png
ORGANIZER;CN="Catawba Science Center":MAILTO:info@catawbascience.org
END:VEVENT
BEGIN:VEVENT
DTSTART;TZID=America/New_York:20251116T130000
DTEND;TZID=America/New_York:20251116T160000
DTSTAMP:20260425T104326
CREATED:20251006T230521Z
LAST-MODIFIED:20251006T230521Z
UID:10011372-1763298000-1763308800@hickorybuzz.com
SUMMARY:Mindbender Mansion Exhibit
DESCRIPTION:Enter the wonderfully puzzling world of Mindbender Mansion\, an eclectic place full of brainteasers and interactive challenges guaranteed to test the brain power and problem-solving skills of even the most experienced puzzlers! Math\, science\, and technology educational content are woven into the puzzles\, videos\, and group challenges found inside the exhibit! Sponsored by USConec\, Corning\, Shurtape\, and Piedmont Natural Gas.
URL:https://hickorybuzz.com/event/mindbender-mansion-exhibit-2/2025-11-16/
LOCATION:Catawba Science Center\, 243 Third Avenue NE\, Hickory\, NC\, 28601\, United States
CATEGORIES:Education,Kids & Family
ATTACH;FMTTYPE=image/jpeg:https://hickorybuzz.com/wp-content/uploads/2025/10/Mindbender-Mansion.avif
ORGANIZER;CN="Catawba Science Center":MAILTO:info@catawbascience.org
END:VEVENT
END:VCALENDAR