BEGIN:VCALENDAR
VERSION:2.0
PRODID:-//Hickory Buzz - ECPv6.15.20//NONSGML v1.0//EN
CALSCALE:GREGORIAN
METHOD:PUBLISH
X-ORIGINAL-URL:https://hickorybuzz.com
X-WR-CALDESC:Events for Hickory Buzz
REFRESH-INTERVAL;VALUE=DURATION:PT1H
X-Robots-Tag:noindex
X-PUBLISHED-TTL:PT1H
BEGIN:VTIMEZONE
TZID:America/New_York
BEGIN:DAYLIGHT
TZOFFSETFROM:-0500
TZOFFSETTO:-0400
TZNAME:EDT
DTSTART:20240310T070000
END:DAYLIGHT
BEGIN:STANDARD
TZOFFSETFROM:-0400
TZOFFSETTO:-0500
TZNAME:EST
DTSTART:20241103T060000
END:STANDARD
BEGIN:DAYLIGHT
TZOFFSETFROM:-0500
TZOFFSETTO:-0400
TZNAME:EDT
DTSTART:20250309T070000
END:DAYLIGHT
BEGIN:STANDARD
TZOFFSETFROM:-0400
TZOFFSETTO:-0500
TZNAME:EST
DTSTART:20251102T060000
END:STANDARD
BEGIN:DAYLIGHT
TZOFFSETFROM:-0500
TZOFFSETTO:-0400
TZNAME:EDT
DTSTART:20260308T070000
END:DAYLIGHT
BEGIN:STANDARD
TZOFFSETFROM:-0400
TZOFFSETTO:-0500
TZNAME:EST
DTSTART:20261101T060000
END:STANDARD
END:VTIMEZONE
BEGIN:VEVENT
DTSTART;TZID=America/New_York:20251029T100000
DTEND;TZID=America/New_York:20251029T160000
DTSTAMP:20260425T104326
CREATED:20251006T230103Z
LAST-MODIFIED:20251006T230103Z
UID:10011324-1761732000-1761753600@hickorybuzz.com
SUMMARY:Mindbender Mansion Exhibit
DESCRIPTION:Enter the wonderfully puzzling world of Mindbender Mansion\, an eclectic place full of brainteasers and interactive challenges guaranteed to test the brain power and problem-solving skills of even the most experienced puzzlers! Math\, science\, and technology educational content are woven into the puzzles\, videos\, and group challenges found inside the exhibit! Sponsored by USConec\, Corning\, Shurtape\, and Piedmont Natural Gas.
URL:https://hickorybuzz.com/event/mindbender-mansion-exhibit/2025-10-29/
LOCATION:Catawba Science Center\, 243 Third Avenue NE\, Hickory\, NC\, 28601\, United States
CATEGORIES:Education,Kids & Family
ATTACH;FMTTYPE=image/jpeg:https://hickorybuzz.com/wp-content/uploads/2025/10/Mindbender-Mansion.avif
ORGANIZER;CN="Catawba Science Center":MAILTO:info@catawbascience.org
END:VEVENT
BEGIN:VEVENT
DTSTART;TZID=America/New_York:20251029T180000
DTEND;TZID=America/New_York:20251029T190000
DTSTAMP:20260425T104326
CREATED:20251013T212838Z
LAST-MODIFIED:20251015T113115Z
UID:10011486-1761760800-1761764400@hickorybuzz.com
SUMMARY:Grave Tales: Victorian Death Customs - A Haunting 3-Week Series
DESCRIPTION:Let’s get dead serious about Victorian Mourning! \nJoin us as we uncover the elaborate rituals that transformed Victorian grief into an art form — complete with strict social codes\, haunting traditions\, and surprisingly theatrical customs. \nWeek 1: The Art of Mourning – Making Grief Glamorous\nStep into a Victorian wake and discover the intricate world of 19th-century mourning etiquette. Learn the “proper” way to grieve as we explore: post-mortem photography\, mourning fashion and funeral protocols. \nSee flyer for sneak peek at Week 2 & 3.
URL:https://hickorybuzz.com/event/grave-tales-victorian-death-customs-a-haunting-3-week-series/2025-10-29/
LOCATION:Newton Main Library\, 115 West C St\, Newton\, NC\, 28658\, United States
CATEGORIES:Classes/Courses,Education
ATTACH;FMTTYPE=image/jpeg:https://hickorybuzz.com/wp-content/uploads/2025/10/Art-of-Mourning.avif
END:VEVENT
BEGIN:VEVENT
DTSTART;TZID=America/New_York:20251030T100000
DTEND;TZID=America/New_York:20251030T160000
DTSTAMP:20260425T104326
CREATED:20251006T230103Z
LAST-MODIFIED:20251006T230103Z
UID:10011325-1761818400-1761840000@hickorybuzz.com
SUMMARY:Mindbender Mansion Exhibit
DESCRIPTION:Enter the wonderfully puzzling world of Mindbender Mansion\, an eclectic place full of brainteasers and interactive challenges guaranteed to test the brain power and problem-solving skills of even the most experienced puzzlers! Math\, science\, and technology educational content are woven into the puzzles\, videos\, and group challenges found inside the exhibit! Sponsored by USConec\, Corning\, Shurtape\, and Piedmont Natural Gas.
URL:https://hickorybuzz.com/event/mindbender-mansion-exhibit/2025-10-30/
LOCATION:Catawba Science Center\, 243 Third Avenue NE\, Hickory\, NC\, 28601\, United States
CATEGORIES:Education,Kids & Family
ATTACH;FMTTYPE=image/jpeg:https://hickorybuzz.com/wp-content/uploads/2025/10/Mindbender-Mansion.avif
ORGANIZER;CN="Catawba Science Center":MAILTO:info@catawbascience.org
END:VEVENT
BEGIN:VEVENT
DTSTART;TZID=America/New_York:20251030T190000
DTEND;TZID=America/New_York:20251030T210000
DTSTAMP:20260425T104326
CREATED:20250722T141613Z
LAST-MODIFIED:20250805T201619Z
UID:10006642-1761850800-1761858000@hickorybuzz.com
SUMMARY:Carolina Style Chorus - Rehearsal Night
DESCRIPTION:About: \n  \nThe Carolina Style Chorus is a women’s chorus specializing in performing four-part\, a cappella music in the barbershop style. We provide opportunities for women to learn and sing and attain individual growth in an atmosphere of friendship and fun. Our goal is to be recognized for musical excellence and to share our talents with our audiences. Join us as a VIP! Send us an email at cscmembership@carolinastylechorus.org to let us know you’re interested in coming to SING!  We can’t wait to see you there. Everyone is welcome to join us on Thursday evenings at 7pm\, at Trinity Reformed United Church of Christ\, 217 Second Ave NE\, Conover\, NC.
URL:https://hickorybuzz.com/event/carolina-style-chorus-rehearsal-night/2025-10-30/
LOCATION:Trinity  Reformed United Church of Christ\, 217 Second Ave NE\, Conover\, NC\, 28613\, United States
CATEGORIES:Classes/Courses,Community,Education,Entertainment,Live Music
ATTACH;FMTTYPE=image/jpeg:https://hickorybuzz.com/wp-content/uploads/2025/07/Carolina-Style-Chorus-Rehearsal-Night-3.jpg
ORGANIZER;CN="Carolina Style Chorus":MAILTO:cscmembership@carolinastylechorus.org
END:VEVENT
BEGIN:VEVENT
DTSTART;TZID=America/New_York:20251031T100000
DTEND;TZID=America/New_York:20251031T160000
DTSTAMP:20260425T104326
CREATED:20251006T230103Z
LAST-MODIFIED:20251006T230103Z
UID:10011326-1761904800-1761926400@hickorybuzz.com
SUMMARY:Mindbender Mansion Exhibit
DESCRIPTION:Enter the wonderfully puzzling world of Mindbender Mansion\, an eclectic place full of brainteasers and interactive challenges guaranteed to test the brain power and problem-solving skills of even the most experienced puzzlers! Math\, science\, and technology educational content are woven into the puzzles\, videos\, and group challenges found inside the exhibit! Sponsored by USConec\, Corning\, Shurtape\, and Piedmont Natural Gas.
URL:https://hickorybuzz.com/event/mindbender-mansion-exhibit/2025-10-31/
LOCATION:Catawba Science Center\, 243 Third Avenue NE\, Hickory\, NC\, 28601\, United States
CATEGORIES:Education,Kids & Family
ATTACH;FMTTYPE=image/jpeg:https://hickorybuzz.com/wp-content/uploads/2025/10/Mindbender-Mansion.avif
ORGANIZER;CN="Catawba Science Center":MAILTO:info@catawbascience.org
END:VEVENT
BEGIN:VEVENT
DTSTART;TZID=America/New_York:20251101T100000
DTEND;TZID=America/New_York:20251101T160000
DTSTAMP:20260425T104326
CREATED:20251006T230103Z
LAST-MODIFIED:20251006T230103Z
UID:10011327-1761991200-1762012800@hickorybuzz.com
SUMMARY:Mindbender Mansion Exhibit
DESCRIPTION:Enter the wonderfully puzzling world of Mindbender Mansion\, an eclectic place full of brainteasers and interactive challenges guaranteed to test the brain power and problem-solving skills of even the most experienced puzzlers! Math\, science\, and technology educational content are woven into the puzzles\, videos\, and group challenges found inside the exhibit! Sponsored by USConec\, Corning\, Shurtape\, and Piedmont Natural Gas.
URL:https://hickorybuzz.com/event/mindbender-mansion-exhibit/2025-11-01/
LOCATION:Catawba Science Center\, 243 Third Avenue NE\, Hickory\, NC\, 28601\, United States
CATEGORIES:Education,Kids & Family
ATTACH;FMTTYPE=image/jpeg:https://hickorybuzz.com/wp-content/uploads/2025/10/Mindbender-Mansion.avif
ORGANIZER;CN="Catawba Science Center":MAILTO:info@catawbascience.org
END:VEVENT
BEGIN:VEVENT
DTSTART;TZID=America/New_York:20251101T140000
DTEND;TZID=America/New_York:20251101T160000
DTSTAMP:20260425T104326
CREATED:20251028T190701Z
LAST-MODIFIED:20251028T190701Z
UID:10012602-1762005600-1762012800@hickorybuzz.com
SUMMARY:Hickory Spanish Club
DESCRIPTION:Want to practice your Spanish or English? Join us for a friendly coffee and conversation meetup! \nPractice your language skills\, make friends\, and share cultures in a relaxed\, welcoming environment. Spanish and English speakers of all levels are encouraged to join. \nWe’ll pair up and chat in both languages – no pressure\, just fun\, practice\, and community. \nRSVP by texting 828-705-6045 or email us at hickorylanguageinstitute@gmail.com \nSee you there!
URL:https://hickorybuzz.com/event/hickory-spanish-club/
LOCATION:Taste Full Beans\, 29 2nd St NW\, Hickory\, NC\, 28601\, United States
CATEGORIES:Classes/Courses,Community,Education
ATTACH;FMTTYPE=image/jpeg:https://hickorybuzz.com/wp-content/uploads/2025/10/Hickory-Spanish-Club.avif
ORGANIZER;CN="Hickory Spanish Club":MAILTO:hickorylanguageinstitute@gmail.com
END:VEVENT
BEGIN:VEVENT
DTSTART;TZID=America/New_York:20251102T130000
DTEND;TZID=America/New_York:20251102T160000
DTSTAMP:20260425T104326
CREATED:20251006T230521Z
LAST-MODIFIED:20251006T230521Z
UID:10011370-1762088400-1762099200@hickorybuzz.com
SUMMARY:Mindbender Mansion Exhibit
DESCRIPTION:Enter the wonderfully puzzling world of Mindbender Mansion\, an eclectic place full of brainteasers and interactive challenges guaranteed to test the brain power and problem-solving skills of even the most experienced puzzlers! Math\, science\, and technology educational content are woven into the puzzles\, videos\, and group challenges found inside the exhibit! Sponsored by USConec\, Corning\, Shurtape\, and Piedmont Natural Gas.
URL:https://hickorybuzz.com/event/mindbender-mansion-exhibit-2/2025-11-02/
LOCATION:Catawba Science Center\, 243 Third Avenue NE\, Hickory\, NC\, 28601\, United States
CATEGORIES:Education,Kids & Family
ATTACH;FMTTYPE=image/jpeg:https://hickorybuzz.com/wp-content/uploads/2025/10/Mindbender-Mansion.avif
ORGANIZER;CN="Catawba Science Center":MAILTO:info@catawbascience.org
END:VEVENT
END:VCALENDAR