BEGIN:VCALENDAR
VERSION:2.0
PRODID:-//Hickory Buzz - ECPv6.15.20//NONSGML v1.0//EN
CALSCALE:GREGORIAN
METHOD:PUBLISH
X-WR-CALNAME:Hickory Buzz
X-ORIGINAL-URL:https://hickorybuzz.com
X-WR-CALDESC:Events for Hickory Buzz
REFRESH-INTERVAL;VALUE=DURATION:PT1H
X-Robots-Tag:noindex
X-PUBLISHED-TTL:PT1H
BEGIN:VTIMEZONE
TZID:America/New_York
BEGIN:DAYLIGHT
TZOFFSETFROM:-0500
TZOFFSETTO:-0400
TZNAME:EDT
DTSTART:20250309T070000
END:DAYLIGHT
BEGIN:STANDARD
TZOFFSETFROM:-0400
TZOFFSETTO:-0500
TZNAME:EST
DTSTART:20251102T060000
END:STANDARD
BEGIN:DAYLIGHT
TZOFFSETFROM:-0500
TZOFFSETTO:-0400
TZNAME:EDT
DTSTART:20260308T070000
END:DAYLIGHT
BEGIN:STANDARD
TZOFFSETFROM:-0400
TZOFFSETTO:-0500
TZNAME:EST
DTSTART:20261101T060000
END:STANDARD
BEGIN:DAYLIGHT
TZOFFSETFROM:-0500
TZOFFSETTO:-0400
TZNAME:EDT
DTSTART:20270314T070000
END:DAYLIGHT
BEGIN:STANDARD
TZOFFSETFROM:-0400
TZOFFSETTO:-0500
TZNAME:EST
DTSTART:20271107T060000
END:STANDARD
END:VTIMEZONE
BEGIN:VEVENT
DTSTART;TZID=America/New_York:20260404T100000
DTEND;TZID=America/New_York:20260404T160000
DTSTAMP:20260425T001438
CREATED:20260210T104612Z
LAST-MODIFIED:20260303T134006Z
UID:10016976-1775296800-1775318400@hickorybuzz.com
SUMMARY:DINOSAURS!
DESCRIPTION:Dinosaurs Return to Catawba Science Center\nOpening at the Catawba Science Center on February 8th! \nMembers-only opening Saturday\, February 7th – Public Opening Sunday\, February 8th \n 
URL:https://hickorybuzz.com/event/dinosoaurs-2/2026-04-04/
LOCATION:Catawba Science Center\, 243 Third Avenue NE\, Hickory\, NC\, 28601\, United States
CATEGORIES:Attractions,Education,Kids & Family
ATTACH;FMTTYPE=image/png:https://hickorybuzz.com/wp-content/uploads/2026/02/Monthly-Journaling-Club-1-2.png
ORGANIZER;CN="Catawba Science Center":MAILTO:info@catawbascience.org
END:VEVENT
BEGIN:VEVENT
DTSTART;TZID=America/New_York:20260404T100000
DTEND;TZID=America/New_York:20260404T160000
DTSTAMP:20260425T001438
CREATED:20260211T145318Z
LAST-MODIFIED:20260303T134321Z
UID:10017195-1775296800-1775318400@hickorybuzz.com
SUMMARY:NEW!!! VR Experience with IMMOTION
DESCRIPTION:Step back 66 million years and journey through the final chapter of the age of dinosaurs in Dinosaur Evolution—a thrilling immersive experience that brings the Cretaceous world to life. Witness feathered raptors on the hunt\, armored giants defending their turf\, and the mighty T. rex at the top of the food chain. But even these perfectly evolved creatures couldn’t escape Earth’s most devastating extinction event. Stunning visuals and cutting-edge science reveal how evolution shaped the dinosaurs—and how birds\, their modern-day descendants\, continue their legacy. It’s a prehistoric adventure that will inspire the next generation of paleontologists and conservationists alike.
URL:https://hickorybuzz.com/event/new-vr-experience-with-immotion-2/2026-04-04/
LOCATION:Catawba Science Center\, 243 Third Avenue NE\, Hickory\, NC\, 28601\, United States
CATEGORIES:Animals,Attractions,Education,Kids & Family
ATTACH;FMTTYPE=image/png:https://hickorybuzz.com/wp-content/uploads/2026/02/Dinosaur.png
ORGANIZER;CN="Catawba Science Center":MAILTO:info@catawbascience.org
END:VEVENT
BEGIN:VEVENT
DTSTART;TZID=America/New_York:20260404T150000
DTEND;TZID=America/New_York:20260404T170000
DTSTAMP:20260425T001438
CREATED:20260330T101019Z
LAST-MODIFIED:20260330T101019Z
UID:10018915-1775314800-1775322000@hickorybuzz.com
SUMMARY:Hickory Spanish Club
DESCRIPTION:Still sticking to those 2026 goals? 🇪🇸 Give your Spanish a boost and make some new friends while you’re at it!\nStart your month off right! Join us at Taste Full Beans Cafe on the first Saturday of each month. Our next meeting is Saturday\, April 4th. \nWant to practice your Spanish or English? Join us for a friendly coffee and conversation meetup!\nPractice your language skills\, make friends\, and share cultures in a relaxed\, welcoming environment.\nAll levels welcome! Spanish and English speakers of all skill levels are encouraged to join—from beginners to native speakers. \nNo pressure—just fun\, practice\, and community. All meetings are absolutely free! \n📅 When: Saturday\, April 4th (3:00 PM)\n📍 Where: Taste Full Beans Cafe\n📩 RSVP: Text “Club” to 828-705-6045 or email us at hickorylanguageinstitute@gmail.com
URL:https://hickorybuzz.com/event/hickory-spanish-club-6/
LOCATION:Taste Full Beans\, 29 2nd St NW\, Hickory\, NC\, 28601\, United States
CATEGORIES:Education
ATTACH;FMTTYPE=image/png:https://hickorybuzz.com/wp-content/uploads/2026/03/Hickory-Spanish-Club-Meeting-1.png
ORGANIZER;CN="Hickory Spanish Club":MAILTO:hickorylanguageinstitute@gmail.com
END:VEVENT
END:VCALENDAR