BEGIN:VCALENDAR
VERSION:2.0
PRODID:-//Hickory Buzz - ECPv6.15.20//NONSGML v1.0//EN
CALSCALE:GREGORIAN
METHOD:PUBLISH
X-ORIGINAL-URL:https://hickorybuzz.com
X-WR-CALDESC:Events for Hickory Buzz
REFRESH-INTERVAL;VALUE=DURATION:PT1H
X-Robots-Tag:noindex
X-PUBLISHED-TTL:PT1H
BEGIN:VTIMEZONE
TZID:America/New_York
BEGIN:DAYLIGHT
TZOFFSETFROM:-0500
TZOFFSETTO:-0400
TZNAME:EDT
DTSTART:20240310T070000
END:DAYLIGHT
BEGIN:STANDARD
TZOFFSETFROM:-0400
TZOFFSETTO:-0500
TZNAME:EST
DTSTART:20241103T060000
END:STANDARD
BEGIN:DAYLIGHT
TZOFFSETFROM:-0500
TZOFFSETTO:-0400
TZNAME:EDT
DTSTART:20250309T070000
END:DAYLIGHT
BEGIN:STANDARD
TZOFFSETFROM:-0400
TZOFFSETTO:-0500
TZNAME:EST
DTSTART:20251102T060000
END:STANDARD
BEGIN:DAYLIGHT
TZOFFSETFROM:-0500
TZOFFSETTO:-0400
TZNAME:EDT
DTSTART:20260308T070000
END:DAYLIGHT
BEGIN:STANDARD
TZOFFSETFROM:-0400
TZOFFSETTO:-0500
TZNAME:EST
DTSTART:20261101T060000
END:STANDARD
END:VTIMEZONE
BEGIN:VEVENT
DTSTART;TZID=America/New_York:20251112T100000
DTEND;TZID=America/New_York:20251112T160000
DTSTAMP:20260425T073557
CREATED:20251006T230103Z
LAST-MODIFIED:20251006T230103Z
UID:10011332-1762941600-1762963200@hickorybuzz.com
SUMMARY:Mindbender Mansion Exhibit
DESCRIPTION:Enter the wonderfully puzzling world of Mindbender Mansion\, an eclectic place full of brainteasers and interactive challenges guaranteed to test the brain power and problem-solving skills of even the most experienced puzzlers! Math\, science\, and technology educational content are woven into the puzzles\, videos\, and group challenges found inside the exhibit! Sponsored by USConec\, Corning\, Shurtape\, and Piedmont Natural Gas.
URL:https://hickorybuzz.com/event/mindbender-mansion-exhibit/2025-11-12/
LOCATION:Catawba Science Center\, 243 Third Avenue NE\, Hickory\, NC\, 28601\, United States
CATEGORIES:Education,Kids & Family
ATTACH;FMTTYPE=image/jpeg:https://hickorybuzz.com/wp-content/uploads/2025/10/Mindbender-Mansion.avif
ORGANIZER;CN="Catawba Science Center":MAILTO:info@catawbascience.org
END:VEVENT
BEGIN:VEVENT
DTSTART;TZID=America/New_York:20251112T173000
DTEND;TZID=America/New_York:20251112T183000
DTSTAMP:20260425T073557
CREATED:20251024T123341Z
LAST-MODIFIED:20251027T194132Z
UID:10012272-1762968600-1762972200@hickorybuzz.com
SUMMARY:How to Heal From A Breakup Workshop
DESCRIPTION:Reserve Your Spot Here! \nAre you going through a breakup? Join the workshop with Sai (Certified Integrated Attachment Coach) and the breakup club. We will use tools to help you: \n\ndiscover your attachment style\nunderstand why breakups hurt\nprocess pain\nreframe thinking\nreconnect or move forward at your own pace\n\nLimited capacity / Confirm your spot today ❤️‍🩹 \nThis course is projected to go over five weeks \nLocation TBD\, but will be in a reserved space at one of Hickory’s libraries.  Details to be sent via email one week before the event.
URL:https://hickorybuzz.com/event/how-to-heal-from-a-breakup-workshop/
LOCATION:See Description\, United States
CATEGORIES:Classes/Courses,Community,Education
ATTACH;FMTTYPE=image/jpeg:https://hickorybuzz.com/wp-content/uploads/2025/10/How-to-Heal-From-A-Breakup-Workshop.avif
END:VEVENT
END:VCALENDAR