BEGIN:VCALENDAR
VERSION:2.0
PRODID:-//Hickory Buzz - ECPv6.15.20//NONSGML v1.0//EN
CALSCALE:GREGORIAN
METHOD:PUBLISH
X-WR-CALNAME:Hickory Buzz
X-ORIGINAL-URL:https://hickorybuzz.com
X-WR-CALDESC:Events for Hickory Buzz
REFRESH-INTERVAL;VALUE=DURATION:PT1H
X-Robots-Tag:noindex
X-PUBLISHED-TTL:PT1H
BEGIN:VTIMEZONE
TZID:America/New_York
BEGIN:DAYLIGHT
TZOFFSETFROM:-0500
TZOFFSETTO:-0400
TZNAME:EDT
DTSTART:20250309T070000
END:DAYLIGHT
BEGIN:STANDARD
TZOFFSETFROM:-0400
TZOFFSETTO:-0500
TZNAME:EST
DTSTART:20251102T060000
END:STANDARD
BEGIN:DAYLIGHT
TZOFFSETFROM:-0500
TZOFFSETTO:-0400
TZNAME:EDT
DTSTART:20260308T070000
END:DAYLIGHT
BEGIN:STANDARD
TZOFFSETFROM:-0400
TZOFFSETTO:-0500
TZNAME:EST
DTSTART:20261101T060000
END:STANDARD
BEGIN:DAYLIGHT
TZOFFSETFROM:-0500
TZOFFSETTO:-0400
TZNAME:EDT
DTSTART:20270314T070000
END:DAYLIGHT
BEGIN:STANDARD
TZOFFSETFROM:-0400
TZOFFSETTO:-0500
TZNAME:EST
DTSTART:20271107T060000
END:STANDARD
END:VTIMEZONE
BEGIN:VEVENT
DTSTART;TZID=America/New_York:20260424T100000
DTEND;TZID=America/New_York:20260424T160000
DTSTAMP:20260424T011947
CREATED:20260210T104612Z
LAST-MODIFIED:20260303T134006Z
UID:10016987-1777024800-1777046400@hickorybuzz.com
SUMMARY:DINOSAURS!
DESCRIPTION:Dinosaurs Return to Catawba Science Center\nOpening at the Catawba Science Center on February 8th! \nMembers-only opening Saturday\, February 7th – Public Opening Sunday\, February 8th \n 
URL:https://hickorybuzz.com/event/dinosoaurs-2/2026-04-24/
LOCATION:Catawba Science Center\, 243 Third Avenue NE\, Hickory\, NC\, 28601\, United States
CATEGORIES:Attractions,Education,Kids & Family
ATTACH;FMTTYPE=image/png:https://hickorybuzz.com/wp-content/uploads/2026/02/Monthly-Journaling-Club-1-2.png
ORGANIZER;CN="Catawba Science Center":MAILTO:info@catawbascience.org
END:VEVENT
BEGIN:VEVENT
DTSTART;TZID=America/New_York:20260424T100000
DTEND;TZID=America/New_York:20260424T160000
DTSTAMP:20260424T011947
CREATED:20260211T145318Z
LAST-MODIFIED:20260303T134321Z
UID:10017206-1777024800-1777046400@hickorybuzz.com
SUMMARY:NEW!!! VR Experience with IMMOTION
DESCRIPTION:Step back 66 million years and journey through the final chapter of the age of dinosaurs in Dinosaur Evolution—a thrilling immersive experience that brings the Cretaceous world to life. Witness feathered raptors on the hunt\, armored giants defending their turf\, and the mighty T. rex at the top of the food chain. But even these perfectly evolved creatures couldn’t escape Earth’s most devastating extinction event. Stunning visuals and cutting-edge science reveal how evolution shaped the dinosaurs—and how birds\, their modern-day descendants\, continue their legacy. It’s a prehistoric adventure that will inspire the next generation of paleontologists and conservationists alike.
URL:https://hickorybuzz.com/event/new-vr-experience-with-immotion-2/2026-04-24/
LOCATION:Catawba Science Center\, 243 Third Avenue NE\, Hickory\, NC\, 28601\, United States
CATEGORIES:Animals,Attractions,Education,Kids & Family
ATTACH;FMTTYPE=image/png:https://hickorybuzz.com/wp-content/uploads/2026/02/Dinosaur.png
ORGANIZER;CN="Catawba Science Center":MAILTO:info@catawbascience.org
END:VEVENT
BEGIN:VEVENT
DTSTART;TZID=America/New_York:20260424T113000
DTEND;TZID=America/New_York:20260424T120000
DTSTAMP:20260424T011947
CREATED:20260106T140047Z
LAST-MODIFIED:20260106T140047Z
UID:10015469-1777030200-1777032000@hickorybuzz.com
SUMMARY:Window Walks: Exploring the Art of Retail
DESCRIPTION:Join Hickory Museum of Art and artist Jim Wojtowicz for an engaging and informative guided tour of the store display windows at Valley Hills Mall in Hickory. On this 30 minute conversational walking tour\, Jim will share insights on key concepts such as composition\, color theory\, lighting\, and the art of storytelling in visual merchandising. You’ll gain understanding into how expertly crafted displays attract attention\, evoke emotions\, and enhance consumer engagement. Whether you’re an aspiring designer\, a business owner\, or simply curious about the art of retail\, this tour promises to be both educational and enjoyable!
URL:https://hickorybuzz.com/event/window-walks-exploring-the-art-of-retail-2/2026-04-24/
LOCATION:Valley Hills Mall\, 1960 US Hwy 70 SE\, Hickory\, NC\, 28602\, United States
CATEGORIES:Arts,Open House
ATTACH;FMTTYPE=image/png:https://hickorybuzz.com/wp-content/uploads/2025/12/Window-Walks.avif
ORGANIZER;CN="Hickory Musuem of Art":MAILTO:info@hickoryart.org
END:VEVENT
BEGIN:VEVENT
DTSTART;TZID=America/New_York:20260424T190000
DTEND;TZID=America/New_York:20260424T210000
DTSTAMP:20260424T011947
CREATED:20260325T111509Z
LAST-MODIFIED:20260325T111509Z
UID:10018940-1777057200-1777064400@hickorybuzz.com
SUMMARY:Adam Church and Bailey Marie
DESCRIPTION:Adam Church & Bailey Marie \n\nAdam Church has built his name on authentic High Country country music\, sharing stages with Luke Combs\, 49 Winchester\, Megan Moroney\, and more. With new music gaining traction and a rapidly growing fan base\, his momentum is undeniable.\nBailey Marie is one of the most compelling rising voices in country/pop today. A 2024 Female Artist of the Year\, she has shared lineups with Miranda Lambert\, Eric Church\, Lainey Wilson\, and Jelly Roll. Her journey — marked by resilience\, grit\, and unwavering belief in her calling — fuels every lyric she writes and every stage she steps on. \n\nTwo artists. One night. Unfiltered country energy.
URL:https://hickorybuzz.com/event/adam-church-and-bailey-marie/
LOCATION:Hickory Premier\, 109 11th St NW\, Hickory\, NC\, 28601\, United States
CATEGORIES:Live Music
ATTACH;FMTTYPE=image/png:https://hickorybuzz.com/wp-content/uploads/2026/03/Adam-Church-and-Bailey-Marie.png
ORGANIZER;CN="Hickory Premier":MAILTO:jbirchfieldmusic@gmail.com
END:VEVENT
BEGIN:VEVENT
DTSTART;TZID=America/New_York:20260424T200000
DTEND;TZID=America/New_York:20260424T233000
DTSTAMP:20260424T011948
CREATED:20251230T231905Z
LAST-MODIFIED:20251230T231905Z
UID:10014622-1777060800-1777073400@hickorybuzz.com
SUMMARY:Live Music Every Friday at Romeo & Brewliet
DESCRIPTION:Friday Night Agenda!! LIVE MUSIC STARTING AT 8PM at Romeo & Brewliet Tap Room & Pour House 2016 N CENTER ST\,  HICKORY\, NC!!  Rotating live musicians!Let’s go!! 
URL:https://hickorybuzz.com/event/live-music-every-friday-at-romeo-brewliet/2026-04-24/
LOCATION:Romeo & Brewliet Tap Room & Pour House\, 2016 N Center St\, Hickory\, NC\, 28601\, United States
CATEGORIES:Entertainment,Food & Drinks,Live Music
ATTACH;FMTTYPE=image/jpeg:https://hickorybuzz.com/wp-content/uploads/2025/12/Live-Music.avif
END:VEVENT
END:VCALENDAR